Workbook

Sheet Deckblatt
A1: Fragebogen für die Hochschulfinanzstatistik 2025 von Hochschulen - kaufmännisches Rechnungswesen -
A2: - Nur zum internen Gebrauch -
B3: Statistisches Landesamt
D4: Name der Hochschule
B5: Postfach
B7: Ort | D7: Straße
D8: Ort
B9: Bei Rückfragen erreichen Sie uns
B10: unter folgenden Telefonnummern:
B11: Herr/Frau | D11: Bitte teilen Sie uns mit, an wen wir uns bei
D12: Rückfragen wenden dürfen.
B13: Herr/Frau | D13: Name
D14: Telefon
B15: Bitte zurücksenden bis zum | D15: Email
D17: Ändern Sie auf keinen Fall das Format der Tabellenblätter.
B18: Bemerkungen

Sheet Aufw.-A_kaufm.
A1: Hochschulfinanzstatistik - Jahreserhebung Fragebogen für Hochschulen mit kaufmännischem Rechnungswesen Blatt 1: Aufwendungen und Investitionsausgaben in EUR nach Arten und in fachlicher Gliederung
A2: Vom Statistischen Landesamt auszufüllen: | D2: Kartenart | E2: Rechnungsjahr | F2: Land (2-stellig) | G2: Hochschulart | H2: Hochschulnr. (5-stell.) | I2: Name der Hochschule
D3: 1 | E3: 2025 | I3: =Deckblatt!E4 -> 0
C5: SyF-/ LFB-Code | D5: Art der Aufwendungen bzw. Investitionsausgaben | P5: Aufwendungen und Investitions- ausgaben insgesamt (ohne Abschreibungen, kalkulatorische Kosten, interne Leistungen) | Q5: nachrichtlich: Interne Leistungen bezogene (+) erbrachte (-)
D6: Aufwendungen | L6: Investitionsausgaben
A7: Fächergruppe | D7: Vergütungen der Beamten | E7: Beihilfen und Unter-stützungen (für Beamte und Angestellte) | F7: Andere Personal- aufwendungen (ohne Beihilfen, ohne Versorgungs- rücklage) | G7: Gezahlte Mieten und Pachten für Grundstücke und Gebäude (ohne fiktive) | H7: Energiekosten | I7: Unterhaltung der Grund- stücke und Gebäude (ohne Mieten und Energie) | J7: Andere laufende Sachauf- wendungen | K7: Übrige Aufwen- dungen (z.B. Zahlungen an Studierende, Zinsauf- wendungen) | L7: Erwerb von Grundstücken und Gebäuden, Baumaß- nahmen | M7: sonstige Investitionsausgaben mit einem Anschaffungswert bis 1000 Euro | O7: Sonstige Investitions- ausgaben mit einem An- schaffungswert über 1000 Euro
B8: Lehr- und Forschungsbereich | M8: für die Gebäude- und Grundstücks- unterhaltung | N8: für andere Zwecke | R8: Vergleich der ILV
D9: 511 | E9: 513 | F9: 512 | G9: 521 | H9: 522 | I9: 530 | J9: 54 | K9: 55 | L9: 561 | M9: 562 | N9: 563 | O9: 565 | Q9: 59
A10: Geisteswissenschaften
B11: Geisteswissenschaften allgemein | C11: 010 | D11: 0 | E11: 0 | F11: 0 | G11: 0 | H11: 0 | I11: 0 | J11: 0 | K11: 0 | L11: 0 | M11: 0 | N11: 0 | O11: 0 | P11: =SUM(D11:O11) -> 0 | Q11: 0
B12: Evang. Theologie | C12: 020 | D12: 0 | E12: 0 | F12: 0 | G12: 0 | H12: 0 | I12: 0 | J12: 0 | K12: 0 | L12: 0 | M12: 0 | N12: 0 | O12: 0 | P12: =SUM(D12:O12) -> 0 | Q12: 0
B13: Kath. Theologie | C13: 030 | D13: 0 | E13: 0 | F13: 0 | G13: 0 | H13: 0 | I13: 0 | J13: 0 | K13: 0 | L13: 0 | M13: 0 | N13: 0 | O13: 0 | P13: =SUM(D13:O13) -> 0 | Q13: 0
B14: Philosophie | C14: 040 | D14: 0 | E14: 0 | F14: 0 | G14: 0 | H14: 0 | I14: 0 | J14: 0 | K14: 0 | L14: 0 | M14: 0 | N14: 0 | O14: 0 | P14: =SUM(D14:O14) -> 0 | Q14: 0
B15: Geschichte | C15: 050 | D15: 0 | E15: 0 | F15: 0 | G15: 0 | H15: 0 | I15: 0 | J15: 0 | K15: 0 | L15: 0 | M15: 0 | N15: 0 | O15: 0 | P15: =SUM(D15:O15) -> 0 | Q15: 0
B16: Informations- und Bibliothekswissenschaften | C16: 070 | D16: 0 | E16: 0 | F16: 0 | G16: 0 | H16: 0 | I16: 0 | J16: 0 | K16: 0 | L16: 0 | M16: 0 | N16: 0 | O16: 0 | P16: =SUM(D16:O16) -> 0 | Q16: 0
B17: Allgemeine und vergleichende Literatur- und Sprachwissenschaft | C17: 080 | D17: 0 | E17: 0 | F17: 0 | G17: 0 | H17: 0 | I17: 0 | J17: 0 | K17: 0 | L17: 0 | M17: 0 | N17: 0 | O17: 0 | P17: =SUM(D17:O17) -> 0 | Q17: 0
B18: Altphilologie (klassische Philologie) | C18: 090 | D18: 0 | E18: 0 | F18: 0 | G18: 0 | H18: 0 | I18: 0 | J18: 0 | K18: 0 | L18: 0 | M18: 0 | N18: 0 | O18: 0 | P18: =SUM(D18:O18) -> 0 | Q18: 0
B19: Germanistik (Deutsch, germanische Sprachen ohne Anglistik) | C19: 100 | D19: 0 | E19: 0 | F19: 0 | G19: 0 | H19: 0 | I19: 0 | J19: 0 | K19: 0 | L19: 0 | M19: 0 | N19: 0 | O19: 0 | P19: =SUM(D19:O19) -> 0 | Q19: 0
B20: Anglistik, Amerikanistik | C20: 110 | D20: 0 | E20: 0 | F20: 0 | G20: 0 | H20: 0 | I20: 0 | J20: 0 | K20: 0 | L20: 0 | M20: 0 | N20: 0 | O20: 0 | P20: =SUM(D20:O20) -> 0 | Q20: 0
B21: Romanistik | C21: 120 | D21: 0 | E21: 0 | F21: 0 | G21: 0 | H21: 0 | I21: 0 | J21: 0 | K21: 0 | L21: 0 | M21: 0 | N21: 0 | O21: 0 | P21: =SUM(D21:O21) -> 0 | Q21: 0
B22: Slawistik, Baltistik, Finno-Ugristik | C22: 130 | D22: 0 | E22: 0 | F22: 0 | G22: 0 | H22: 0 | I22: 0 | J22: 0 | K22: 0 | L22: 0 | M22: 0 | N22: 0 | O22: 0 | P22: =SUM(D22:O22) -> 0 | Q22: 0
... B26: Medienwissenschaft | C26: 197 | D26: 0 | E26: 0 | F26: 0 | G26: 0 | H26: 0 | I26: 0 | J26: 0 | K26: 0 | L26: 0 | M26: 0 | N26: 0 | O26: 0 | P26: =SUM(D26:O26) -> 0 | Q26: 0
A27: Mathematik, Naturwissenschaften
B28: Mathematik, Naturwissenschaften allgemein | C28: 330 | D28: 0 | E28: 0 | F28: 0 | G28: 0 | H28: 0 | I28: 0 | J28: 0 | K28: 0 | L28: 0 | M28: 0 | N28: 0 | O28: 0 | P28: =SUM(D28:O28) -> 0 | Q28: 0
B29: Mathematik | C29: 340 | D29: 0 | E29: 0 | F29: 0 | G29: 0 | H29: 0 | I29: 0 | J29: 0 | K29: 0 | L29: 0 | M29: 0 | N29: 0 | O29: 0 | P29: =SUM(D29:O29) -> 0 | Q29: 0
B30: Physik, Astronomie | C30: 360 | D30: 0 | E30: 0 | F30: 0 | G30: 0 | H30: 0 | I30: 0 | J30: 0 | K30: 0 | L30: 0 | M30: 0 | N30: 0 | O30: 0 | P30: =SUM(D30:O30) -> 0 | Q30: 0
B31: Chemie | C31: 370 | D31: 0 | E31: 0 | F31: 0 | G31: 0 | H31: 0 | I31: 0 | J31: 0 | K31: 0 | L31: 0 | M31: 0 | N31: 0 | O31: 0 | P31: =SUM(D31:O31) -> 0 | Q31: 0
B32: Pharmazie | C32: 390 | D32: 0 | E32: 0 | F32: 0 | G32: 0 | H32: 0 | I32: 0 | J32: 0 | K32: 0 | L32: 0 | M32: 0 | N32: 0 | O32: 0 | P32: =SUM(D32:O32) -> 0 | Q32: 0
B33: Biologie | C33: 400 | D33: 0 | E33: 0 | F33: 0 | G33: 0 | H33: 0 | I33: 0 | J33: 0 | K33: 0 | L33: 0 | M33: 0 | N33: 0 | O33: 0 | P33: =SUM(D33:O33) -> 0 | Q33: 0
B34: Geowissenschaften (ohne Geographie) | C34: 410 | D34: 0 | E34: 0 | F34: 0 | G34: 0 | H34: 0 | I34: 0 | J34: 0 | K34: 0 | L34: 0 | M34: 0 | N34: 0 | O34: 0 | P34: =SUM(D34:O34) -> 0 | Q34: 0
B35: Geographie | C35: 420 | D35: 0 | E35: 0 | F35: 0 | G35: 0 | H35: 0 | I35: 0 | J35: 0 | K35: 0 | L35: 0 | M35: 0 | N35: 0 | O35: 0 | P35: =SUM(D35:O35) -> 0 | Q35: 0
A36: Humanmedizin/Gesundheitswissenschaften
B37: Humanmedizin allgemein | C37: 440 | D37: 0 | E37: 0 | F37: 0 | G37: 0 | H37: 0 | I37: 0 | J37: 0 | K37: 0 | L37: 0 | M37: 0 | N37: 0 | O37: 0 | P37: =SUM(D37:O37) -> 0 | Q37: 0
B38: Gesundheitswissenschaften | C38: 445 | D38: 0 | E38: 0 | F38: 0 | G38: 0 | H38: 0 | I38: 0 | J38: 0 | K38: 0 | L38: 0 | M38: 0 | N38: 0 | O38: 0 | P38: =SUM(D38:O38) -> 0 | Q38: 0
B39: Vorklinische Humanmedizin (einschl. Zahnmedizin) | C39: 450 | D39: 0 | E39: 0 | F39: 0 | G39: 0 | H39: 0 | I39: 0 | J39: 0 | K39: 0 | L39: 0 | M39: 0 | N39: 0 | O39: 0 | P39: =SUM(D39:O39) -> 0 | Q39: 0
B40: Klinisch-Theoretische Humanmedizin (einschl. Zahnmedizin) | C40: 470 | D40: 0 | E40: 0 | F40: 0 | G40: 0 | H40: 0 | I40: 0 | J40: 0 | K40: 0 | L40: 0 | M40: 0 | N40: 0 | O40: 0 | P40: =SUM(D40:O40) -> 0 | Q40: 0
B41: Klinisch-Praktische Humanmedizin (ohne Zahnmedizin) | C41: 490 | D41: 0 | E41: 0 | F41: 0 | G41: 0 | H41: 0 | I41: 0 | J41: 0 | K41: 0 | L41: 0 | M41: 0 | N41: 0 | O41: 0 | P41: =SUM(D41:O41) -> 0 | Q41: 0
B42: Zahnmedizin (klinisch-praktisch) | C42: 520 | D42: 0 | E42: 0 | F42: 0 | G42: 0 | H42: 0 | I42: 0 | J42: 0 | K42: 0 | L42: 0 | M42: 0 | N42: 0 | O42: 0 | P42: =SUM(D42:O42) -> 0 | Q42: 0
A43: Agrar-, Forst- und Ernährungswissenschaften, Veterinärmedizin
B44: Veterinärmedizin allgemein | C44: 540 | D44: 0 | E44: 0 | F44: 0 | G44: 0 | H44: 0 | I44: 0 | J44: 0 | K44: 0 | L44: 0 | M44: 0 | N44: 0 | O44: 0 | P44: =SUM(D44:O44) -> 0 | Q44: 0
...

Sheet Aufw.-B_kaufm.
A1: Hochschulfinanzstatistik - Jahreserhebung Fragebogen für Hochschulen mit kaufmännischem Rechnungswesen Blatt 4: Erträge in EUR ohne fachliche Gliederung
A2: Vom Statistischen Landesamt auszufüllen: | C2: Kartenart | D2: 2
C3: Rechnungsjahr | D3: ='Aufw.-A_kaufm.'!E3 -> 2025
C4: Land | D4: ='Aufw.-A_kaufm.'!F3 -> 0
C5: Hochschulart | D5: ='Aufw.-A_kaufm.'!G3 -> 0
C6: Hochschulnr. | D6: ='Aufw.-A_kaufm.'!H3 -> 0
A7: Aufwendungen und Investitionsausgaben nach Arten
A8: Lfd. Nr. | B8: Art | C8: SyF-Code | D8: EUR | E8: Vergleich der Unterposition
B9: Aufwendungen | C9: 501
A10: 01 | B10: Vergütungen der Beamten | D10: ='Aufw.-A_kaufm.'!D106 -> 0 | E10: =IF(D10<0,"Ist der negative Betrag im SyF-Code 511 korrekt?","")
A11: 02 | B11: Beihilfen und Unterstützungen (für Beamte und Angestellte) | D11: ='Aufw.-A_kaufm.'!E106 -> 0 | E11: =IF(D11<0,"Ist der negative Betrag im SyF-Code 513 korrekt?","")
A12: 02a | B12: darunter von der Hochschule aus dem eigenen Haushalt geleistet Nur von ausgegliederten Hochschulen auszufüllen!! Dieser Betrag, darf den Betrag des SyF-Codes 513 nicht übersteigen!! | C12: 513a | D12: 0
A13: 03 | B13: Andere Personalaufwendungen (ohne Beihilfen, ohne Versorgungsrücklage) | D13: ='Aufw.-A_kaufm.'!F106 -> 0 | E13: =IF(D13<0,"Ist der negative Betrag im SyF-Code 512 korrekt?","")
A14: 04 | B14: Gezahlte Mieten und Pachten für Grundstücke und Gebäude | D14: ='Aufw.-A_kaufm.'!G106 -> 0 | E14: =IF(D14<0,"Ist der negative Betrag im SyF-Code 521 korrekt?","")
A15: 04a | B15: darunter von der Hochschule aus dem eigenen Haushalt geleistet Nur von ausgegliederten Hochschulen auszufüllen!! Dieser Betrag, darf den Betrag des SyF-Codes 521 nicht übersteigen!! | C15: 521a | D15: 0
A16: 05 | B16: Energiekosten | D16: ='Aufw.-A_kaufm.'!H106 -> 0 | E16: =IF(D16<0,"Ist der negative Betrag im SyF-Code 522 korrekt?","")
A17: 05a | B17: darunter von der Hochschule aus dem eigenen Haushalt geleistet Nur von ausgegliederten Hochschulen auszufüllen!! Dieser Betrag, darf den Betrag des SyF-Codes 522 nicht übersteigen!! | C17: 522a | D17: 0
A18: 06 | B18: Unterhaltung für Grundstücke und Gebäude (ohne Mieten und Energie) | D18: ='Aufw.-A_kaufm.'!I106 -> 0 | E18: =IF(D18<0,"Ist der negative Betrag im SyF-Code 530 korrekt?","")
A19: 06a | B19: darunter von der Hochschule aus dem eigenen Haushalt geleistet Nur von ausgegliederten Hochschulen auszufüllen!! Dieser Betrag, darf den Betrag des SyF-Codes 530 nicht übersteigen!! | C19: 530a | D19: 0
A20: 07 | B20: Andere laufende Sachaufwendungen | D20: ='Aufw.-A_kaufm.'!J106 -> 0 | E20: =IF(D20<0,"Ist der negative Betrag im SyF-Code 54 korrekt?","")
B21: Übrige Aufwendungen | D21: ='Aufw.-A_kaufm.'!K106 -> 0 | E21: =IF(SUM(D22:D25)-D21=0,"ok","Summe der SyF 551 bis 554 ist nicht gleich SyF 55!") -> ok
A22: 08 | B22: - Stipendien u. dgl. für Studierende | C22: 551 | D22: 0 | E22: =IF(D21<0,"Ist der negative Betrag im SyF-Code 55 korrekt?","")
A23: 09 | B23: - Stipendien u. dgl. für Graduierte | C23: 552 | D23: 0
A24: 10 | B24: - Zinsaufwendungen | C24: 553 | D24: 0
A25: 11 | B25: - Sonstige laufende Aufwendungen | C25: 554 | D25: 0
B26: Investitionsausgaben | C26: 56
A27: 12 | B27: Erwerb von Grundstücken und Gebäuden, Baumaßnahmen | D27: ='Aufw.-A_kaufm.'!L106 -> 0 | E27: =IF(D27<0,"Ist der negative Betrag im SyF-Code 561 korrekt?","")
A28: 12a | B28: darunter von der Hochschule aus dem eigenen Haushalt geleistet Nur von ausgegliederten Hochschulen auszufüllen!! Dieser Betrag, darf den Betrag des SyF-Codes 561 nicht übersteigen!! | C28: 561a | D28: 0
B29: Sonstige Investitionsausgaben mit einem Anschaffungswert bis 1000 Euro
A30: 13 | B30: - für die Gebäude- und Grundstücksunterhaltung | D30: ='Aufw.-A_kaufm.'!M106 -> 0 | E30: =IF(D30<0,"Ist der negative Betrag im SyF-Code 562 korrekt?","")
A31: 14 | B31: - für andere Zwecke | D31: ='Aufw.-A_kaufm.'!N106 -> 0 | E31: =IF(D31<0,"Ist der negative Betrag im SyF-Code 563 korrekt?","")
A32: 15 | B32: Sonstige Investitionsausgaben mit einem Anschaffungswert über 1000 Euro | D32: ='Aufw.-A_kaufm.'!O106 -> 0 | E32: =IF(D32<0,"Ist der negative Betrag im SyF-Code 565 korrekt?","")
A33: 16 | B33: Aufwendungen und Investitionsausgaben insgesamt (ohne Abschreibungen, kalkulatorische Kosten, interne Leistungen) Summe Lfd. Nr. 01 bis 15 | D33: =SUM(D10:D32)-D21-D12-D15-D17-D19-D28 -> 0
B34: nachrichtlich: Abschreibungen, Versorgungsrücklage und Weitergeleitete Drittmittel, Zuweisungen und Zuschüsse
A35: 17 | B35: Abschreibungen auf Grundstücke und Gebäude | C35: 571 | D35: 0
A36: 18 | B36: Abschreibungen auf sonstige Investitionsgüter | C36: 572 | D36: 0
A37: 19 | B37: Abschreibungen auf geringwertige Wirtschaftsgüter | C37: 573 | D37: 0
A38: 20 | B38: Sonderabschreibungen auf Vorräte, Finanzanlagen, Forderungen u. dgl. | C38: 574 | D38: 0
A39: 21 | B39: Zuführung an eine Versorgungsrücklage (Pensionsfonds für Beamte) | C39: 582 | D39: 0
A40: 22 | B40: Weitergeleitete Drittmittel, Zuweisungen und Zuschüsse, Aufwendungen für Forschungsaufträge | C40: 599 | D40: 0

Sheet Erträge-A_kaufm.
A1: Hochschulfinanzstatistik - Jahreserhebung Fragebogen für Hochschulen mit kaufmännischem Rechnungswesen Blatt 3: Erträge in EUR nach Arten und in fachlicher Gliederung
A2: Vom Statistischen Landesamt auszufüllen: | D2: Kartenart | E2: Rechnungsjahr | F2: Land | G2: Hochschulart | H2: Hochschulnr.
D3: 3 | E3: ='Aufw.-A_kaufm.'!E3 -> 2025 | F3: ='Aufw.-A_kaufm.'!F3 -> 0 | G3: ='Aufw.-A_kaufm.'!G3 -> 0 | H3: ='Aufw.-A_kaufm.'!H3 -> 0
C5: SyF-/ LFB-Code | D5: Art der Erträge
A6: Fächergruppe | D6: Beiträge der Studierenden | E6: Umsatzerlöse, Erträge aus Vermögen | F6: Erträge aus Drittmitteln für Lehre und Forschung | H6: Andere Erträge aus Zuweisungen und Zuschüssen (ohne Träger) | I6: Grund-finanzierung Bund | J6: Erträge insgesamt (ohne Träger, kalkulatorische Einnahmen, interne Leistungen)
B7: Lehr- und Forschungsbereich
F8: vom öffentlichen Bereich (ohne Träger) | G8: von anderen Bereichen (ohne Träger)
D9: 61 | E9: 62 | F9: 63 | G9: 64 | H9: 65 | I9: 67
A10: Geisteswissenschaften
B11: Geisteswissenschaften allgemein | C11: 010 | D11: 0 | E11: 0 | F11: 0 | G11: 0 | H11: 0 | I11: 0 | J11: =SUM(D11:I11) -> 0
B12: Evang. Theologie | C12: 020 | D12: 0 | E12: 0 | F12: 0 | G12: 0 | H12: 0 | I12: 0 | J12: =SUM(D12:I12) -> 0
B13: Kath. Theologie | C13: 030 | D13: 0 | E13: 0 | F13: 0 | G13: 0 | H13: 0 | I13: 0 | J13: =SUM(D13:I13) -> 0
B14: Philosophie | C14: 040 | D14: 0 | E14: 0 | F14: 0 | G14: 0 | H14: 0 | I14: 0 | J14: =SUM(D14:I14) -> 0
B15: Geschichte | C15: 050 | D15: 0 | E15: 0 | F15: 0 | G15: 0 | H15: 0 | I15: 0 | J15: =SUM(D15:I15) -> 0
B16: Informations- und Bibliothekswissenschaften | C16: 070 | D16: 0 | E16: 0 | F16: 0 | G16: 0 | H16: 0 | I16: 0 | J16: =SUM(D16:I16) -> 0
B17: Allgemeine und vergleichende Literatur- und Sprachwissenschaft | C17: 080 | D17: 0 | E17: 0 | F17: 0 | G17: 0 | H17: 0 | I17: 0 | J17: =SUM(D17:I17) -> 0
B18: Altphilologie (klassische Philologie) | C18: 090 | D18: 0 | E18: 0 | F18: 0 | G18: 0 | H18: 0 | I18: 0 | J18: =SUM(D18:I18) -> 0
B19: Germanistik (Deutsch, germanische Sprachen ohne Anglistik) | C19: 100 | D19: 0 | E19: 0 | F19: 0 | G19: 0 | H19: 0 | I19: 0 | J19: =SUM(D19:I19) -> 0
B20: Anglistik, Amerikanistik | C20: 110 | D20: 0 | E20: 0 | F20: 0 | G20: 0 | H20: 0 | I20: 0 | J20: =SUM(D20:I20) -> 0
B21: Romanistik | C21: 120 | D21: 0 | E21: 0 | F21: 0 | G21: 0 | H21: 0 | I21: 0 | J21: =SUM(D21:I21) -> 0
B22: Slawistik, Baltistik, Finno-Ugristik | C22: 130 | D22: 0 | E22: 0 | F22: 0 | G22: 0 | H22: 0 | I22: 0 | J22: =SUM(D22:I22) -> 0
... B25: Islamische Studien/Islamische Theologie | C25: 195 | D25: 0 | E25: 0 | F25: 0 | G25: 0 | H25: 0 | I25: 0 | J25: =SUM(D25:I25) -> 0
B26: Medienwissenschaft | C26: 197 | D26: 0 | E26: 0 | F26: 0 | G26: 0 | H26: 0 | I26: 0 | J26: =SUM(D26:I26) -> 0 | K26: 0 | L26: 0 | M26: 0 | N26: 0 | O26: 0 | P26: =SUM(D26:O26) -> 0 | Q26: 0
A27: Mathematik, Naturwissenschaften
B28: Mathematik, Naturwissenschaften allgemein | C28: 330 | D28: 0 | E28: 0 | F28: 0 | G28: 0 | H28: 0 | I28: 0 | J28: =SUM(D28:I28) -> 0
B29: Mathematik | C29: 340 | D29: 0 | E29: 0 | F29: 0 | G29: 0 | H29: 0 | I29: 0 | J29: =SUM(D29:I29) -> 0
B30: Physik, Astronomie | C30: 360 | D30: 0 | E30: 0 | F30: 0 | G30: 0 | H30: 0 | I30: 0 | J30: =SUM(D30:I30) -> 0
B31: Chemie | C31: 370 | D31: 0 | E31: 0 | F31: 0 | G31: 0 | H31: 0 | I31: 0 | J31: =SUM(D31:I31) -> 0
B32: Pharmazie | C32: 390 | D32: 0 | E32: 0 | F32: 0 | G32: 0 | H32: 0 | I32: 0 | J32: =SUM(D32:I32) -> 0
B33: Biologie | C33: 400 | D33: 0 | E33: 0 | F33: 0 | G33: 0 | H33: 0 | I33: 0 | J33: =SUM(D33:I33) -> 0
B34: Geowissenschaften (ohne Geographie) | C34: 410 | D34: 0 | E34: 0 | F34: 0 | G34: 0 | H34: 0 | I34: 0 | J34: =SUM(D34:I34) -> 0
B35: Geographie | C35: 420 | D35: 0 | E35: 0 | F35: 0 | G35: 0 | H35: 0 | I35: 0 | J35: =SUM(D35:I35) -> 0
A36: Humanmedizin/Gesundheitswissenschaften
B37: Humanmedizin allgemein | C37: 440 | D37: 0 | E37: 0 | F37: 0 | G37: 0 | H37: 0 | I37: 0 | J37: =SUM(D37:I37) -> 0
B38: Gesundheitswissenschaften | C38: 445 | D38: 0 | E38: 0 | F38: 0 | G38: 0 | H38: 0 | I38: 0 | J38: =SUM(D38:I38) -> 0
B39: Vorklinische Humanmedizin (einschl. Zahnmedizin) | C39: 450 | D39: 0 | E39: 0 | F39: 0 | G39: 0 | H39: 0 | I39: 0 | J39: =SUM(D39:I39) -> 0
B40: Klinisch-Theoretische Humanmedizin (einschl. Zahnmedizin) | C40: 470 | D40: 0 | E40: 0 | F40: 0 | G40: 0 | H40: 0 | I40: 0 | J40: =SUM(D40:I40) -> 0
B41: Klinisch-Praktische Humanmedizin (ohne Zahnmedizin) | C41: 490 | D41: 0 | E41: 0 | F41: 0 | G41: 0 | H41: 0 | I41: 0 | J41: =SUM(D41:I41) -> 0
B42: Zahnmedizin (klinisch-praktisch) | C42: 520 | D42: 0 | E42: 0 | F42: 0 | G42: 0 | H42: 0 | I42: 0 | J42: =SUM(D42:I42) -> 0
A43: Agrar-, Forst- und Ernährungswissenschaften, Veterinärmedizin
...

Sheet Erträge-B_kaufm.
A1: Hochschulfinanzstatistik - Jahreserhebung Fragebogen für Hochschulen mit kaufmännischem Rechnungswesen Blatt 4: Erträge in EUR ohne fachliche Gliederung
A2: Vom Statistischen Landesamt auszufüllen: | C2: Kartenart | D2: 4
C3: Rechnungsjahr | D3: ='Aufw.-A_kaufm.'!E3 -> 2025
C4: Land | D4: ='Aufw.-A_kaufm.'!F3 -> 0
C5: Hochschulart | D5: ='Aufw.-A_kaufm.'!G3 -> 0
C6: Hochschulnr. | D6: ='Aufw.-A_kaufm.'!H3 -> 0
A7: Erträge nach Arten (ohne Hochschulträger)
A8: Lfd. Nr. | B8: Art | C8: SyF-Code | D8: EUR | E8: Vergleich der Unterposition
C9: 601
A10: 01 | B10: Beiträge der Studierenden | D10: ='Erträge-A_kaufm.'!D106 -> 0 | E10: =IF(D10<0,"Ist der negative Betrag im SyF-Code 61 korrekt?","")
B11: Umsatzerlöse, Erträge aus Vermögen | D11: ='Erträge-A_kaufm.'!E106 -> 0 | E11: =IF(SUM(D12:D15)-D11=0,"ok","Summe der SyF 621 bis 624 ist nicht gleich SyF 62!") -> ok
A12: 02 | B12: Erträge aus Vermögen (einschl. Einnahmen aus der Veräußerung von Vermögensgegenständen), Erträge aus der Veräußerung von Anlagegütern (ohne Zinserträge) | C12: 621 | D12: 0 | E12: =IF(D11<0,"Ist der negative Betrag im SyF-Code 62 korrekt?","")
A13: 03 | B13: Zinserträge | C13: 622 | D13: 0
A14: 04 | B14: Erträge aus Hochschulsponsoring | C14: 623 | D14: 0
A15: 05 | B15: Umsatzerlöse und sonstige Erträge aus wirtschaftlicher Tätigkeit | C15: 624 | D15: 0
B16: Erträge aus Drittmitteln für Lehre und Forschung
A17: 06 | B17: - vom öffentlichen Bereich (ohne Träger) | D17: ='Erträge-A_kaufm.'!F106 -> 0
A18: 07 | B18: - von anderen Bereichen (ohne Träger) | D18: ='Erträge-A_kaufm.'!G106 -> 0
B19: Andere Erträge aus Zuweisungen und Zuschüssen (ohne Träger) | D19: ='Erträge-A_kaufm.'!H106 -> 0 | E19: =IF(SUM(D20:D21)-D19=0,"ok","Summe der SyF 651 bis 652 ist nicht gleich SyF 65!") -> ok
A20: 08 | B20: - für Studierende (einschl. Mittel für Habilitanden-, Postdoktoranden- und Doktorandenstipendien) | C20: 651 | D20: 0 | E20: =IF(D19<0,"Ist der negative Betrag im SyF-Code 65 korrekt?","")
A21: 09 | B21: - sonstiger Art | C21: 652 | D21: 0
A22: 10 | B22: Grundfinanzierung Bund | C22: 67 | D22: ='Erträge-A_kaufm.'!I106 -> 0 | E22: =IF(D22<0,"Ist der negative Betrag im SyF-Code 67 korrekt?","")
A23: 11 | B23: Erträge insgesamt (ohne Träger, kalkulatorische Einnahmen, interne Leistungen) Summe Lfd. Nr. 01 bis 09 | D23: =SUM(D10:D19)-D11+D22 -> 0
A24: Erträge vom Hochschulträger
A25: Lfd. Nr. | B25: Art | D25: EUR
B26: Erträge aus Zuweisungen und Zuschüssen vom Hochschulträger
B27: Grundfinanzierung für Lehre und Forschung
A28: 12 | B28: - für laufende Zwecke | C28: 661 | D28: 0
A29: 13 | B29: - für Investitionen | C29: 662 | D29: 0
B30: Ergänzungsfinanzierung für Lehre und Forschung aus Zentralkapiteln des Wissenschaftsministeriums
A31: 14 | B31: - für laufende Zwecke | C31: 663 | D31: 0
A32: 15 | B32: - für Investitionen | C32: 664 | D32: 0
A33: 16 | B33: Ergänzungsfinanzierung für Lehre und Forschung aus Fremdkapiteln | C33: 665 | D33: 0
B34: Andere Erträge aus Zuweisungen und Zuschüsse vom Träger
A35: 17 | B35: - für die Förderung des wissenschaftlichen Nachwuchses (z. B. Doktoranden, Habilitanden) | C35: 666 | D35: 0
A36: 18 | B36: - für sonstige Studierende | C36: 667 | D36: 0
A37: 19 | B37: - sonstiger Art | C37: 668 | D37: 0
A38: 20 | B38: Erträge aus Zuweisungen und Zuschüsse vom Hochschulträger insgesamt Summe Lfd. Nr. 12 bis 19 | D38: =SUM(D28:D37) -> 0 | E38: =IF(D38<0,"Ist der negative Betrag im SyF-Code 66 korrekt?","")

Sheet Drittmittel_kaufm.
A1: Hochschulfinanzstatistik - Jahreserhebung Fragebogen für Hochschulen mit kaufmännischem Rechnungswesen Blatt 5: Drittmittelzusatzbogen (Beträge in EUR)
A2: Vom Statistischen Landesamt auszufüllen: | C2: Kartenart | D2: 5
C3: Rechnungsjahr | D3: ='Aufw.-A_kaufm.'!E3 -> 2025
C4: Land | D4: ='Erträge-B_kaufm.'!D4 -> 0
C5: Hochschulart | D5: ='Erträge-B_kaufm.'!D5 -> 0
C6: Hochschulnr. | D6: ='Erträge-B_kaufm.'!D6 -> 0
A7: Drittmittel nach Mittelgebern und Verwendungszweck (Unter den lfd. Nr. 01 bis 09, 12 und 13 sind nur Einheiten aus der Bundesrepublik Deutschland auszuweisen.)
A8: Lfd. Nr. | B8: Art | C8: SyF-Code | D8: EUR (Der Betrag ist Netto, d. h. ohne Mwst. zu melden) | E8: Vergleich der Unterposition
C9: 820
B10: Erträge aus Drittmitteln für Lehre und Forschung vom öffentlichen Bereich (ohne Träger) | D10: ='Erträge-B_kaufm.'!D17 -> 0 | E10: =IF(SUM(D11:D15)-D10=0,"ok","Summe der SyF 631 bis 635 ist nicht gleich SyF 63!") -> ok
A11: 01 | B11: - vom Bund, d. h. Bundesministerien sowie nachgeordnete Behörden (ohne Überlastprogramm, dem Graduierten- und Bundesausbildungs- förderungsgesetz sowie für die sonstige Förderung von Studenten) | C11: 631 | D11: 0 | E11: =IF(D10<0,"Ist der negative Betrag im SyF-Code 63 korrekt?","")
A12: 02 | B12: - von der Bundesagentur für Arbeit, soweit hieraus Personal mit Lehr- und Forschungsaufgaben finanziert wird | C12: 632 | D12: 0
A13: 03 | B13: - von Ländern für Lehr- und Forschungszwecke (d. h. Landesministerien von anderen Bundesländern und deren nachgeordneten Behörden) (Nicht berücksichtigt werden hier Mittel, wenn das eigene Bundesland bzw. eines der Landesministerien Träger der Hochschule ist. Diese werden im SyF-Code-Bereich 66 veranschlagt.) | C13: 633 | D13: 0
A14: 04 | B14: - von Gemeinden, Gemeinde- und Zweckverbänden für Lehr- und Forschungs- zwecke (d. h. ohne Erstattungen für Sportanlagen, Bibliotheken u. dgl.) | C14: 634 | D14: 0
A15: 05 | B15: - von sonstigen öffentlichen Bereichen für Lehr- und Forschungszwecke (z. B. ERP, Lastenausgleichsfonds, Sozialversicherung, Rundfunk- und Fernsehanstalten, Investitionsbanken, Sparkassen, Dt. Bundesbank) | C15: 635 | D15: 0
B16: Erträge aus Drittmitteln für Lehre und Forschung von anderen Bereichen (ohne Träger) | D16: ='Erträge-B_kaufm.'!D18 -> 0 | E16: =IF(SUM(D18:D26)-D16=0,"ok","Summe der SyF 641 bis 648 ist nicht gleich SyF 64!") -> ok
B17: - von der Deutschen Forschungsgemeinschaft | E17: =IF(D16<0,"Ist der negative Betrag im SyF-Code 64 korrekt?","")
A18: 06 | B18: • Einzelförderung (inkl. Programmpauschale aus dem Hochschulpakt) | C18: 641a | D18: 0
A19: 07 | B19: • Koordinierte Programme( inkl. Programmpauschale aus dem Hochschulpakt) | C19: 641b | D19: 0
A20: 08 | B20: • Exzellenzstrategie ( inkl. Programmpauschale gem. Verwaltungsvereinbarung) | C20: 641c | D20: 0
A21: 09 | B21: • Weitere und Sonstige Fördermaßnahmen | C21: 641d | D21: 0
A22: 10 | B22: - von der Europäischen Union (als Institution) | C22: 644 | D22: 0
A23: 11 | B23: - von anderen internationalen Organisationen (z. B. OECD, UN) | C23: 645 | D23: 0
A24: 12 | B24: - von Hochschulfördergesellschaften aus dem Inland (z. B. DAAD, Alumni Clubs) | C24: 646 | D24: 0
A25: 13 | B25: - von Stiftungen u. dgl. aus dem Inland, d. h. öffentlich-rechtliche Stiftungen (z. B. Bundesstiftungen) sowie privatrechtl. Stiftungen (z. B. VW-Stiftung) | C25: 647 | D25: 0
A26: 14 | B26: - von der gewerblichen Wirtschaft und sonstigen Bereichen für Lehr- und Forschungszwecke (ohne Einnahmen für Materialprüfungen u. dgl., aus Veröffentlichungen, Gebühren, aus wirtschaftlicher Tätigkeit und aus Vermögensveräußerungen) dazu zählen u. a.:  Kirchen  nationale öffentliche sowie private Unternehmen,  Vereine wie z. B. Deutsches Zentrum für Luft- und Raumfahrt e. V.  Gesellschaften wie z. B. Helmholtz-Gesellschaft  Spenden von Privatpersonen  Institute der Leibnitz-Gemeinschaft  alle Einheiten aus dem Ausland ausserhalb der Lfd. Nr. 10 und 11) | C26: 648 | D26: 0
A27: 15 | B27: Drittmittel Insgesamt Summe Lfd. Nr. 01 bis 14 | D27: =SUM(D11:D26)-D16 -> 0
B28: davon
A29: 16 | B29: für Lehre und Forschung (für Drittmittel außerhalb den SyF-Codes 822, 823 und 824) | C29: 821 | D29: 0
A30: 17 | B30: für Lehre | C30: 822 | D30: 0
A31: 18 | B31: für Forschung | C31: 823 | D31: 0
A32: 19 | B32: für die Förderung des wissenschaftlichen Nachwuchses (z. B. Doktoranden, Habilitanden) | C32: 824 | D32: 0
B33: Summenkontrolle der Drittmittel nach Verwendungszweck und Mittelgebern | E33: =IF(D27-D29-D30-D31-D32>0,"Bitte überprüfen Sie Ihre Angaben!",IF(D27-D29-D30-D31-D32<0,"Bitte überprüfen Sie Ihre Angaben!","ok")) -> ok
E34: =IF(D27-D29-D30-D31-D32>0,"Bitte überprüfen Sie Ihre Angaben!",IF(D27-D29-D30-D31-D32<0,"Bitte überprüfen Sie Ihre Angaben!","ok")) -> ok

Sheet Import
A1: =ROUND('Aufw.-B_kaufm.'!D12,0) -> 0 | B1: =ROUND('Aufw.-B_kaufm.'!D15,0) -> 0 | C1: =ROUND('Aufw.-B_kaufm.'!D17,0) -> 0 | D1: =ROUND('Aufw.-B_kaufm.'!D19,0) -> 0 | E1: =ROUND('Aufw.-B_kaufm.'!D22,0) -> 0 | F1: =ROUND('Aufw.-B_kaufm.'!D23,0) -> 0 | G1: =ROUND('Aufw.-B_kaufm.'!D24,0) -> 0 | H1: =ROUND('Aufw.-B_kaufm.'!D25,0) -> 0 | I1: =ROUND('Aufw.-B_kaufm.'!D28,0) -> 0 | J1: =ROUND('Aufw.-B_kaufm.'!D35,0) -> 0 | K1: =ROUND('Aufw.-B_kaufm.'!D36,0) -> 0 | L1: =ROUND('Aufw.-B_kaufm.'!D37,0) -> 0 | M1: =ROUND('Aufw.-B_kaufm.'!D38,0) -> 0 | N1: =ROUND('Aufw.-B_kaufm.'!D39,0) -> 0 | O1: =ROUND('Aufw.-B_kaufm.'!D40,0) -> 0 | P1: =ROUND('Erträge-B_kaufm.'!D12,0) -> 0 | Q1: =ROUND('Erträge-B_kaufm.'!D13,0) -> 0 | R1: =ROUND('Erträge-B_kaufm.'!D14,0) -> 0 | S1: =ROUND('Erträge-B_kaufm.'!D15,0) -> 0 | T1: =ROUND('Erträge-B_kaufm.'!D20,0) -> 0 | U1: =ROUND('Erträge-B_kaufm.'!D21,0) -> 0 | V1: =ROUND('Erträge-B_kaufm.'!D28,0) -> 0 | W1: =ROUND('Erträge-B_kaufm.'!D29,0) -> 0 | X1: =ROUND('Erträge-B_kaufm.'!D31,0) -> 0 | Y1: =ROUND('Erträge-B_kaufm.'!D32,0) -> 0 | Z1: =ROUND('Erträge-B_kaufm.'!D33,0) -> 0 | AA1: =ROUND('Erträge-B_kaufm.'!D35,0) -> 0 | AB1: =ROUND('Erträge-B_kaufm.'!D36,0) -> 0 | AC1: =ROUND('Erträge-B_kaufm.'!D37,0) -> 0 | AD1: =ROUND(Drittmittel_kaufm.!D11,0) -> 0 | AE1: =ROUND(Drittmittel_kaufm.!D12,0) -> 0 | AF1: =ROUND(Drittmittel_kaufm.!D13,0) -> 0 | AG1: =ROUND(Drittmittel_kaufm.!D14,0) -> 0 | AH1: =ROUND(Drittmittel_kaufm.!D15,0) -> 0 | AI1: =ROUND(Drittmittel_kaufm.!D18,0) -> 0 | AJ1: =ROUND(Drittmittel_kaufm.!D19,0) -> 0 | AK1: =ROUND(Drittmittel_kaufm.!D20,0) -> 0 | AL1: =ROUND(Drittmittel_kaufm.!D21,0) -> 0 | AM1: =ROUND(Drittmittel_kaufm.!D22,0) -> 0 | AN1: =ROUND(Drittmittel_kaufm.!D23,0) -> 0 | AO1: =ROUND(Drittmittel_kaufm.!D24,0) -> 0 | AP1: =ROUND(Drittmittel_kaufm.!D25,0) -> 0 | AQ1: =ROUND(Drittmittel_kaufm.!D26,0) -> 0 | AR1: =ROUND(Drittmittel_kaufm.!D29,0) -> 0 | AS1: =ROUND(Drittmittel_kaufm.!D30,0) -> 0 | AT1: =ROUND(Drittmittel_kaufm.!D31,0) -> 0 | AU1: =ROUND(Drittmittel_kaufm.!D32,0) -> 0
A2: Satzart1 | B2: 010 | C2: =ROUND('Aufw.-A_kaufm.'!D11,0) -> 0 | D2: =ROUND('Aufw.-A_kaufm.'!E11,0) -> 0 | E2: =ROUND('Aufw.-A_kaufm.'!F11,0) -> 0 | F2: =ROUND('Aufw.-A_kaufm.'!G11,0) -> 0 | G2: =ROUND('Aufw.-A_kaufm.'!H11,0) -> 0 | H2: =ROUND('Aufw.-A_kaufm.'!I11,0) -> 0 | I2: =ROUND('Aufw.-A_kaufm.'!J11,0) -> 0 | J2: =ROUND('Aufw.-A_kaufm.'!K11,0) -> 0 | ... N2: =ROUND('Aufw.-A_kaufm.'!O11,0) -> 0 | O2: =ROUND('Aufw.-A_kaufm.'!Q11,0) -> 0 | P2: =ROUND('Erträge-A_kaufm.'!D11,0) -> 0 | Q2: =ROUND('Erträge-A_kaufm.'!E11,0) -> 0 | R2: =ROUND('Erträge-A_kaufm.'!F11,0) -> 0 | S2: =ROUND('Erträge-A_kaufm.'!G11,0) -> 0 | T2: =ROUND('Erträge-A_kaufm.'!H11,0) -> 0 | U2: =ROUND('Erträge-A_kaufm.'!I11,0) -> 0 | X2: =IF(AND(SUM(C2:N2)+SUM(P2:U2)=0,O2=0),"weg","ok") -> weg
A3: Satzart1 | B3: 020 | C3: =ROUND('Aufw.-A_kaufm.'!D12,0) -> 0 | D3: =ROUND('Aufw.-A_kaufm.'!E12,0) -> 0 | E3: =ROUND('Aufw.-A_kaufm.'!F12,0) -> 0 | F3: =ROUND('Aufw.-A_kaufm.'!G12,0) -> 0 | G3: =ROUND('Aufw.-A_kaufm.'!H12,0) -> 0 | H3: =ROUND('Aufw.-A_kaufm.'!I12,0) -> 0 | I3: =ROUND('Aufw.-A_kaufm.'!J12,0) -> 0 | J3: =ROUND('Aufw.-A_kaufm.'!K12,0) -> 0 | ... N3: =ROUND('Aufw.-A_kaufm.'!O12,0) -> 0 | O3: =ROUND('Aufw.-A_kaufm.'!Q12,0) -> 0 | P3: =ROUND('Erträge-A_kaufm.'!D12,0) -> 0 | Q3: =ROUND('Erträge-A_kaufm.'!E12,0) -> 0 | R3: =ROUND('Erträge-A_kaufm.'!F12,0) -> 0 | S3: =ROUND('Erträge-A_kaufm.'!G12,0) -> 0 | T3: =ROUND('Erträge-A_kaufm.'!H12,0) -> 0 | U3: =ROUND('Erträge-A_kaufm.'!I12,0) -> 0 | X3: =IF(AND(SUM(C3:N3)+SUM(P3:U3)=0,O3=0),"weg","ok") -> weg
A4: Satzart1 | B4: 030 | C4: =ROUND('Aufw.-A_kaufm.'!D13,0) -> 0 | D4: =ROUND('Aufw.-A_kaufm.'!E13,0) -> 0 | E4: =ROUND('Aufw.-A_kaufm.'!F13,0) -> 0 | F4: =ROUND('Aufw.-A_kaufm.'!G13,0) -> 0 | G4: =ROUND('Aufw.-A_kaufm.'!H13,0) -> 0 | H4: =ROUND('Aufw.-A_kaufm.'!I13,0) -> 0 | I4: =ROUND('Aufw.-A_kaufm.'!J13,0) -> 0 | J4: =ROUND('Aufw.-A_kaufm.'!K13,0) -> 0 | ... N4: =ROUND('Aufw.-A_kaufm.'!O13,0) -> 0 | O4: =ROUND('Aufw.-A_kaufm.'!Q13,0) -> 0 | P4: =ROUND('Erträge-A_kaufm.'!D13,0) -> 0 | Q4: =ROUND('Erträge-A_kaufm.'!E13,0) -> 0 | R4: =ROUND('Erträge-A_kaufm.'!F13,0) -> 0 | S4: =ROUND('Erträge-A_kaufm.'!G13,0) -> 0 | T4: =ROUND('Erträge-A_kaufm.'!H13,0) -> 0 | U4: =ROUND('Erträge-A_kaufm.'!I13,0) -> 0 | X4: =IF(AND(SUM(C4:N4)+SUM(P4:U4)=0,O4=0),"weg","ok") -> weg
A5: Satzart1 | B5: 040 | C5: =ROUND('Aufw.-A_kaufm.'!D14,0) -> 0 | D5: =ROUND('Aufw.-A_kaufm.'!E14,0) -> 0 | E5: =ROUND('Aufw.-A_kaufm.'!F14,0) -> 0 | F5: =ROUND('Aufw.-A_kaufm.'!G14,0) -> 0 | G5: =ROUND('Aufw.-A_kaufm.'!H14,0) -> 0 | H5: =ROUND('Aufw.-A_kaufm.'!I14,0) -> 0 | I5: =ROUND('Aufw.-A_kaufm.'!J14,0) -> 0 | J5: =ROUND('Aufw.-A_kaufm.'!K14,0) -> 0 | ... N5: =ROUND('Aufw.-A_kaufm.'!O14,0) -> 0 | O5: =ROUND('Aufw.-A_kaufm.'!Q14,0) -> 0 | P5: =ROUND('Erträge-A_kaufm.'!D14,0) -> 0 | Q5: =ROUND('Erträge-A_kaufm.'!E14,0) -> 0 | R5: =ROUND('Erträge-A_kaufm.'!F14,0) -> 0 | S5: =ROUND('Erträge-A_kaufm.'!G14,0) -> 0 | T5: =ROUND('Erträge-A_kaufm.'!H14,0) -> 0 | U5: =ROUND('Erträge-A_kaufm.'!I14,0) -> 0 | X5: =IF(AND(SUM(C5:N5)+SUM(P5:U5)=0,O5=0),"weg","ok") -> weg
A6: Satzart1 | B6: 050 | C6: =ROUND('Aufw.-A_kaufm.'!D15,0) -> 0 | D6: =ROUND('Aufw.-A_kaufm.'!E15,0) -> 0 | E6: =ROUND('Aufw.-A_kaufm.'!F15,0) -> 0 | F6: =ROUND('Aufw.-A_kaufm.'!G15,0) -> 0 | G6: =ROUND('Aufw.-A_kaufm.'!H15,0) -> 0 | H6: =ROUND('Aufw.-A_kaufm.'!I15,0) -> 0 | I6: =ROUND('Aufw.-A_kaufm.'!J15,0) -> 0 | J6: =ROUND('Aufw.-A_kaufm.'!K15,0) -> 0 | ... N6: =ROUND('Aufw.-A_kaufm.'!O15,0) -> 0 | O6: =ROUND('Aufw.-A_kaufm.'!Q15,0) -> 0 | P6: =ROUND('Erträge-A_kaufm.'!D15,0) -> 0 | Q6: =ROUND('Erträge-A_kaufm.'!E15,0) -> 0 | R6: =ROUND('Erträge-A_kaufm.'!F15,0) -> 0 | S6: =ROUND('Erträge-A_kaufm.'!G15,0) -> 0 | T6: =ROUND('Erträge-A_kaufm.'!H15,0) -> 0 | U6: =ROUND('Erträge-A_kaufm.'!I15,0) -> 0 | X6: =IF(AND(SUM(C6:N6)+SUM(P6:U6)=0,O6=0),"weg","ok") -> weg
A7: Satzart1 | B7: 070 | C7: =ROUND('Aufw.-A_kaufm.'!D16,0) -> 0 | D7: =ROUND('Aufw.-A_kaufm.'!E16,0) -> 0 | E7: =ROUND('Aufw.-A_kaufm.'!F16,0) -> 0 | F7: =ROUND('Aufw.-A_kaufm.'!G16,0) -> 0 | G7: =ROUND('Aufw.-A_kaufm.'!H16,0) -> 0 | H7: =ROUND('Aufw.-A_kaufm.'!I16,0) -> 0 | I7: =ROUND('Aufw.-A_kaufm.'!J16,0) -> 0 | J7: =ROUND('Aufw.-A_kaufm.'!K16,0) -> 0 | ... N7: =ROUND('Aufw.-A_kaufm.'!O16,0) -> 0 | O7: =ROUND('Aufw.-A_kaufm.'!Q16,0) -> 0 | P7: =ROUND('Erträge-A_kaufm.'!D16,0) -> 0 | Q7: =ROUND('Erträge-A_kaufm.'!E16,0) -> 0 | R7: =ROUND('Erträge-A_kaufm.'!F16,0) -> 0 | S7: =ROUND('Erträge-A_kaufm.'!G16,0) -> 0 | T7: =ROUND('Erträge-A_kaufm.'!H16,0) -> 0 | U7: =ROUND('Erträge-A_kaufm.'!I16,0) -> 0 | X7: =IF(AND(SUM(C7:N7)+SUM(P7:U7)=0,O7=0),"weg","ok") -> weg
A8: Satzart1 | B8: 080 | C8: =ROUND('Aufw.-A_kaufm.'!D17,0) -> 0 | D8: =ROUND('Aufw.-A_kaufm.'!E17,0) -> 0 | E8: =ROUND('Aufw.-A_kaufm.'!F17,0) -> 0 | F8: =ROUND('Aufw.-A_kaufm.'!G17,0) -> 0 | G8: =ROUND('Aufw.-A_kaufm.'!H17,0) -> 0 | H8: =ROUND('Aufw.-A_kaufm.'!I17,0) -> 0 | I8: =ROUND('Aufw.-A_kaufm.'!J17,0) -> 0 | J8: =ROUND('Aufw.-A_kaufm.'!K17,0) -> 0 | ... N8: =ROUND('Aufw.-A_kaufm.'!O17,0) -> 0 | O8: =ROUND('Aufw.-A_kaufm.'!Q17,0) -> 0 | P8: =ROUND('Erträge-A_kaufm.'!D17,0) -> 0 | Q8: =ROUND('Erträge-A_kaufm.'!E17,0) -> 0 | R8: =ROUND('Erträge-A_kaufm.'!F17,0) -> 0 | S8: =ROUND('Erträge-A_kaufm.'!G17,0) -> 0 | T8: =ROUND('Erträge-A_kaufm.'!H17,0) -> 0 | U8: =ROUND('Erträge-A_kaufm.'!I17,0) -> 0 | X8: =IF(AND(SUM(C8:N8)+SUM(P8:U8)=0,O8=0),"weg","ok") -> weg
A9: Satzart1 | B9: 090 | C9: =ROUND('Aufw.-A_kaufm.'!D18,0) -> 0 | D9: =ROUND('Aufw.-A_kaufm.'!E18,0) -> 0 | E9: =ROUND('Aufw.-A_kaufm.'!F18,0) -> 0 | F9: =ROUND('Aufw.-A_kaufm.'!G18,0) -> 0 | G9: =ROUND('Aufw.-A_kaufm.'!H18,0) -> 0 | H9: =ROUND('Aufw.-A_kaufm.'!I18,0) -> 0 | I9: =ROUND('Aufw.-A_kaufm.'!J18,0) -> 0 | J9: =ROUND('Aufw.-A_kaufm.'!K18,0) -> 0 | ... N9: =ROUND('Aufw.-A_kaufm.'!O18,0) -> 0 | O9: =ROUND('Aufw.-A_kaufm.'!Q18,0) -> 0 | P9: =ROUND('Erträge-A_kaufm.'!D18,0) -> 0 | Q9: =ROUND('Erträge-A_kaufm.'!E18,0) -> 0 | R9: =ROUND('Erträge-A_kaufm.'!F18,0) -> 0 | S9: =ROUND('Erträge-A_kaufm.'!G18,0) -> 0 | T9: =ROUND('Erträge-A_kaufm.'!H18,0) -> 0 | U9: =ROUND('Erträge-A_kaufm.'!I18,0) -> 0 | X9: =IF(AND(SUM(C9:N9)+SUM(P9:U9)=0,O9=0),"weg","ok") -> weg
A10: Satzart1 | B10: 100 | C10: =ROUND('Aufw.-A_kaufm.'!D19,0) -> 0 | D10: =ROUND('Aufw.-A_kaufm.'!E19,0) -> 0 | E10: =ROUND('Aufw.-A_kaufm.'!F19,0) -> 0 | F10: =ROUND('Aufw.-A_kaufm.'!G19,0) -> 0 | G10: =ROUND('Aufw.-A_kaufm.'!H19,0) -> 0 | H10: =ROUND('Aufw.-A_kaufm.'!I19,0) -> 0 | I10: =ROUND('Aufw.-A_kaufm.'!J19,0) -> 0 | J10: =ROUND('Aufw.-A_kaufm.'!K19,0) -> 0 | ... N10: =ROUND('Aufw.-A_kaufm.'!O19,0) -> 0 | O10: =ROUND('Aufw.-A_kaufm.'!Q19,0) -> 0 | P10: =ROUND('Erträge-A_kaufm.'!D19,0) -> 0 | Q10: =ROUND('Erträge-A_kaufm.'!E19,0) -> 0 | R10: =ROUND('Erträge-A_kaufm.'!F19,0) -> 0 | S10: =ROUND('Erträge-A_kaufm.'!G19,0) -> 0 | T10: =ROUND('Erträge-A_kaufm.'!H19,0) -> 0 | U10: =ROUND('Erträge-A_kaufm.'!I19,0) -> 0 | X10: =IF(AND(SUM(C10:N10)+SUM(P10:U10)=0,O10=0),"weg","ok") -> weg
A11: Satzart1 | B11: 110 | C11: =ROUND('Aufw.-A_kaufm.'!D20,0) -> 0 | D11: =ROUND('Aufw.-A_kaufm.'!E20,0) -> 0 | E11: =ROUND('Aufw.-A_kaufm.'!F20,0) -> 0 | F11: =ROUND('Aufw.-A_kaufm.'!G20,0) -> 0 | G11: =ROUND('Aufw.-A_kaufm.'!H20,0) -> 0 | H11: =ROUND('Aufw.-A_kaufm.'!I20,0) -> 0 | I11: =ROUND('Aufw.-A_kaufm.'!J20,0) -> 0 | J11: =ROUND('Aufw.-A_kaufm.'!K20,0) -> 0 | ... N11: =ROUND('Aufw.-A_kaufm.'!O20,0) -> 0 | O11: =ROUND('Aufw.-A_kaufm.'!Q20,0) -> 0 | P11: =ROUND('Erträge-A_kaufm.'!D20,0) -> 0 | Q11: =ROUND('Erträge-A_kaufm.'!E20,0) -> 0 | R11: =ROUND('Erträge-A_kaufm.'!F20,0) -> 0 | S11: =ROUND('Erträge-A_kaufm.'!G20,0) -> 0 | T11: =ROUND('Erträge-A_kaufm.'!H20,0) -> 0 | U11: =ROUND('Erträge-A_kaufm.'!I20,0) -> 0 | X11: =IF(AND(SUM(C11:N11)+SUM(P11:U11)=0,O11=0),"weg","ok") -> weg
A12: Satzart1 | B12: 120 | C12: =ROUND('Aufw.-A_kaufm.'!D21,0) -> 0 | D12: =ROUND('Aufw.-A_kaufm.'!E21,0) -> 0 | E12: =ROUND('Aufw.-A_kaufm.'!F21,0) -> 0 | F12: =ROUND('Aufw.-A_kaufm.'!G21,0) -> 0 | G12: =ROUND('Aufw.-A_kaufm.'!H21,0) -> 0 | H12: =ROUND('Aufw.-A_kaufm.'!I21,0) -> 0 | I12: =ROUND('Aufw.-A_kaufm.'!J21,0) -> 0 | J12: =ROUND('Aufw.-A_kaufm.'!K21,0) -> 0 | ... N12: =ROUND('Aufw.-A_kaufm.'!O21,0) -> 0 | O12: =ROUND('Aufw.-A_kaufm.'!Q21,0) -> 0 | P12: =ROUND('Erträge-A_kaufm.'!D21,0) -> 0 | Q12: =ROUND('Erträge-A_kaufm.'!E21,0) -> 0 | R12: =ROUND('Erträge-A_kaufm.'!F21,0) -> 0 | S12: =ROUND('Erträge-A_kaufm.'!G21,0) -> 0 | T12: =ROUND('Erträge-A_kaufm.'!H21,0) -> 0 | U12: =ROUND('Erträge-A_kaufm.'!I21,0) -> 0 | X12: =IF(AND(SUM(C12:N12)+SUM(P12:U12)=0,O12=0),"weg","ok") -> weg
A13: Satzart1 | B13: 130 | C13: =ROUND('Aufw.-A_kaufm.'!D22,0) -> 0 | D13: =ROUND('Aufw.-A_kaufm.'!E22,0) -> 0 | E13: =ROUND('Aufw.-A_kaufm.'!F22,0) -> 0 | F13: =ROUND('Aufw.-A_kaufm.'!G22,0) -> 0 | G13: =ROUND('Aufw.-A_kaufm.'!H22,0) -> 0 | H13: =ROUND('Aufw.-A_kaufm.'!I22,0) -> 0 | I13: =ROUND('Aufw.-A_kaufm.'!J22,0) -> 0 | J13: =ROUND('Aufw.-A_kaufm.'!K22,0) -> 0 | ... N13: =ROUND('Aufw.-A_kaufm.'!O22,0) -> 0 | O13: =ROUND('Aufw.-A_kaufm.'!Q22,0) -> 0 | P13: =ROUND('Erträge-A_kaufm.'!D22,0) -> 0 | Q13: =ROUND('Erträge-A_kaufm.'!E22,0) -> 0 | R13: =ROUND('Erträge-A_kaufm.'!F22,0) -> 0 | S13: =ROUND('Erträge-A_kaufm.'!G22,0) -> 0 | T13: =ROUND('Erträge-A_kaufm.'!H22,0) -> 0 | U13: =ROUND('Erträge-A_kaufm.'!I22,0) -> 0 | X13: =IF(AND(SUM(C13:N13)+SUM(P13:U13)=0,O13=0),"weg","ok") -> weg
... A17: Satzart1 | B17: 197 | C17: =ROUND('Aufw.-A_kaufm.'!D26,0) -> 0 | D17: =ROUND('Aufw.-A_kaufm.'!E26,0) -> 0 | E17: =ROUND('Aufw.-A_kaufm.'!F26,0) -> 0 | F17: =ROUND('Aufw.-A_kaufm.'!G26,0) -> 0 | G17: =ROUND('Aufw.-A_kaufm.'!H26,0) -> 0 | H17: =ROUND('Aufw.-A_kaufm.'!I26,0) -> 0 | I17: =ROUND('Aufw.-A_kaufm.'!J26,0) -> 0 | J17: =ROUND('Aufw.-A_kaufm.'!K26,0) -> 0 | ... N17: =ROUND('Aufw.-A_kaufm.'!O26,0) -> 0 | O17: =ROUND('Aufw.-A_kaufm.'!Q26,0) -> 0 | P17: =ROUND('Erträge-A_kaufm.'!D26,0) -> 0 | Q17: =ROUND('Erträge-A_kaufm.'!E26,0) -> 0 | R17: =ROUND('Erträge-A_kaufm.'!F26,0) -> 0 | S17: =ROUND('Erträge-A_kaufm.'!G26,0) -> 0 | T17: =ROUND('Erträge-A_kaufm.'!H26,0) -> 0 | U17: =ROUND('Erträge-A_kaufm.'!I26,0) -> 0 | X17: =IF(AND(SUM(C17:N17)+SUM(P17:U17)=0,O17=0),"weg","ok") -> weg
A18: Satzart1 | B18: 330 | C18: =ROUND('Aufw.-A_kaufm.'!D28,0) -> 0 | D18: =ROUND('Aufw.-A_kaufm.'!E28,0) -> 0 | E18: =ROUND('Aufw.-A_kaufm.'!F28,0) -> 0 | F18: =ROUND('Aufw.-A_kaufm.'!G28,0) -> 0 | G18: =ROUND('Aufw.-A_kaufm.'!H28,0) -> 0 | H18: =ROUND('Aufw.-A_kaufm.'!I28,0) -> 0 | I18: =ROUND('Aufw.-A_kaufm.'!J28,0) -> 0 | J18: =ROUND('Aufw.-A_kaufm.'!K28,0) -> 0 | ... N18: =ROUND('Aufw.-A_kaufm.'!O28,0) -> 0 | O18: =ROUND('Aufw.-A_kaufm.'!Q28,0) -> 0 | P18: =ROUND('Erträge-A_kaufm.'!D28,0) -> 0 | Q18: =ROUND('Erträge-A_kaufm.'!E28,0) -> 0 | R18: =ROUND('Erträge-A_kaufm.'!F28,0) -> 0 | S18: =ROUND('Erträge-A_kaufm.'!G28,0) -> 0 | T18: =ROUND('Erträge-A_kaufm.'!H28,0) -> 0 | U18: =ROUND('Erträge-A_kaufm.'!I28,0) -> 0 | X18: =IF(AND(SUM(C18:N18)+SUM(P18:U18)=0,O18=0),"weg","ok") -> weg
A19: Satzart1 | B19: 340 | C19: =ROUND('Aufw.-A_kaufm.'!D29,0) -> 0 | D19: =ROUND('Aufw.-A_kaufm.'!E29,0) -> 0 | E19: =ROUND('Aufw.-A_kaufm.'!F29,0) -> 0 | F19: =ROUND('Aufw.-A_kaufm.'!G29,0) -> 0 | G19: =ROUND('Aufw.-A_kaufm.'!H29,0) -> 0 | H19: =ROUND('Aufw.-A_kaufm.'!I29,0) -> 0 | I19: =ROUND('Aufw.-A_kaufm.'!J29,0) -> 0 | J19: =ROUND('Aufw.-A_kaufm.'!K29,0) -> 0 | ... N19: =ROUND('Aufw.-A_kaufm.'!O29,0) -> 0 | O19: =ROUND('Aufw.-A_kaufm.'!Q29,0) -> 0 | P19: =ROUND('Erträge-A_kaufm.'!D29,0) -> 0 | Q19: =ROUND('Erträge-A_kaufm.'!E29,0) -> 0 | R19: =ROUND('Erträge-A_kaufm.'!F29,0) -> 0 | S19: =ROUND('Erträge-A_kaufm.'!G29,0) -> 0 | T19: =ROUND('Erträge-A_kaufm.'!H29,0) -> 0 | U19: =ROUND('Erträge-A_kaufm.'!I29,0) -> 0 | X19: =IF(AND(SUM(C19:N19)+SUM(P19:U19)=0,O19=0),"weg","ok") -> weg
A20: Satzart1 | B20: 360 | C20: =ROUND('Aufw.-A_kaufm.'!D30,0) -> 0 | D20: =ROUND('Aufw.-A_kaufm.'!E30,0) -> 0 | E20: =ROUND('Aufw.-A_kaufm.'!F30,0) -> 0 | F20: =ROUND('Aufw.-A_kaufm.'!G30,0) -> 0 | G20: =ROUND('Aufw.-A_kaufm.'!H30,0) -> 0 | H20: =ROUND('Aufw.-A_kaufm.'!I30,0) -> 0 | I20: =ROUND('Aufw.-A_kaufm.'!J30,0) -> 0 | J20: =ROUND('Aufw.-A_kaufm.'!K30,0) -> 0 | ... N20: =ROUND('Aufw.-A_kaufm.'!O30,0) -> 0 | O20: =ROUND('Aufw.-A_kaufm.'!Q30,0) -> 0 | P20: =ROUND('Erträge-A_kaufm.'!D30,0) -> 0 | Q20: =ROUND('Erträge-A_kaufm.'!E30,0) -> 0 | R20: =ROUND('Erträge-A_kaufm.'!F30,0) -> 0 | S20: =ROUND('Erträge-A_kaufm.'!G30,0) -> 0 | T20: =ROUND('Erträge-A_kaufm.'!H30,0) -> 0 | U20: =ROUND('Erträge-A_kaufm.'!I30,0) -> 0 | X20: =IF(AND(SUM(C20:N20)+SUM(P20:U20)=0,O20=0),"weg","ok") -> weg
A21: Satzart1 | B21: 370 | C21: =ROUND('Aufw.-A_kaufm.'!D31,0) -> 0 | D21: =ROUND('Aufw.-A_kaufm.'!E31,0) -> 0 | E21: =ROUND('Aufw.-A_kaufm.'!F31,0) -> 0 | F21: =ROUND('Aufw.-A_kaufm.'!G31,0) -> 0 | G21: =ROUND('Aufw.-A_kaufm.'!H31,0) -> 0 | H21: =ROUND('Aufw.-A_kaufm.'!I31,0) -> 0 | I21: =ROUND('Aufw.-A_kaufm.'!J31,0) -> 0 | J21: =ROUND('Aufw.-A_kaufm.'!K31,0) -> 0 | ... N21: =ROUND('Aufw.-A_kaufm.'!O31,0) -> 0 | O21: =ROUND('Aufw.-A_kaufm.'!Q31,0) -> 0 | P21: =ROUND('Erträge-A_kaufm.'!D31,0) -> 0 | Q21: =ROUND('Erträge-A_kaufm.'!E31,0) -> 0 | R21: =ROUND('Erträge-A_kaufm.'!F31,0) -> 0 | S21: =ROUND('Erträge-A_kaufm.'!G31,0) -> 0 | T21: =ROUND('Erträge-A_kaufm.'!H31,0) -> 0 | U21: =ROUND('Erträge-A_kaufm.'!I31,0) -> 0 | X21: =IF(AND(SUM(C21:N21)+SUM(P21:U21)=0,O21=0),"weg","ok") -> weg
A22: Satzart1 | B22: 390 | C22: =ROUND('Aufw.-A_kaufm.'!D32,0) -> 0 | D22: =ROUND('Aufw.-A_kaufm.'!E32,0) -> 0 | E22: =ROUND('Aufw.-A_kaufm.'!F32,0) -> 0 | F22: =ROUND('Aufw.-A_kaufm.'!G32,0) -> 0 | G22: =ROUND('Aufw.-A_kaufm.'!H32,0) -> 0 | H22: =ROUND('Aufw.-A_kaufm.'!I32,0) -> 0 | I22: =ROUND('Aufw.-A_kaufm.'!J32,0) -> 0 | J22: =ROUND('Aufw.-A_kaufm.'!K32,0) -> 0 | ... N22: =ROUND('Aufw.-A_kaufm.'!O32,0) -> 0 | O22: =ROUND('Aufw.-A_kaufm.'!Q32,0) -> 0 | P22: =ROUND('Erträge-A_kaufm.'!D32,0) -> 0 | Q22: =ROUND('Erträge-A_kaufm.'!E32,0) -> 0 | R22: =ROUND('Erträge-A_kaufm.'!F32,0) -> 0 | S22: =ROUND('Erträge-A_kaufm.'!G32,0) -> 0 | T22: =ROUND('Erträge-A_kaufm.'!H32,0) -> 0 | U22: =ROUND('Erträge-A_kaufm.'!I32,0) -> 0 | X22: =IF(AND(SUM(C22:N22)+SUM(P22:U22)=0,O22=0),"weg","ok") -> weg
A23: Satzart1 | B23: 400 | C23: =ROUND('Aufw.-A_kaufm.'!D33,0) -> 0 | D23: =ROUND('Aufw.-A_kaufm.'!E33,0) -> 0 | E23: =ROUND('Aufw.-A_kaufm.'!F33,0) -> 0 | F23: =ROUND('Aufw.-A_kaufm.'!G33,0) -> 0 | G23: =ROUND('Aufw.-A_kaufm.'!H33,0) -> 0 | H23: =ROUND('Aufw.-A_kaufm.'!I33,0) -> 0 | I23: =ROUND('Aufw.-A_kaufm.'!J33,0) -> 0 | J23: =ROUND('Aufw.-A_kaufm.'!K33,0) -> 0 | ... N23: =ROUND('Aufw.-A_kaufm.'!O33,0) -> 0 | O23: =ROUND('Aufw.-A_kaufm.'!Q33,0) -> 0 | P23: =ROUND('Erträge-A_kaufm.'!D33,0) -> 0 | Q23: =ROUND('Erträge-A_kaufm.'!E33,0) -> 0 | R23: =ROUND('Erträge-A_kaufm.'!F33,0) -> 0 | S23: =ROUND('Erträge-A_kaufm.'!G33,0) -> 0 | T23: =ROUND('Erträge-A_kaufm.'!H33,0) -> 0 | U23: =ROUND('Erträge-A_kaufm.'!I33,0) -> 0 | X23: =IF(AND(SUM(C23:N23)+SUM(P23:U23)=0,O23=0),"weg","ok") -> weg
A24: Satzart1 | B24: 410 | C24: =ROUND('Aufw.-A_kaufm.'!D34,0) -> 0 | D24: =ROUND('Aufw.-A_kaufm.'!E34,0) -> 0 | E24: =ROUND('Aufw.-A_kaufm.'!F34,0) -> 0 | F24: =ROUND('Aufw.-A_kaufm.'!G34,0) -> 0 | G24: =ROUND('Aufw.-A_kaufm.'!H34,0) -> 0 | H24: =ROUND('Aufw.-A_kaufm.'!I34,0) -> 0 | I24: =ROUND('Aufw.-A_kaufm.'!J34,0) -> 0 | J24: =ROUND('Aufw.-A_kaufm.'!K34,0) -> 0 | ... N24: =ROUND('Aufw.-A_kaufm.'!O34,0) -> 0 | O24: =ROUND('Aufw.-A_kaufm.'!Q34,0) -> 0 | P24: =ROUND('Erträge-A_kaufm.'!D34,0) -> 0 | Q24: =ROUND('Erträge-A_kaufm.'!E34,0) -> 0 | R24: =ROUND('Erträge-A_kaufm.'!F34,0) -> 0 | S24: =ROUND('Erträge-A_kaufm.'!G34,0) -> 0 | T24: =ROUND('Erträge-A_kaufm.'!H34,0) -> 0 | U24: =ROUND('Erträge-A_kaufm.'!I34,0) -> 0 | X24: =IF(AND(SUM(C24:N24)+SUM(P24:U24)=0,O24=0),"weg","ok") -> weg
A25: Satzart1 | B25: 420 | C25: =ROUND('Aufw.-A_kaufm.'!D35,0) -> 0 | D25: =ROUND('Aufw.-A_kaufm.'!E35,0) -> 0 | E25: =ROUND('Aufw.-A_kaufm.'!F35,0) -> 0 | F25: =ROUND('Aufw.-A_kaufm.'!G35,0) -> 0 | G25: =ROUND('Aufw.-A_kaufm.'!H35,0) -> 0 | H25: =ROUND('Aufw.-A_kaufm.'!I35,0) -> 0 | I25: =ROUND('Aufw.-A_kaufm.'!J35,0) -> 0 | J25: =ROUND('Aufw.-A_kaufm.'!K35,0) -> 0 | ... N25: =ROUND('Aufw.-A_kaufm.'!O35,0) -> 0 | O25: =ROUND('Aufw.-A_kaufm.'!Q35,0) -> 0 | P25: =ROUND('Erträge-A_kaufm.'!D35,0) -> 0 | Q25: =ROUND('Erträge-A_kaufm.'!E35,0) -> 0 | R25: =ROUND('Erträge-A_kaufm.'!F35,0) -> 0 | S25: =ROUND('Erträge-A_kaufm.'!G35,0) -> 0 | T25: =ROUND('Erträge-A_kaufm.'!H35,0) -> 0 | U25: =ROUND('Erträge-A_kaufm.'!I35,0) -> 0 | X25: =IF(AND(SUM(C25:N25)+SUM(P25:U25)=0,O25=0),"weg","ok") -> weg
A26: Satzart1 | B26: 440 | C26: =ROUND('Aufw.-A_kaufm.'!D37,0) -> 0 | D26: =ROUND('Aufw.-A_kaufm.'!E37,0) -> 0 | E26: =ROUND('Aufw.-A_kaufm.'!F37,0) -> 0 | F26: =ROUND('Aufw.-A_kaufm.'!G37,0) -> 0 | G26: =ROUND('Aufw.-A_kaufm.'!H37,0) -> 0 | H26: =ROUND('Aufw.-A_kaufm.'!I37,0) -> 0 | I26: =ROUND('Aufw.-A_kaufm.'!J37,0) -> 0 | J26: =ROUND('Aufw.-A_kaufm.'!K37,0) -> 0 | ... N26: =ROUND('Aufw.-A_kaufm.'!O37,0) -> 0 | O26: =ROUND('Aufw.-A_kaufm.'!Q37,0) -> 0 | P26: =ROUND('Erträge-A_kaufm.'!D37,0) -> 0 | Q26: =ROUND('Erträge-A_kaufm.'!E37,0) -> 0 | R26: =ROUND('Erträge-A_kaufm.'!F37,0) -> 0 | S26: =ROUND('Erträge-A_kaufm.'!G37,0) -> 0 | T26: =ROUND('Erträge-A_kaufm.'!H37,0) -> 0 | U26: =ROUND('Erträge-A_kaufm.'!I37,0) -> 0 | X26: =IF(AND(SUM(C26:N26)+SUM(P26:U26)=0,O26=0),"weg","ok") -> weg
A27: Satzart1 | B27: 445 | C27: =ROUND('Aufw.-A_kaufm.'!D38,0) -> 0 | D27: =ROUND('Aufw.-A_kaufm.'!E38,0) -> 0 | E27: =ROUND('Aufw.-A_kaufm.'!F38,0) -> 0 | F27: =ROUND('Aufw.-A_kaufm.'!G38,0) -> 0 | G27: =ROUND('Aufw.-A_kaufm.'!H38,0) -> 0 | H27: =ROUND('Aufw.-A_kaufm.'!I38,0) -> 0 | I27: =ROUND('Aufw.-A_kaufm.'!J38,0) -> 0 | J27: =ROUND('Aufw.-A_kaufm.'!K38,0) -> 0 | ... N27: =ROUND('Aufw.-A_kaufm.'!O38,0) -> 0 | O27: =ROUND('Aufw.-A_kaufm.'!Q38,0) -> 0 | P27: =ROUND('Erträge-A_kaufm.'!D38,0) -> 0 | Q27: =ROUND('Erträge-A_kaufm.'!E38,0) -> 0 | R27: =ROUND('Erträge-A_kaufm.'!F38,0) -> 0 | S27: =ROUND('Erträge-A_kaufm.'!G38,0) -> 0 | T27: =ROUND('Erträge-A_kaufm.'!H38,0) -> 0 | U27: =ROUND('Erträge-A_kaufm.'!I38,0) -> 0 | X27: =IF(AND(SUM(C27:N27)+SUM(P27:U27)=0,O27=0),"weg","ok") -> weg
A28: Satzart1 | B28: 450 | C28: =ROUND('Aufw.-A_kaufm.'!D39,0) -> 0 | D28: =ROUND('Aufw.-A_kaufm.'!E39,0) -> 0 | E28: =ROUND('Aufw.-A_kaufm.'!F39,0) -> 0 | F28: =ROUND('Aufw.-A_kaufm.'!G39,0) -> 0 | G28: =ROUND('Aufw.-A_kaufm.'!H39,0) -> 0 | H28: =ROUND('Aufw.-A_kaufm.'!I39,0) -> 0 | I28: =ROUND('Aufw.-A_kaufm.'!J39,0) -> 0 | J28: =ROUND('Aufw.-A_kaufm.'!K39,0) -> 0 | ... N28: =ROUND('Aufw.-A_kaufm.'!O39,0) -> 0 | O28: =ROUND('Aufw.-A_kaufm.'!Q39,0) -> 0 | P28: =ROUND('Erträge-A_kaufm.'!D39,0) -> 0 | Q28: =ROUND('Erträge-A_kaufm.'!E39,0) -> 0 | R28: =ROUND('Erträge-A_kaufm.'!F39,0) -> 0 | S28: =ROUND('Erträge-A_kaufm.'!G39,0) -> 0 | T28: =ROUND('Erträge-A_kaufm.'!H39,0) -> 0 | U28: =ROUND('Erträge-A_kaufm.'!I39,0) -> 0 | X28: =IF(AND(SUM(C28:N28)+SUM(P28:U28)=0,O28=0),"weg","ok") -> weg
A29: Satzart1 | B29: 470 | C29: =ROUND('Aufw.-A_kaufm.'!D40,0) -> 0 | D29: =ROUND('Aufw.-A_kaufm.'!E40,0) -> 0 | E29: =ROUND('Aufw.-A_kaufm.'!F40,0) -> 0 | F29: =ROUND('Aufw.-A_kaufm.'!G40,0) -> 0 | G29: =ROUND('Aufw.-A_kaufm.'!H40,0) -> 0 | H29: =ROUND('Aufw.-A_kaufm.'!I40,0) -> 0 | I29: =ROUND('Aufw.-A_kaufm.'!J40,0) -> 0 | J29: =ROUND('Aufw.-A_kaufm.'!K40,0) -> 0 | ... N29: =ROUND('Aufw.-A_kaufm.'!O40,0) -> 0 | O29: =ROUND('Aufw.-A_kaufm.'!Q40,0) -> 0 | P29: =ROUND('Erträge-A_kaufm.'!D40,0) -> 0 | Q29: =ROUND('Erträge-A_kaufm.'!E40,0) -> 0 | R29: =ROUND('Erträge-A_kaufm.'!F40,0) -> 0 | S29: =ROUND('Erträge-A_kaufm.'!G40,0) -> 0 | T29: =ROUND('Erträge-A_kaufm.'!H40,0) -> 0 | U29: =ROUND('Erträge-A_kaufm.'!I40,0) -> 0 | X29: =IF(AND(SUM(C29:N29)+SUM(P29:U29)=0,O29=0),"weg","ok") -> weg
A30: Satzart1 | B30: 490 | C30: =ROUND('Aufw.-A_kaufm.'!D41,0) -> 0 | D30: =ROUND('Aufw.-A_kaufm.'!E41,0) -> 0 | E30: =ROUND('Aufw.-A_kaufm.'!F41,0) -> 0 | F30: =ROUND('Aufw.-A_kaufm.'!G41,0) -> 0 | G30: =ROUND('Aufw.-A_kaufm.'!H41,0) -> 0 | H30: =ROUND('Aufw.-A_kaufm.'!I41,0) -> 0 | I30: =ROUND('Aufw.-A_kaufm.'!J41,0) -> 0 | J30: =ROUND('Aufw.-A_kaufm.'!K41,0) -> 0 | ... N30: =ROUND('Aufw.-A_kaufm.'!O41,0) -> 0 | O30: =ROUND('Aufw.-A_kaufm.'!Q41,0) -> 0 | P30: =ROUND('Erträge-A_kaufm.'!D41,0) -> 0 | Q30: =ROUND('Erträge-A_kaufm.'!E41,0) -> 0 | R30: =ROUND('Erträge-A_kaufm.'!F41,0) -> 0 | S30: =ROUND('Erträge-A_kaufm.'!G41,0) -> 0 | T30: =ROUND('Erträge-A_kaufm.'!H41,0) -> 0 | U30: =ROUND('Erträge-A_kaufm.'!I41,0) -> 0 | X30: =IF(AND(SUM(C30:N30)+SUM(P30:U30)=0,O30=0),"weg","ok") -> weg
A31: Satzart1 | B31: 520 | C31: =ROUND('Aufw.-A_kaufm.'!D42,0) -> 0 | D31: =ROUND('Aufw.-A_kaufm.'!E42,0) -> 0 | E31: =ROUND('Aufw.-A_kaufm.'!F42,0) -> 0 | F31: =ROUND('Aufw.-A_kaufm.'!G42,0) -> 0 | G31: =ROUND('Aufw.-A_kaufm.'!H42,0) -> 0 | H31: =ROUND('Aufw.-A_kaufm.'!I42,0) -> 0 | I31: =ROUND('Aufw.-A_kaufm.'!J42,0) -> 0 | J31: =ROUND('Aufw.-A_kaufm.'!K42,0) -> 0 | ... N31: =ROUND('Aufw.-A_kaufm.'!O42,0) -> 0 | O31: =ROUND('Aufw.-A_kaufm.'!Q42,0) -> 0 | P31: =ROUND('Erträge-A_kaufm.'!D42,0) -> 0 | Q31: =ROUND('Erträge-A_kaufm.'!E42,0) -> 0 | R31: =ROUND('Erträge-A_kaufm.'!F42,0) -> 0 | S31: =ROUND('Erträge-A_kaufm.'!G42,0) -> 0 | T31: =ROUND('Erträge-A_kaufm.'!H42,0) -> 0 | U31: =ROUND('Erträge-A_kaufm.'!I42,0) -> 0 | X31: =IF(AND(SUM(C31:N31)+SUM(P31:U31)=0,O31=0),"weg","ok") -> weg
A32: Satzart1 | B32: 540 | C32: =ROUND('Aufw.-A_kaufm.'!D44,0) -> 0 | D32: =ROUND('Aufw.-A_kaufm.'!E44,0) -> 0 | E32: =ROUND('Aufw.-A_kaufm.'!F44,0) -> 0 | F32: =ROUND('Aufw.-A_kaufm.'!G44,0) -> 0 | G32: =ROUND('Aufw.-A_kaufm.'!H44,0) -> 0 | H32: =ROUND('Aufw.-A_kaufm.'!I44,0) -> 0 | I32: =ROUND('Aufw.-A_kaufm.'!J44,0) -> 0 | J32: =ROUND('Aufw.-A_kaufm.'!K44,0) -> 0 | ... N32: =ROUND('Aufw.-A_kaufm.'!O44,0) -> 0 | O32: =ROUND('Aufw.-A_kaufm.'!Q44,0) -> 0 | P32: =ROUND('Erträge-A_kaufm.'!D44,0) -> 0 | Q32: =ROUND('Erträge-A_kaufm.'!E44,0) -> 0 | R32: =ROUND('Erträge-A_kaufm.'!F44,0) -> 0 | S32: =ROUND('Erträge-A_kaufm.'!G44,0) -> 0 | T32: =ROUND('Erträge-A_kaufm.'!H44,0) -> 0 | U32: =ROUND('Erträge-A_kaufm.'!I44,0) -> 0 | X32: =IF(AND(SUM(C32:N32)+SUM(P32:U32)=0,O32=0),"weg","ok") -> weg
A33: Satzart1 | B33: 550 | C33: =ROUND('Aufw.-A_kaufm.'!D45,0) -> 0 | D33: =ROUND('Aufw.-A_kaufm.'!E45,0) -> 0 | E33: =ROUND('Aufw.-A_kaufm.'!F45,0) -> 0 | F33: =ROUND('Aufw.-A_kaufm.'!G45,0) -> 0 | G33: =ROUND('Aufw.-A_kaufm.'!H45,0) -> 0 | H33: =ROUND('Aufw.-A_kaufm.'!I45,0) -> 0 | I33: =ROUND('Aufw.-A_kaufm.'!J45,0) -> 0 | J33: =ROUND('Aufw.-A_kaufm.'!K45,0) -> 0 | ... N33: =ROUND('Aufw.-A_kaufm.'!O45,0) -> 0 | O33: =ROUND('Aufw.-A_kaufm.'!Q45,0) -> 0 | P33: =ROUND('Erträge-A_kaufm.'!D45,0) -> 0 | Q33: =ROUND('Erträge-A_kaufm.'!E45,0) -> 0 | R33: =ROUND('Erträge-A_kaufm.'!F45,0) -> 0 | S33: =ROUND('Erträge-A_kaufm.'!G45,0) -> 0 | T33: =ROUND('Erträge-A_kaufm.'!H45,0) -> 0 | U33: =ROUND('Erträge-A_kaufm.'!I45,0) -> 0 | X33: =IF(AND(SUM(C33:N33)+SUM(P33:U33)=0,O33=0),"weg","ok") -> weg
A34: Satzart1 | B34: 560 | C34: =ROUND('Aufw.-A_kaufm.'!D46,0) -> 0 | D34: =ROUND('Aufw.-A_kaufm.'!E46,0) -> 0 | E34: =ROUND('Aufw.-A_kaufm.'!F46,0) -> 0 | F34: =ROUND('Aufw.-A_kaufm.'!G46,0) -> 0 | G34: =ROUND('Aufw.-A_kaufm.'!H46,0) -> 0 | H34: =ROUND('Aufw.-A_kaufm.'!I46,0) -> 0 | I34: =ROUND('Aufw.-A_kaufm.'!J46,0) -> 0 | J34: =ROUND('Aufw.-A_kaufm.'!K46,0) -> 0 | ... N34: =ROUND('Aufw.-A_kaufm.'!O46,0) -> 0 | O34: =ROUND('Aufw.-A_kaufm.'!Q46,0) -> 0 | P34: =ROUND('Erträge-A_kaufm.'!D46,0) -> 0 | Q34: =ROUND('Erträge-A_kaufm.'!E46,0) -> 0 | R34: =ROUND('Erträge-A_kaufm.'!F46,0) -> 0 | S34: =ROUND('Erträge-A_kaufm.'!G46,0) -> 0 | T34: =ROUND('Erträge-A_kaufm.'!H46,0) -> 0 | U34: =ROUND('Erträge-A_kaufm.'!I46,0) -> 0 | X34: =IF(AND(SUM(C34:N34)+SUM(P34:U34)=0,O34=0),"weg","ok") -> weg
A35: Satzart1 | B35: 580 | C35: =ROUND('Aufw.-A_kaufm.'!D47,0) -> 0 | D35: =ROUND('Aufw.-A_kaufm.'!E47,0) -> 0 | E35: =ROUND('Aufw.-A_kaufm.'!F47,0) -> 0 | F35: =ROUND('Aufw.-A_kaufm.'!G47,0) -> 0 | G35: =ROUND('Aufw.-A_kaufm.'!H47,0) -> 0 | H35: =ROUND('Aufw.-A_kaufm.'!I47,0) -> 0 | I35: =ROUND('Aufw.-A_kaufm.'!J47,0) -> 0 | J35: =ROUND('Aufw.-A_kaufm.'!K47,0) -> 0 | ... N35: =ROUND('Aufw.-A_kaufm.'!O47,0) -> 0 | O35: =ROUND('Aufw.-A_kaufm.'!Q47,0) -> 0 | P35: =ROUND('Erträge-A_kaufm.'!D47,0) -> 0 | Q35: =ROUND('Erträge-A_kaufm.'!E47,0) -> 0 | R35: =ROUND('Erträge-A_kaufm.'!F47,0) -> 0 | S35: =ROUND('Erträge-A_kaufm.'!G47,0) -> 0 | T35: =ROUND('Erträge-A_kaufm.'!H47,0) -> 0 | U35: =ROUND('Erträge-A_kaufm.'!I47,0) -> 0 | X35: =IF(AND(SUM(C35:N35)+SUM(P35:U35)=0,O35=0),"weg","ok") -> weg
A36: Satzart1 | B36: 610 | C36: =ROUND('Aufw.-A_kaufm.'!D48,0) -> 0 | D36: =ROUND('Aufw.-A_kaufm.'!E48,0) -> 0 | E36: =ROUND('Aufw.-A_kaufm.'!F48,0) -> 0 | F36: =ROUND('Aufw.-A_kaufm.'!G48,0) -> 0 | G36: =ROUND('Aufw.-A_kaufm.'!H48,0) -> 0 | H36: =ROUND('Aufw.-A_kaufm.'!I48,0) -> 0 | I36: =ROUND('Aufw.-A_kaufm.'!J48,0) -> 0 | J36: =ROUND('Aufw.-A_kaufm.'!K48,0) -> 0 | ... N36: =ROUND('Aufw.-A_kaufm.'!O48,0) -> 0 | O36: =ROUND('Aufw.-A_kaufm.'!Q48,0) -> 0 | P36: =ROUND('Erträge-A_kaufm.'!D48,0) -> 0 | Q36: =ROUND('Erträge-A_kaufm.'!E48,0) -> 0 | R36: =ROUND('Erträge-A_kaufm.'!F48,0) -> 0 | S36: =ROUND('Erträge-A_kaufm.'!G48,0) -> 0 | T36: =ROUND('Erträge-A_kaufm.'!H48,0) -> 0 | U36: =ROUND('Erträge-A_kaufm.'!I48,0) -> 0 | X36: =IF(AND(SUM(C36:N36)+SUM(P36:U36)=0,O36=0),"weg","ok") -> weg
A37: Satzart1 | B37: 615 | C37: =ROUND('Aufw.-A_kaufm.'!D49,0) -> 0 | D37: =ROUND('Aufw.-A_kaufm.'!E49,0) -> 0 | E37: =ROUND('Aufw.-A_kaufm.'!F49,0) -> 0 | F37: =ROUND('Aufw.-A_kaufm.'!G49,0) -> 0 | G37: =ROUND('Aufw.-A_kaufm.'!H49,0) -> 0 | H37: =ROUND('Aufw.-A_kaufm.'!I49,0) -> 0 | I37: =ROUND('Aufw.-A_kaufm.'!J49,0) -> 0 | J37: =ROUND('Aufw.-A_kaufm.'!K49,0) -> 0 | ... N37: =ROUND('Aufw.-A_kaufm.'!O49,0) -> 0 | O37: =ROUND('Aufw.-A_kaufm.'!Q49,0) -> 0 | P37: =ROUND('Erträge-A_kaufm.'!D49,0) -> 0 | Q37: =ROUND('Erträge-A_kaufm.'!E49,0) -> 0 | R37: =ROUND('Erträge-A_kaufm.'!F49,0) -> 0 | S37: =ROUND('Erträge-A_kaufm.'!G49,0) -> 0 | T37: =ROUND('Erträge-A_kaufm.'!H49,0) -> 0 | U37: =ROUND('Erträge-A_kaufm.'!I49,0) -> 0 | X37: =IF(AND(SUM(C37:N37)+SUM(P37:U37)=0,O37=0),"weg","ok") -> weg
A38: Satzart1 | B38: 620 | C38: =ROUND('Aufw.-A_kaufm.'!D50,0) -> 0 | D38: =ROUND('Aufw.-A_kaufm.'!E50,0) -> 0 | E38: =ROUND('Aufw.-A_kaufm.'!F50,0) -> 0 | F38: =ROUND('Aufw.-A_kaufm.'!G50,0) -> 0 | G38: =ROUND('Aufw.-A_kaufm.'!H50,0) -> 0 | H38: =ROUND('Aufw.-A_kaufm.'!I50,0) -> 0 | I38: =ROUND('Aufw.-A_kaufm.'!J50,0) -> 0 | J38: =ROUND('Aufw.-A_kaufm.'!K50,0) -> 0 | ... N38: =ROUND('Aufw.-A_kaufm.'!O50,0) -> 0 | O38: =ROUND('Aufw.-A_kaufm.'!Q50,0) -> 0 | P38: =ROUND('Erträge-A_kaufm.'!D50,0) -> 0 | Q38: =ROUND('Erträge-A_kaufm.'!E50,0) -> 0 | R38: =ROUND('Erträge-A_kaufm.'!F50,0) -> 0 | S38: =ROUND('Erträge-A_kaufm.'!G50,0) -> 0 | T38: =ROUND('Erträge-A_kaufm.'!H50,0) -> 0 | U38: =ROUND('Erträge-A_kaufm.'!I50,0) -> 0 | X38: =IF(AND(SUM(C38:N38)+SUM(P38:U38)=0,O38=0),"weg","ok") -> weg
A39: Satzart1 | B39: 640 | C39: =ROUND('Aufw.-A_kaufm.'!D51,0) -> 0 | D39: =ROUND('Aufw.-A_kaufm.'!E51,0) -> 0 | E39: =ROUND('Aufw.-A_kaufm.'!F51,0) -> 0 | F39: =ROUND('Aufw.-A_kaufm.'!G51,0) -> 0 | G39: =ROUND('Aufw.-A_kaufm.'!H51,0) -> 0 | H39: =ROUND('Aufw.-A_kaufm.'!I51,0) -> 0 | I39: =ROUND('Aufw.-A_kaufm.'!J51,0) -> 0 | J39: =ROUND('Aufw.-A_kaufm.'!K51,0) -> 0 | ... N39: =ROUND('Aufw.-A_kaufm.'!O51,0) -> 0 | O39: =ROUND('Aufw.-A_kaufm.'!Q51,0) -> 0 | P39: =ROUND('Erträge-A_kaufm.'!D51,0) -> 0 | Q39: =ROUND('Erträge-A_kaufm.'!E51,0) -> 0 | R39: =ROUND('Erträge-A_kaufm.'!F51,0) -> 0 | S39: =ROUND('Erträge-A_kaufm.'!G51,0) -> 0 | T39: =ROUND('Erträge-A_kaufm.'!H51,0) -> 0 | U39: =ROUND('Erträge-A_kaufm.'!I51,0) -> 0 | X39: =IF(AND(SUM(C39:N39)+SUM(P39:U39)=0,O39=0),"weg","ok") -> weg
A40: Satzart1 | B40: 650 | C40: =ROUND('Aufw.-A_kaufm.'!D52,0) -> 0 | D40: =ROUND('Aufw.-A_kaufm.'!E52,0) -> 0 | E40: =ROUND('Aufw.-A_kaufm.'!F52,0) -> 0 | F40: =ROUND('Aufw.-A_kaufm.'!G52,0) -> 0 | G40: =ROUND('Aufw.-A_kaufm.'!H52,0) -> 0 | H40: =ROUND('Aufw.-A_kaufm.'!I52,0) -> 0 | I40: =ROUND('Aufw.-A_kaufm.'!J52,0) -> 0 | J40: =ROUND('Aufw.-A_kaufm.'!K52,0) -> 0 | ... N40: =ROUND('Aufw.-A_kaufm.'!O52,0) -> 0 | O40: =ROUND('Aufw.-A_kaufm.'!Q52,0) -> 0 | P40: =ROUND('Erträge-A_kaufm.'!D52,0) -> 0 | Q40: =ROUND('Erträge-A_kaufm.'!E52,0) -> 0 | R40: =ROUND('Erträge-A_kaufm.'!F52,0) -> 0 | S40: =ROUND('Erträge-A_kaufm.'!G52,0) -> 0 | T40: =ROUND('Erträge-A_kaufm.'!H52,0) -> 0 | U40: =ROUND('Erträge-A_kaufm.'!I52,0) -> 0 | X40: =IF(AND(SUM(C40:N40)+SUM(P40:U40)=0,O40=0),"weg","ok") -> weg
A41: Satzart1 | B41: 670 | C41: =ROUND('Aufw.-A_kaufm.'!D54,0) -> 0 | D41: =ROUND('Aufw.-A_kaufm.'!E54,0) -> 0 | E41: =ROUND('Aufw.-A_kaufm.'!F54,0) -> 0 | F41: =ROUND('Aufw.-A_kaufm.'!G54,0) -> 0 | G41: =ROUND('Aufw.-A_kaufm.'!H54,0) -> 0 | H41: =ROUND('Aufw.-A_kaufm.'!I54,0) -> 0 | I41: =ROUND('Aufw.-A_kaufm.'!J54,0) -> 0 | J41: =ROUND('Aufw.-A_kaufm.'!K54,0) -> 0 | ... N41: =ROUND('Aufw.-A_kaufm.'!O54,0) -> 0 | O41: =ROUND('Aufw.-A_kaufm.'!Q54,0) -> 0 | P41: =ROUND('Erträge-A_kaufm.'!D54,0) -> 0 | Q41: =ROUND('Erträge-A_kaufm.'!E54,0) -> 0 | R41: =ROUND('Erträge-A_kaufm.'!F54,0) -> 0 | S41: =ROUND('Erträge-A_kaufm.'!G54,0) -> 0 | T41: =ROUND('Erträge-A_kaufm.'!H54,0) -> 0 | U41: =ROUND('Erträge-A_kaufm.'!I54,0) -> 0 | X41: =IF(AND(SUM(C41:N41)+SUM(P41:U41)=0,O41=0),"weg","ok") -> weg
A42: Satzart1 | B42: 675 | C42: =ROUND('Aufw.-A_kaufm.'!D55,0) -> 0 | D42: =ROUND('Aufw.-A_kaufm.'!E55,0) -> 0 | E42: =ROUND('Aufw.-A_kaufm.'!F55,0) -> 0 | F42: =ROUND('Aufw.-A_kaufm.'!G55,0) -> 0 | G42: =ROUND('Aufw.-A_kaufm.'!H55,0) -> 0 | H42: =ROUND('Aufw.-A_kaufm.'!I55,0) -> 0 | I42: =ROUND('Aufw.-A_kaufm.'!J55,0) -> 0 | J42: =ROUND('Aufw.-A_kaufm.'!K55,0) -> 0 | ... N42: =ROUND('Aufw.-A_kaufm.'!O55,0) -> 0 | O42: =ROUND('Aufw.-A_kaufm.'!Q55,0) -> 0 | P42: =ROUND('Erträge-A_kaufm.'!D55,0) -> 0 | Q42: =ROUND('Erträge-A_kaufm.'!E55,0) -> 0 | R42: =ROUND('Erträge-A_kaufm.'!F55,0) -> 0 | S42: =ROUND('Erträge-A_kaufm.'!G55,0) -> 0 | T42: =ROUND('Erträge-A_kaufm.'!H55,0) -> 0 | U42: =ROUND('Erträge-A_kaufm.'!I55,0) -> 0 | X42: =IF(AND(SUM(C42:N42)+SUM(P42:U42)=0,O42=0),"weg","ok") -> weg
A43: Satzart1 | B43: 680 | C43: =ROUND('Aufw.-A_kaufm.'!D56,0) -> 0 | D43: =ROUND('Aufw.-A_kaufm.'!E56,0) -> 0 | E43: =ROUND('Aufw.-A_kaufm.'!F56,0) -> 0 | F43: =ROUND('Aufw.-A_kaufm.'!G56,0) -> 0 | G43: =ROUND('Aufw.-A_kaufm.'!H56,0) -> 0 | H43: =ROUND('Aufw.-A_kaufm.'!I56,0) -> 0 | I43: =ROUND('Aufw.-A_kaufm.'!J56,0) -> 0 | J43: =ROUND('Aufw.-A_kaufm.'!K56,0) -> 0 | ... N43: =ROUND('Aufw.-A_kaufm.'!O56,0) -> 0 | O43: =ROUND('Aufw.-A_kaufm.'!Q56,0) -> 0 | P43: =ROUND('Erträge-A_kaufm.'!D56,0) -> 0 | Q43: =ROUND('Erträge-A_kaufm.'!E56,0) -> 0 | R43: =ROUND('Erträge-A_kaufm.'!F56,0) -> 0 | S43: =ROUND('Erträge-A_kaufm.'!G56,0) -> 0 | T43: =ROUND('Erträge-A_kaufm.'!H56,0) -> 0 | U43: =ROUND('Erträge-A_kaufm.'!I56,0) -> 0 | X43: =IF(AND(SUM(C43:N43)+SUM(P43:U43)=0,O43=0),"weg","ok") -> weg
...
