Workbook

Sheet SEE_Januar_BarrFrei
A1: © Landesamt für Statistik Niedersachsen, Hannover 2025. Vervielfältigung und Verbreitung, auch auszugsweise, mit Quellenangabe gestattet. | F1: Zeilenende
A2: Güterumschlag der Seeschifffahrt im Januar 2025 nach Güterabteilungen im Sinne des NST-2007 1) | F2: Zeilenende
A3: Güterabteilungen | B3: Güterumschlag Januar 2025 in Tonnen | C3: Veränderung gegenüber Vorjahresmonat in % | D3: Güterumschlag Januar-Januar 2025 in Tonnen | E3: Veränderung gegenüber Vorjahreszeitraum in % | F3: Zeilenende | G3: Berichtsmonat Vorjahr | H3: Berichtszeitraum Vorjahr
A4: 01 Erzeugnisse der Land- und Forstwirtschaft sowie der Fischerei | B4: 13739 | C4: =(B4*100)/G4-100 -> -63.276489 | D4: =B4 -> 13739 | E4: =(D4*100)/H4-100 -> -63.276489 | F4: Zeilenende | G4: 37412 | H4: 37412
A5: 02 Kohle, rohes Erdöl und Erdgas | B5: 2046180.9 | C5: =(B5*100)/G5-100 -> -5.3169211 | D5: =B5 -> 2046180.9 | E5: =(D5*100)/H5-100 -> -5.3169211 | F5: Zeilenende | G5: 2161084 | H5: 2161084
A6: 03 Erze, Steine und Erden, sonstige Bergbauerzeugnisse | B6: 730917 | C6: =(B6*100)/G6-100 -> 67.593978 | D6: =B6 -> 730917 | E6: =(D6*100)/H6-100 -> 67.593978 | F6: Zeilenende | G6: 436123.67 | H6: 436123.67
A7: 04 Nahrungs- und Genussmittel | B7: 166859 | C7: =(B7*100)/G7-100 -> -19.670419 | D7: =B7 -> 166859 | E7: =(D7*100)/H7-100 -> -19.670419 | F7: Zeilenende | G7: 207718 | H7: 207718
A8: 05 Textilien, Bekleidung, Leder und Lederwaren | C8: =(B8*100)/G8-100 -> #DIV/0! | D8: =B8 -> 0 | E8: =(D8*100)/H8-100 -> #DIV/0! | F8: Zeilenende | G8: 0 | H8: 0
A9: 06 Holzwaren, Papier, Pappe, Druckerzeugnisse | B9: 183905 | C9: =(B9*100)/G9-100 -> 14.43995 | D9: =B9 -> 183905 | E9: =(D9*100)/H9-100 -> 14.43995 | F9: Zeilenende | G9: 160700 | H9: 160700
A10: 07 Kokerei- und Mineralölerzeugnisse | B10: 218404 | C10: =(B10*100)/G10-100 -> 58.969917 | D10: =B10 -> 218404 | E10: =(D10*100)/H10-100 -> 58.969917 | F10: Zeilenende | G10: 137387 | H10: 137387
A11: 08 Chemische Erzeugnisse etc. | B11: 306475.55 | C11: =(B11*100)/G11-100 -> 46.28467 | D11: =B11 -> 306475.55 | E11: =(D11*100)/H11-100 -> 46.28467 | F11: Zeilenende | G11: 209506.27 | H11: 209506.27
A12: 09 Sonstige Mineralerzeugnisse (Glas, Zement, Gips etc.) | B12: 744.78 | C12: =(B12*100)/G12-100 -> 463.50155 | D12: =B12 -> 744.78 | E12: =(D12*100)/H12-100 -> 463.50155 | F12: Zeilenende | G12: 132.17 | H12: 132.17
A13: 10 Metalle und Metallerzeugnisse | B13: 45196.599 | C13: =(B13*100)/G13-100 -> -24.805476 | D13: =B13 -> 45196.599 | E13: =(D13*100)/H13-100 -> -24.805476 | F13: Zeilenende | G13: 60106.238 | H13: 60106.238
A14: 11 Maschinen und Ausrüstungen, Haushaltsgeräte etc. | B14: 34429 | C14: =(B14*100)/G14-100 -> 91.389182 | D14: =B14 -> 34429 | E14: =(D14*100)/H14-100 -> 91.389182 | F14: Zeilenende | G14: 17989 | H14: 17989
A15: 12 Fahrzeuge | B15: 218789 | C15: =(B15*100)/G15-100 -> 13.971956 | D15: =B15 -> 218789 | E15: =(D15*100)/H15-100 -> 13.971956 | F15: Zeilenende | G15: 191967.4 | H15: 191967.4
A16: 13 Möbel, Schmuck, Musikinstrumente, Sportgeräte etc. | B16: 139.56 | C16: =(B16*100)/G16-100 -> -16.720372 | D16: =B16 -> 139.56 | E16: =(D16*100)/H16-100 -> -16.720372 | F16: Zeilenende | G16: 167.58 | H16: 167.58
A17: 14 Sekundärrohstoffe, Abfälle | B17: 33148.08 | C17: =(B17*100)/G17-100 -> -25.12768 | D17: =B16 -> 139.56 | E17: =(D17*100)/H17-100 -> -16.720372 | F17: Zeilenende | G17: 44272.81 | H17: 167.58
A18: 15 Post, Pakete | B18: 0 | C18: =(B18*100)/G18-100 -> #DIV/0! | D18: =B18 -> 0 | E18: =(D18*100)/H18-100 -> #DIV/0! | F18: Zeilenende | G18: 0 | H18: 0
A19: 16 Geräte und Material für die Güterbeförderung2) | B19: 4944 | C19: =(B19*100)/G19-100 -> -11.619592 | D19: =B19 -> 4944 | E19: =(D19*100)/H19-100 -> -11.619592 | F19: Zeilenende | G19: 5594 | H19: 5594
A20: 17 Umzugsgut und sonstige nichtmarktbestimmte Güter | B20: 0 | C20: =(B20*100)/G20-100 -> #DIV/0! | D20: =B20 -> 0 | E20: =(D20*100)/H20-100 -> #DIV/0! | F20: Zeilenende | G20: 0 | H20: 0
A21: 18 Sammelgut | B21: 456 | C21: =(B21*100)/G21-100 -> -76.519053 | D21: =B21 -> 456 | E21: =(D21*100)/H21-100 -> -76.519053 | F21: Zeilenende | G21: 1942 | H21: 1942
A22: 19 Gutart unbekannt3) | B22: 783983 | C22: =(B22*100)/G22-100 -> 73.634646 | D22: =B22 -> 783983 | E22: =(D22*100)/H22-100 -> 73.634646 | F22: Zeilenende | G22: 451513 | H22: 451513
A23: 20 Sonstige Güter a.n.g. | B23: 2474 | C23: =(B23*100)/G23-100 -> #DIV/0! | D23: =B23 -> 2474 | E23: =(D23*100)/H23-100 -> #DIV/0! | F23: Zeilenende | G23: 0 | H23: 0
A24: Insgesamt | B24: 4790784.4 | C24: =(B24*100)/G24-100 -> 16.179233 | D24: =B24 -> 4790784.4 | E24: =(D24*100)/H24-100 -> 16.179233 | F24: Zeilenende | G24: 4123615.1 | H24: 4123615.1
A25: Nächste Zeilen: Fußnoten 1-3 | E25: Zeilenende | F25: Zeilenende
A26: 1) Einheitliches Güterverzeichnis der Verkehrsstatistiken (NST-2007) | E26: Zeilenende | F26: Zeilenende
A27: 2) NST 16.2 - Paletten & Verpackungsmaterial; NST 16.1 - Leere Container und Wechselbehälter zählen nicht zum Seegüterumschlag | E27: Zeilenende | F27: Zeilenende
A28: 3) Nicht identifizierbare Güter in Containern sowie sonstige nichtidentifizierbare Güter | E28: Zeilenende | F28: Zeilenende
A29: Güterumschlag der Seeschifffahrt im Januar 2025 nach ausgewählten Häfen | E29: Zeilenende | F29: Zeilenende
A30: Ausgewählte Häfen | B30: Güterumschlag Januar 2025 in Tonnen | C30: Veränderung gegenüber Vorjahresmonat in % | D30: Güterumschlag Januar-Januar 2025 in Tonnen | E30: Veränderung gegenüber Vorjahreszeitraum in % | F30: Zeilenende | G30: Berichtsmonat Vorjahr | H30: Berichtszeitraum Vorjahr
A31: Brake | B31: 369826 | C31: =SUM(B31/G31*100-100) -> -9.3528178 | D31: =B31 -> 369826 | E31: =SUM(D31/H31*100-100) -> -9.3528178 | F31: Zeilenende | G31: 407984 | H31: 407984
A32: Bützfleth | B32: 434205 | C32: =SUM(B32/G32*100-100) -> 13.658494 | D32: =B32 -> 434205 | E32: =SUM(D32/H32*100-100) -> 13.658494 | F32: Zeilenende | G32: 382026 | H32: 382026
A33: Cuxhaven | B33: 384453 | C33: =SUM(B33/G33*100-100) -> 164.93262 | D33: =B33 -> 384453 | E33: =SUM(D33/H33*100-100) -> 164.93262 | F33: Zeilenende | G33: 145113.5 | H33: 145113.5
A34: Emden | B34: 415701 | C34: =SUM(B34/G34*100-100) -> 31.905759 | D34: =B34 -> 415701 | E34: =SUM(D34/H34*100-100) -> 31.905759 | F34: Zeilenende | G34: 315150 | H34: 315150
A35: JadeWeserPort | B35: 679612 | C35: =SUM(B35/G35*100-100) -> 100.49503 | D35: =B35 -> 679612 | E35: =SUM(D35/H35*100-100) -> 100.49503 | F35: Zeilenende | G35: 338967 | H35: 338967
A36: Nordenham | B36: 138211.02 | C36: =SUM(B36/G36*100-100) -> 153.99821 | D36: =B36 -> 138211.02 | E36: =SUM(D36/H36*100-100) -> 153.99821 | F36: Zeilenende | G36: 54414.168 | H36: 54414.168
A37: Papenburg | B37: 42785 | C37: =SUM(B37/G37*100-100) -> 6.4541813 | D37: =B37 -> 42785 | E37: =SUM(D37/H37*100-100) -> 6.4541813 | F37: Zeilenende | G37: 40191 | H37: 40191
A38: Wilhelmshaven | B38: 2247774 | C38: =SUM(B38/G38*100-100) -> -5.5928028 | D38: =B38 -> 2247774 | E38: =SUM(D38/H38*100-100) -> -5.5928028 | F38: Zeilenende | G38: 2380935 | H38: 2380935
A39: Übrige Seehäfen in Niedersachsen | B39: =B40-B31-B32-B33-B34-B35-B36-B37-B38 -> 78217.42 | C39: =SUM(B39/G39*100-100) -> 32.94491 | D39: =B39 -> 78217.42 | E39: =SUM(D39/H39*100-100) -> 32.94491 | F39: Zeilenende | G39: 58834.46 | H39: 58834.46
A40: Insgesamt | B40: =B24 -> 4790784.4 | C40: =SUM(B40/G40*100-100) -> 16.179233 | D40: =B40 -> 4790784.4 | E40: =SUM(D40/H40*100-100) -> 16.179233 | F40: Zeilenende | G40: 4123615.1 | H40: 4123615.1
A41: Spaltenende | B41: Spaltenende | C41: Spaltenende | D41: Spaltenende | E41: Spaltenende | F41: Tabellenende

Sheet SEE_Februar_BarrFrei
A1: © Landesamt für Statistik Niedersachsen, Hannover 2025. Vervielfältigung und Verbreitung, auch auszugsweise, mit Quellenangabe gestattet. | F1: Zeilenende
A2: Güterumschlag der Seeschifffahrt im Februar 2025 nach Güterabteilungen im Sinne des NST-2007 1) | F2: Zeilenende
A3: Güterabteilungen | B3: Güterumschlag Februar 2025 in Tonnen | C3: Veränderung gegenüber Vorjahresmonat in % | D3: Güterumschlag Januar-Februar 2025 in Tonnen | E3: Veränderung gegenüber Vorjahreszeitraum in % | F3: Zeilenende | G3: Berichtsmonat Vorjahr | H3: Berichtszeitraum Vorjahr
A4: 01 Erzeugnisse der Land- und Forstwirtschaft sowie der Fischerei | B4: 27098 | C4: =(B4*100)/G4-100 -> 116.95757 | D4: =B4+SEE_Januar_BarrFrei!D4 -> 40837 | E4: =(D4*100)/H4-100 -> -18.165605 | F4: Zeilenende | G4: 12490 | H4: 49902
A5: 02 Kohle, rohes Erdöl und Erdgas | B5: 1867454.9 | C5: =(B5*100)/G5-100 -> -3.7813968 | D5: =B5+SEE_Januar_BarrFrei!D5 -> 3913635.8 | E5: =(D5*100)/H5-100 -> -4.5903811 | F5: Zeilenende | G5: 1940846 | H5: 4101930
A6: 03 Erze, Steine und Erden, sonstige Bergbauerzeugnisse | B6: 621087 | C6: =(B6*100)/G6-100 -> 100.934 | D6: =B6+SEE_Januar_BarrFrei!D6 -> 1352004 | E6: =(D6*100)/H6-100 -> 81.42258 | F6: Zeilenende | G6: 309100 | H6: 745223.67
A7: 04 Nahrungs- und Genussmittel | B7: 171310 | C7: =(B7*100)/G7-100 -> -14.341145 | D7: =B7+SEE_Januar_BarrFrei!D7 -> 338169 | E7: =(D7*100)/H7-100 -> -17.056283 | F7: Zeilenende | G7: 199991 | H7: 407709
A8: 05 Textilien, Bekleidung, Leder und Lederwaren | C8: =(B8*100)/G8-100 -> #DIV/0! | D8: =B8+SEE_Januar_BarrFrei!D8 -> 0 | E8: =(D8*100)/H8-100 -> #DIV/0! | F8: Zeilenende | G8: 0 | H8: 0
A9: 06 Holzwaren, Papier, Pappe, Druckerzeugnisse | B9: 132982 | C9: =(B9*100)/G9-100 -> -24.962194 | D9: =B9+SEE_Januar_BarrFrei!D9 -> 316887 | E9: =(D9*100)/H9-100 -> -6.2242543 | F9: Zeilenende | G9: 177220 | H9: 337920
A10: 07 Kokerei- und Mineralölerzeugnisse | B10: 144626 | C10: =(B10*100)/G10-100 -> -12.800786 | D10: =B10+SEE_Januar_BarrFrei!D10 -> 363030 | E10: =(D10*100)/H10-100 -> 19.715477 | F10: Zeilenende | G10: 165857 | H10: 303244
A11: 08 Chemische Erzeugnisse etc. | B11: 311039.16 | C11: =(B11*100)/G11-100 -> 8.9467049 | D11: =B11+SEE_Januar_BarrFrei!D11 -> 617514.71 | E11: =(D11*100)/H11-100 -> 24.749719 | F11: Zeilenende | G11: 285496.62 | H11: 495002.89
A12: 09 Sonstige Mineralerzeugnisse (Glas, Zement, Gips etc.) | B12: 913.74 | C12: =(B12*100)/G12-100 -> 743.94569 | D12: =B12+SEE_Januar_BarrFrei!D12 -> 1658.52 | E12: =(D12*100)/H12-100 -> 589.78539 | F12: Zeilenende | G12: 108.27 | H12: 240.44
A13: 10 Metalle und Metallerzeugnisse | B13: 67367.991 | C13: =(B13*100)/G13-100 -> 26.31046 | D13: =B13+SEE_Januar_BarrFrei!D13 -> 112564.59 | E13: =(D13*100)/H13-100 -> -0.77298929 | F13: Zeilenende | G13: 53335.243 | H13: 113441.48
A14: 11 Maschinen und Ausrüstungen, Haushaltsgeräte etc. | B14: 53324 | C14: =(B14*100)/G14-100 -> 562.65689 | D14: =B14+SEE_Januar_BarrFrei!D14 -> 87753 | E14: =(D14*100)/H14-100 -> 237.04486 | F14: Zeilenende | G14: 8047 | H14: 26036
A15: 12 Fahrzeuge | B15: 240561.5 | C15: =(B15*100)/G15-100 -> 16.952572 | D15: =B15+SEE_Januar_BarrFrei!D15 -> 459350.5 | E15: =(D15*100)/H15-100 -> 15.513698 | F15: Zeilenende | G15: 205691.5 | H15: 397658.9
A16: 13 Möbel, Schmuck, Musikinstrumente, Sportgeräte etc. | B16: 142.3 | C16: =(B16*100)/G16-100 -> 64.680014 | D16: =B16+SEE_Januar_BarrFrei!D16 -> 281.86 | E16: =(D16*100)/H16-100 -> 10.972873 | F16: Zeilenende | G16: 86.41 | H16: 253.99
A17: 14 Sekundärrohstoffe, Abfälle | B17: 30545.28 | C17: =(B17*100)/G17-100 -> -38.089146 | D17: =B17+SEE_Januar_BarrFrei!D17 -> 30684.84 | E17: =(D17*100)/H17-100 -> -38.01681 | F17: Zeilenende | G17: 49337.52 | H17: 49505.1
A18: 15 Post, Pakete | C18: =(B18*100)/G18-100 -> #DIV/0! | D18: =B18+SEE_Januar_BarrFrei!D18 -> 0 | E18: =(D18*100)/H18-100 -> #DIV/0! | F18: Zeilenende | G18: 0 | H18: 0
A19: 16 Geräte und Material für die Güterbeförderung2) | B19: 4576 | C19: =(B19*100)/G19-100 -> -10.204082 | D19: =B19+SEE_Januar_BarrFrei!D19 -> 9520 | E19: =(D19*100)/H19-100 -> -10.944808 | F19: Zeilenende | G19: 5096 | H19: 10690
A20: 17 Umzugsgut und sonstige nichtmarktbestimmte Güter | C20: =(B20*100)/G20-100 -> #DIV/0! | D20: =B20+SEE_Januar_BarrFrei!D20 -> 0 | E20: =(D20*100)/H20-100 -> #DIV/0! | F20: Zeilenende | H20: 0
A21: 18 Sammelgut | B21: 1123 | C21: =(B21*100)/G21-100 -> 44.344473 | D21: =B22+SEE_Januar_BarrFrei!D21 -> 757686 | E21: =(D21*100)/H21-100 -> 55.490069 | F21: Zeilenende | G21: 778 | H21: 487289
A22: 19 Gutart unbekannt3) | B22: 757230 | C22: =(B22*100)/G22-100 -> 56.018271 | D22: =B22+SEE_Januar_BarrFrei!D22 -> 1541213 | E22: =(D22*100)/H22-100 -> 64.508358 | F22: Zeilenende | G22: 485347 | H22: 936860
A23: 20 Sonstige Güter a.n.g. | B23: 2873 | C23: =(B23*100)/G23-100 -> #DIV/0! | D23: =B23+SEE_Januar_BarrFrei!D23 -> 5347 | E23: =(D23*100)/H23-100 -> #DIV/0! | F23: Zeilenende | G23: 0 | H23: 0
A24: Insgesamt | B24: 4434253.9 | C24: =(B24*100)/G24-100 -> 13.733008 | D24: =B24+SEE_Januar_BarrFrei!D24 -> 9225038.3 | E24: =(D24*100)/H24-100 -> 14.990392 | F24: Zeilenende | G24: 3898827.6 | H24: 8022442.7
A25: Nächste Zeilen: Fußnoten 1-3 | E25: Zeilenende | F25: Zeilenende
A26: 1) Einheitliches Güterverzeichnis der Verkehrsstatistiken (NST-2007) | F26: Zeilenende
A27: 2) NST 16.2 - Paletten & Verpackungsmaterial; NST 16.1 - Leere Container und Wechselbehälter zählen nicht zum Seegüterumschlag | F27: Zeilenende
A28: 3) Nicht identifizierbare Güter in Containern sowie sonstige nichtidentifizierbare Güter | E28: Zeilenende | F28: Zeilenende
A29: Güterumschlag der Seeschifffahrt im Februar 2025 nach ausgewählten Häfen | E29: Zeilenende | F29: Zeilenende
A30: Ausgewählte Häfen | B30: Güterumschlag Februar 2025 in Tonnen | C30: Veränderung gegenüber Vorjahresmonat in % | D30: Güterumschlag Januar-Februar 2025 in Tonnen | E30: Veränderung gegenüber Vorjahreszeitraum in % | F30: Zeilenende | G30: Berichtsmonat Vorjahr | H30: Berichtszeitraum Vorjahr
A31: Brake | B31: 373236 | C31: =SUM(B31/G31*100-100) -> -4.9414473 | D31: =B31+SEE_Januar_BarrFrei!D31 -> 743062 | E31: =SUM(D31/H31*100-100) -> -7.1894102 | F31: Zeilenende | G31: 392638 | H31: 800622
A32: Bützfleth | B32: 443189 | C32: =SUM(B32/G32*100-100) -> 70.228154 | D32: =B32+SEE_Januar_BarrFrei!D32 -> 877394 | E32: =SUM(D32/H32*100-100) -> 36.585738 | F32: Zeilenende | G32: 260350 | H32: 642376
A33: Cuxhaven | B33: 364716 | C33: =SUM(B33/G33*100-100) -> 110.38981 | D33: =B33+SEE_Januar_BarrFrei!D33 -> 749169 | E33: =SUM(D33/H33*100-100) -> 135.24301 | F33: Zeilenende | G33: 173352.5 | H33: 318466
A34: Emden | B34: 380342 | C34: =SUM(B34/G34*100-100) -> 25.49849 | D34: =B34+SEE_Januar_BarrFrei!D34 -> 796043 | E34: =SUM(D34/H34*100-100) -> 28.76475 | F34: Zeilenende | G34: 303065 | H34: 618215
A35: JadeWeserPort | B35: 655322 | C35: =SUM(B35/G35*100-100) -> 80.379905 | D35: =B35+SEE_Januar_BarrFrei!D35 -> 1334934 | E35: =SUM(D35/H35*100-100) -> 90.088969 | F35: Zeilenende | G35: 363301 | H35: 702268
A36: Nordenham | B36: 114182.06 | C36: =SUM(B36/G36*100-100) -> 76.136586 | D36: =B36+SEE_Januar_BarrFrei!D36 -> 252393.08 | E36: =SUM(D36/H36*100-100) -> 111.66807 | F36: Zeilenende | G36: 64825.863 | H36: 119240.03
A37: Papenburg | B37: 51272 | C37: =SUM(B37/G37*100-100) -> 2.6219927 | D37: =B37+SEE_Januar_BarrFrei!D37 -> 94057 | E37: =SUM(D37/H37*100-100) -> 4.3304161 | F37: Zeilenende | G37: 49962 | H37: 90153
A38: Wilhelmshaven | B38: 1996482 | C38: =SUM(B38/G38*100-100) -> -9.5097027 | D38: =B38+SEE_Januar_BarrFrei!D38 -> 4244256 | E38: =SUM(D38/H38*100-100) -> -7.4766924 | F38: Zeilenende | G38: 2206294 | H38: 4587229
A39: Übrige Seehäfen in Niedersachsen | B39: =B40-B31-B32-B33-B34-B35-B36-B37-B38 -> 55512.82 | C39: =SUM(B39/G39*100-100) -> -34.720905 | D39: =B39+SEE_Januar_BarrFrei!D39 -> 133730.24 | E39: =SUM(D39/H39*100-100) -> -7.0502273 | F39: Zeilenende | G39: 85039.2 | H39: 143873.66
A40: Insgesamt | B40: =B24 -> 4434253.9 | C40: =SUM(B40/G40*100-100) -> 13.733008 | D40: =B40+SEE_Januar_BarrFrei!D40 -> 9225038.3 | E40: =SUM(D40/H40*100-100) -> 14.990392 | F40: Zeilenende | G40: 3898827.6 | H40: 8022442.7
A41: Spaltenende | B41: Spaltenende | C41: Spaltenende | D41: Spaltenende | E41: Spaltenende | F41: Tabellenende

Sheet SEE_März_BarrFrei
A1: © Landesamt für Statistik Niedersachsen, Hannover 2025. Vervielfältigung und Verbreitung, auch auszugsweise, mit Quellenangabe gestattet. | F1: Zeilenende
A2: Güterumschlag der Seeschifffahrt im März 2025 nach Güterabteilungen im Sinne des NST-2007 1) | F2: Zeilenende
A3: Güterabteilungen | B3: Güterumschlag März 2025 in Tonnen | C3: Veränderung gegenüber Vorjahresmonat in % | D3: Güterumschlag Januar-März 2025 in Tonnen | E3: Veränderung gegenüber Vorjahreszeitraum in % | F3: Zeilenende | G3: Berichtsmonat Vorjahr | H3: Berichtszeitraum Vorjahr
A4: 01 Erzeugnisse der Land- und Forstwirtschaft sowie der Fischerei | B4: 22691 | C4: =(B4*100)/G4-100 -> -34.85588 | D4: =B4+SEE_Februar_BarrFrei!D4 -> 63528 | E4: =(D4*100)/H4-100 -> -25.026554 | F4: Zeilenende | G4: 34832 | H4: 84734
A5: 02 Kohle, rohes Erdöl und Erdgas | B5: 1304043 | C5: =(B5*100)/G5-100 -> -44.995228 | D5: =B5+SEE_Februar_BarrFrei!D5 -> 5217678.8 | E5: =(D5*100)/H5-100 -> -19.389599 | F5: Zeilenende | G5: 2370781.6 | H5: 6472711.6
A6: 03 Erze, Steine und Erden, sonstige Bergbauerzeugnisse | B6: 515467 | C6: =(B6*100)/G6-100 -> -31.64864 | D6: =B6+SEE_Februar_BarrFrei!D6 -> 1867471 | E6: =(D6*100)/H6-100 -> 24.550655 | F6: Zeilenende | G6: 754143 | H6: 1499366.7
A7: 04 Nahrungs- und Genussmittel | B7: 217274 | C7: =(B7*100)/G7-100 -> -5.7751603 | D7: =B7+SEE_Februar_BarrFrei!D7 -> 555443 | E7: =(D7*100)/H7-100 -> -12.980887 | F7: Zeilenende | G7: 230591 | H7: 638300
A8: 05 Textilien, Bekleidung, Leder und Lederwaren | B8: 0 | C8: =(B8*100)/G8-100 -> #DIV/0! | D8: =B8+SEE_Februar_BarrFrei!D8 -> 0 | E8: =(D8*100)/H8-100 -> #DIV/0! | F8: Zeilenende | G8: 0 | H8: 0
A9: 06 Holzwaren, Papier, Pappe, Druckerzeugnisse | B9: 173807 | C9: =(B9*100)/G9-100 -> 19.841275 | D9: =B9+SEE_Februar_BarrFrei!D9 -> 490694 | E9: =(D9*100)/H9-100 -> 1.6032682 | F9: Zeilenende | G9: 145031 | H9: 482951
A10: 07 Kokerei- und Mineralölerzeugnisse | B10: 332851 | C10: =(B10*100)/G10-100 -> 55.681164 | D10: =B10+SEE_Februar_BarrFrei!D10 -> 695881 | E10: =(D10*100)/H10-100 -> 34.587571 | F10: Zeilenende | G10: 213803 | H10: 517047
A11: 08 Chemische Erzeugnisse etc. | B11: 329588 | C11: =(B11*100)/G11-100 -> 22.031774 | D11: =B11+SEE_Februar_BarrFrei!D11 -> 947102.71 | E11: =(D11*100)/H11-100 -> 23.790256 | F11: Zeilenende | G11: 270083.76 | H11: 765086.64
A12: 09 Sonstige Mineralerzeugnisse (Glas, Zement, Gips etc.) | B12: 438.39 | C12: =(B12*100)/G12-100 -> 551.20321 | D12: =B12+SEE_Februar_BarrFrei!D12 -> 2096.91 | E12: =(D12*100)/H12-100 -> 581.34585 | F12: Zeilenende | G12: 67.32 | H12: 307.76
A13: 10 Metalle und Metallerzeugnisse | B13: 111277 | C13: =(B13*100)/G13-100 -> 111.363 | D13: =B13+SEE_Februar_BarrFrei!D13 -> 223841.59 | E13: =(D13*100)/H13-100 -> 34.772218 | F13: Zeilenende | G13: 52647.342 | H13: 166088.82
A14: 11 Maschinen und Ausrüstungen, Haushaltsgeräte etc. | B14: 50925 | C14: =(B14*100)/G14-100 -> 64.752507 | D14: =B14+SEE_Februar_BarrFrei!D14 -> 138678 | E14: =(D14*100)/H14-100 -> 143.52545 | F14: Zeilenende | G14: 30910 | H14: 56946
A15: 12 Fahrzeuge | B15: 272010.5 | C15: =(B15*100)/G15-100 -> -8.4505004 | D15: =B15+SEE_Februar_BarrFrei!D15 -> 731361 | E15: =(D15*100)/H15-100 -> 5.2655138 | F15: Zeilenende | G15: 297118.5 | H15: 694777.4
... A24: Insgesamt | B24: 4376825.7 | C24: =(B24*100)/G24-100 -> -11.454144 | D24: =B24+SEE_Februar_BarrFrei!D24 -> 13601864 | E24: =(D24*100)/H24-100 -> 4.9085601 | F24: Zeilenende | G24: 4943004.6 | H24: 12965447
A25: Nächste Zeilen: Fußnoten 1-3 | E25: Zeilenende | F25: Zeilenende
A26: 1) Einheitliches Güterverzeichnis der Verkehrsstatistiken (NST-2007) | E26: Zeilenende | F26: Zeilenende
A27: 2) NST 16.2 - Paletten & Verpackungsmaterial; NST 16.1 - Leere Container und Wechselbehälter zählen nicht zum Seegüterumschlag | E27: Zeilenende | F27: Zeilenende
A28: 3) Nicht identifizierbare Güter in Containern sowie sonstige nichtidentifizierbare Güter | E28: Zeilenende | F28: Zeilenende
A29: Güterumschlag der Seeschifffahrt im März 2025 nach ausgewählten Häfen | E29: Zeilenende | F29: Zeilenende
A30: Ausgewählte Häfen | B30: Güterumschlag März 2025 in Tonnen | C30: Veränderung gegenüber Vorjahresmonat in % | D30: Güterumschlag Januar-März 2025 in Tonnen | E30: Veränderung gegenüber Vorjahreszeitraum in % | F30: Zeilenende | G30: Berichtsmonat Vorjahr | H30: Berichtszeitraum Vorjahr
A31: Brake | B31: 495830 | C31: =SUM(B31/G31*100-100) -> 15.343369 | D31: =B31+SEE_Februar_BarrFrei!D31 -> 1238892 | E31: =SUM(D31/H31*100-100) -> 0.6824083 | F31: Zeilenende | G31: 429873 | H31: 1230495
A32: Bützfleth | B32: 418061 | C32: =SUM(B32/G32*100-100) -> -35.521926 | D32: =B32+SEE_Februar_BarrFrei!D32 -> 1295455 | E32: =SUM(D32/H32*100-100) -> 0.36428348 | F32: Zeilenende | G32: 648377 | H32: 1290753
A33: Cuxhaven | B33: 315959.5 | C33: =SUM(B33/G33*100-100) -> 75.382519 | D33: =B33+SEE_Februar_BarrFrei!D33 -> 1065128.5 | E33: =SUM(D33/H33*100-100) -> 113.61506 | F33: Zeilenende | G33: 180154.5 | H33: 498620.5
A34: Emden | B34: 365521 | C34: =SUM(B34/G34*100-100) -> -11.878059 | D34: =B34+SEE_Februar_BarrFrei!D34 -> 1161564 | E34: =SUM(D34/H34*100-100) -> 12.445148 | F34: Zeilenende | G34: 414790 | H34: 1033005
A35: JadeWeserPort | B35: 885460 | C35: =SUM(B35/G35*100-100) -> 150.7334 | D35: =B35+SEE_Februar_BarrFrei!D35 -> 2220394 | E35: =SUM(D35/H35*100-100) -> 110.38093 | F35: Zeilenende | G35: 353148 | H35: 1055416
A36: Nordenham | B36: 83286 | C36: =SUM(B36/G36*100-100) -> -34.19115 | D36: =B36+SEE_Februar_BarrFrei!D36 -> 335679.08 | E36: =SUM(D36/H36*100-100) -> 36.56734 | F36: Zeilenende | G36: 126557.45 | H36: 245797.48
A37: Papenburg | B37: 66947 | C37: =SUM(B37/G37*100-100) -> 14.454968 | D37: =B37+SEE_Februar_BarrFrei!D37 -> 161004 | E37: =SUM(D37/H37*100-100) -> 8.3144404 | F37: Zeilenende | G37: 58492 | H37: 148645
A38: Wilhelmshaven | B38: 1666252 | C38: =SUM(B38/G38*100-100) -> -37.196248 | D38: =B38+SEE_Februar_BarrFrei!D38 -> 5910508 | E38: =SUM(D38/H38*100-100) -> -18.36696 | F38: Zeilenende | G38: 2653109 | H38: 7240338
A39: Übrige Seehäfen in Niedersachsen | B39: =B40-B31-B32-B33-B34-B35-B36-B37-B38 -> 79509.2 | C39: =SUM(B39/G39*100-100) -> 1.2809475 | D39: =B39+SEE_Februar_BarrFrei!D39 -> 213239.44 | E39: =SUM(D39/H39*100-100) -> -4.1091565 | F39: Zeilenende | G39: 78503.61 | H39: 222377.27
A40: Insgesamt | B40: =B24 -> 4376825.7 | C40: =SUM(B40/G40*100-100) -> -11.454144 | D40: =B40+SEE_Februar_BarrFrei!D40 -> 13601864 | E40: =SUM(D40/H40*100-100) -> 4.9085601 | F40: Zeilenende | G40: 4943004.6 | H40: 12965447
A41: Spaltenende | B41: Spaltenende | C41: Spaltenende | D41: Spaltenende | E41: Spaltenende | F41: Tabellenende

Sheet SEE_April_BarrFrei
A1: © Landesamt für Statistik Niedersachsen, Hannover 2025. Vervielfältigung und Verbreitung, auch auszugsweise, mit Quellenangabe gestattet. | F1: Zeilenende
A2: Güterumschlag der Seeschifffahrt im April 2025 nach Güterabteilungen im Sinne des NST-2007 1) | F2: Zeilenende
A3: Güterabteilungen | B3: Güterumschlag April 2025 in Tonnen | C3: Veränderung gegenüber Vorjahresmonat in % | D3: Güterumschlag Januar-April 2025 in Tonnen | E3: Veränderung gegenüber Vorjahreszeitraum in % | F3: Zeilenende | G3: Berichtsmonat Vorjahr | H3: Berichtszeitraum Vorjahr
A4: 01 Erzeugnisse der Land- und Forstwirtschaft sowie der Fischerei | B4: 31680 | C4: =(B4*100)/G4-100 -> -40.97261 | D4: =B4+SEE_März_BarrFrei!D4 -> 95208 | E4: =(D4*100)/H4-100 -> -31.210081 | F4: Zeilenende | G4: 53670 | H4: 138404
A5: 02 Kohle, rohes Erdöl und Erdgas | B5: 1723995.9 | C5: =(B5*100)/G5-100 -> -19.75297 | D5: =B5+SEE_März_BarrFrei!D5 -> 6941674.7 | E5: =(D5*100)/H5-100 -> -19.48015 | F5: Zeilenende | G5: 2148361 | H5: 8621072.6
A6: 03 Erze, Steine und Erden, sonstige Bergbauerzeugnisse | B6: 760271 | C6: =(B6*100)/G6-100 -> 31.064711 | D6: =B6+SEE_März_BarrFrei!D6 -> 2627742 | E6: =(D6*100)/H6-100 -> 26.367792 | F6: Zeilenende | G6: 580073 | H6: 2079439.7
A7: 04 Nahrungs- und Genussmittel | B7: 161993 | C7: =(B7*100)/G7-100 -> -46.620644 | D7: =B7+SEE_März_BarrFrei!D7 -> 717436 | E7: =(D7*100)/H7-100 -> -23.82087 | F7: Zeilenende | G7: 303475 | H7: 941775
A8: 05 Textilien, Bekleidung, Leder und Lederwaren | C8: =(B8*100)/G8-100 -> #DIV/0! | D8: =B8+SEE_März_BarrFrei!D8 -> 0 | E8: =(D8*100)/H8-100 -> #DIV/0! | F8: Zeilenende | H8: 0
A9: 06 Holzwaren, Papier, Pappe, Druckerzeugnisse | B9: 142541 | C9: =(B9*100)/G9-100 -> 17.081605 | D9: =B9+SEE_März_BarrFrei!D9 -> 633235 | E9: =(D9*100)/H9-100 -> 4.7195616 | F9: Zeilenende | G9: 121745 | H9: 604696
A10: 07 Kokerei- und Mineralölerzeugnisse | B10: 211213 | C10: =(B10*100)/G10-100 -> 8.104802 | D10: =B10+SEE_März_BarrFrei!D10 -> 907094 | E10: =(D10*100)/H10-100 -> 27.324841 | F10: Zeilenende | G10: 195378 | H10: 712425
A11: 08 Chemische Erzeugnisse etc. | B11: 243894.79 | C11: =(B11*100)/G11-100 -> -27.926068 | D11: =B11+SEE_März_BarrFrei!D11 -> 1190997.5 | E11: =(D11*100)/H11-100 -> 7.9308566 | F11: Zeilenende | G11: 338395.29 | H11: 1103481.9
A12: 09 Sonstige Mineralerzeugnisse (Glas, Zement, Gips etc.) | B12: 36428.22 | C12: =(B12*100)/G12-100 -> 6453.1464 | D12: =B12+SEE_März_BarrFrei!D12 -> 38525.13 | E12: =(D12*100)/H12-100 -> 4360.7393 | F12: Zeilenende | G12: 555.889 | H12: 863.649
A13: 10 Metalle und Metallerzeugnisse | B13: 72581.603 | C13: =(B13*100)/G13-100 -> -1.5816198 | D13: =B13+SEE_März_BarrFrei!D13 -> 296423.19 | E13: =(D13*100)/H13-100 -> 23.593688 | F13: Zeilenende | G13: 73748.016 | H13: 239836.84
A14: 11 Maschinen und Ausrüstungen, Haushaltsgeräte etc. | B14: 65100 | C14: =(B14*100)/G14-100 -> 94.554855 | D14: =B14+SEE_März_BarrFrei!D14 -> 203778 | E14: =(D14*100)/H14-100 -> 125.40069 | F14: Zeilenende | G14: 33461 | H14: 90407
A15: 12 Fahrzeuge | B15: 253863.5 | C15: =(B15*100)/G15-100 -> 4.8365982 | D15: =B15+SEE_März_BarrFrei!D15 -> 985224.5 | E15: =(D15*100)/H15-100 -> 5.1546595 | F15: Zeilenende | G15: 242151.6 | H15: 936929
A16: 13 Möbel, Schmuck, Musikinstrumente, Sportgeräte etc. | B16: 22.98 | C16: =(B16*100)/G16-100 -> -90.850454 | D16: =B16+SEE_März_BarrFrei!D16 -> 382.36 | E16: =(D16*100)/H16-100 -> -37.894292 | F16: Zeilenende | G16: 251.16 | H16: 615.66
A17: 14 Sekundärrohstoffe, Abfälle | B17: 30662.6 | C17: =(B17*100)/G17-100 -> -21.767606 | D17: =B17+SEE_März_BarrFrei!D17 -> 92664.73 | E17: =(D17*100)/H17-100 -> -37.11469 | F17: Zeilenende | G17: 39194.25 | H17: 147355.13
A18: 15 Post, Pakete | C18: =(B18*100)/G18-100 -> #DIV/0! | D18: =B18+SEE_März_BarrFrei!D18 -> 0 | E18: =(D18*100)/H18-100 -> #DIV/0! | F18: Zeilenende | H18: 0
A19: 16 Geräte und Material für die Güterbeförderung2) | B19: 6308 | C19: =(B19*100)/G19-100 -> 1.6763378 | D19: =B19+SEE_März_BarrFrei!D19 -> 22302 | E19: =(D19*100)/H19-100 -> -2.5943396 | F19: Zeilenende | G19: 6204 | H19: 22896
A20: 17 Umzugsgut und sonstige nichtmarktbestimmte Güter | C20: =(B20*100)/G20-100 -> -100 | D20: =B20+SEE_März_BarrFrei!D20 -> 0 | E20: =(D20*100)/H20-100 -> -100 | F20: Zeilenende | G20: 2407 | H20: 2407
A21: 18 Sammelgut | B21: 3912 | C21: =(B21*100)/G21-100 -> 178.83108 | D21: =B21+SEE_März_BarrFrei!D21 -> 762812 | E21: =(D21*100)/H21-100 -> 55.446239 | F21: Zeilenende | G21: 1403 | H21: 490724
A22: 19 Gutart unbekannt3) | B22: 1163223 | C22: =(B22*100)/G22-100 -> 106.72354 | D22: =B22+SEE_März_BarrFrei!D22 -> 3709106 | E22: =(D22*100)/H22-100 -> 88.036477 | F22: Zeilenende | G22: 562695 | H22: 1972546
A23: 20 Sonstige Güter a.n.g. | B23: 0.81 | C23: =(B23*100)/G23-100 -> -99.95326 | D23: =B23+SEE_März_BarrFrei!D23 -> 8048.81 | E23: =(D23*100)/H23-100 -> 63.004828 | F23: Zeilenende | G23: 1733 | H23: 4937.774
A24: Insgesamt | B24: 4907691.4 | C24: =(B24*100)/G24-100 -> 4.3101903 | D24: =B24+SEE_März_BarrFrei!D24 -> 18509555 | E24: =(D24*100)/H24-100 -> 4.7492383 | F24: Zeilenende | G24: 4704901.2 | H24: 17670348
A25: Nächste Zeilen: Fußnoten 1-3 | E25: Zeilenende | F25: Zeilenende
A26: 1) Einheitliches Güterverzeichnis der Verkehrsstatistiken (NST-2007) | E26: Zeilenende | F26: Zeilenende
A27: 2) NST 16.2 - Paletten & Verpackungsmaterial; NST 16.1 - Leere Container und Wechselbehälter zählen nicht zum Seegüterumschlag | E27: Zeilenende | F27: Zeilenende
A28: 3) Nicht identifizierbare Güter in Containern sowie sonstige nichtidentifizierbare Güter | E28: Zeilenende | F28: Zeilenende
A29: Güterumschlag der Seeschifffahrt im April 2025 nach ausgewählten Häfen | E29: Zeilenende | F29: Zeilenende
A30: Ausgewählte Häfen | B30: Güterumschlag April 2025 in Tonnen | C30: Veränderung gegenüber Vorjahresmonat in % | D30: Güterumschlag Januar - April 2025 in Tonnen | E30: Veränderung gegenüber Vorjahreszeitraum in % | F30: Zeilenende | G30: Berichtsmonat Vorjahr | H30: Berichtszeitraum Vorjahr
A31: Brake | B31: 386419 | C31: =SUM(B31/G31*100-100) -> -22.205557 | D31: =B31+SEE_März_BarrFrei!D31 -> 1625311 | E31: =SUM(D31/H31*100-100) -> -5.8997935 | F31: Zeilenende | G31: 496718 | H31: 1727213
A32: Bützfleth | B32: 545254 | C32: =SUM(B32/G32*100-100) -> 8.2690971 | D32: =B32+SEE_März_BarrFrei!D32 -> 1840709 | E32: =SUM(D32/H32*100-100) -> 2.5828665 | F32: Zeilenende | G32: 503610 | H32: 1794363
A33: Cuxhaven | B33: 233900.5 | C33: =SUM(B33/G33*100-100) -> 5.9322379 | D33: =B33+SEE_März_BarrFrei!D33 -> 1299029 | E33: =SUM(D33/H33*100-100) -> 80.565523 | F33: Zeilenende | G33: 220802 | H33: 719422.5
A34: Emden | B34: 453132 | C34: =SUM(B34/G34*100-100) -> 15.484127 | D34: =B34+SEE_März_BarrFrei!D34 -> 1614696 | E34: =SUM(D34/H34*100-100) -> 13.281712 | F34: Zeilenende | G34: 392376 | H34: 1425381
A35: JadeWeserPort | B35: 1052579 | C35: =SUM(B35/G35*100-100) -> 148.76783 | D35: =B35+SEE_März_BarrFrei!D35 -> 3272973 | E35: =SUM(D35/H35*100-100) -> 121.36625 | F35: Zeilenende | G35: 423117 | H35: 1478533
A36: Nordenham | B36: 158474.1 | C36: =SUM(B36/G36*100-100) -> 83.797918 | D36: =B36+SEE_März_BarrFrei!D36 -> 494153.17 | E36: =SUM(D36/H36*100-100) -> 48.83262 | F36: Zeilenende | G36: 86221.921 | H36: 332019.4
A37: Papenburg | B37: 33560 | C37: =SUM(B37/G37*100-100) -> -48.706192 | D37: =B37+SEE_März_BarrFrei!D37 -> 194564 | E37: =SUM(D37/H37*100-100) -> -9.1128219 | F37: Zeilenende | G37: 65427 | H37: 214072
A38: Wilhelmshaven | B38: 1962942 | C38: =SUM(B38/G38*100-100) -> -19.18025 | D38: =B38+SEE_März_BarrFrei!D38 -> 7873450 | E38: =SUM(D38/H38*100-100) -> -18.571251 | F38: Zeilenende | G38: 2428790 | H38: 9669128
A39: Übrige Seehäfen in Niedersachsen | B39: =B40-B31-B32-B33-B34-B35-B36-B37-B38 -> 81430.8 | C39: =SUM(B39/G39*100-100) -> -7.2956882 | D39: =B39+SEE_März_BarrFrei!D39 -> 294670.24 | E39: =SUM(D39/H39*100-100) -> -5.011438 | F39: Zeilenende | G39: 87839.28 | H39: 310216.55
A40: Insgesamt | B40: =B24 -> 4907691.4 | C40: =SUM(B40/G40*100-100) -> 4.3101903 | D40: =B40+SEE_März_BarrFrei!D40 -> 18509555 | E40: =SUM(D40/H40*100-100) -> 4.7492383 | F40: Zeilenende | G40: 4704901.2 | H40: 17670348
A41: Spaltenende | B41: Spaltenende | C41: Spaltenende | D41: Spaltenende | E41: Spaltenende | F41: Tabellenende

Sheet SEE_Mai_Barrfrei
A1: © Landesamt für Statistik Niedersachsen, Hannover 2025. Vervielfältigung und Verbreitung, auch auszugsweise, mit Quellenangabe gestattet. | F1: Zeilenende
A2: Güterumschlag der Seeschifffahrt im Mai 2025 nach Güterabteilungen im Sinne des NST-2007 1) | F2: Zeilenende
A3: Güterabteilungen | B3: Güterumschlag Mai 2025 in Tonnen | C3: Veränderung gegenüber Vorjahresmonat in % | D3: Güterumschlag Januar - Mai 2025 in Tonnen | E3: Veränderung gegenüber Vorjahreszeitraum in % | F3: Zeilenende | G3: Berichtsmonat Vorjahr | H3: Berichtszeitraum Vorjahr
A4: 01 Erzeugnisse der Land- und Forstwirtschaft sowie der Fischerei | B4: 53336 | C4: =(B4*100)/G4-100 -> 52.028048 | D4: =B4+SEE_April_BarrFrei!D4 -> 148544 | E4: =(D4*100)/H4-100 -> -14.377446 | F4: Zeilenende | G4: 35083 | H4: 173487
A5: 02 Kohle, rohes Erdöl und Erdgas | B5: 1777206 | C5: =(B5*100)/G5-100 -> -20.973703 | D5: =B5+SEE_April_BarrFrei!D5 -> 8718880.7 | E5: =(D5*100)/H5-100 -> -19.789151 | F5: Zeilenende | G5: 2248879.2 | H5: 10869952
A6: 03 Erze, Steine und Erden, sonstige Bergbauerzeugnisse | B6: 486500 | C6: =(B6*100)/G6-100 -> -23.734778 | D6: =B6+SEE_April_BarrFrei!D6 -> 3114242 | E6: =(D6*100)/H6-100 -> 14.606054 | F6: Zeilenende | G6: 637905.44 | H6: 2717345.1
A7: 04 Nahrungs- und Genussmittel | B7: 387835 | C7: =(B7*100)/G7-100 -> 111.05403 | D7: =B7+SEE_April_BarrFrei!D7 -> 1105271 | E7: =(D7*100)/H7-100 -> -1.8004755 | F7: Zeilenende | G7: 183761 | H7: 1125536
A8: 05 Textilien, Bekleidung, Leder und Lederwaren | C8: =(B8*100)/G8-100 -> #DIV/0! | D8: =B8+SEE_April_BarrFrei!D8 -> 0 | E8: =(D8*100)/H8-100 -> #DIV/0! | F8: Zeilenende | G8: 0 | H8: 0
A9: 06 Holzwaren, Papier, Pappe, Druckerzeugnisse | B9: 178099 | C9: =(B9*100)/G9-100 -> 20.897539 | D9: =B9+SEE_April_BarrFrei!D9 -> 811334 | E9: =(D9*100)/H9-100 -> 7.8887249 | F9: Zeilenende | G9: 147314 | H9: 752010
A10: 07 Kokerei- und Mineralölerzeugnisse | B10: 196927 | C10: =(B10*100)/G10-100 -> -7.466074 | D10: =B10+SEE_April_BarrFrei!D10 -> 1104021 | E10: =(D10*100)/H10-100 -> 19.322533 | F10: Zeilenende | G10: 212816 | H10: 925241
A11: 08 Chemische Erzeugnisse etc. | B11: 225051.28 | C11: =(B11*100)/G11-100 -> -14.097293 | D11: =B11+SEE_April_BarrFrei!D11 -> 1416048.8 | E11: =(D11*100)/H11-100 -> 3.7044448 | F11: Zeilenende | G11: 261983.92 | H11: 1365465.8
A12: 09 Sonstige Mineralerzeugnisse (Glas, Zement, Gips etc.) | B12: 526 | C12: =(B12*100)/G12-100 -> 131.91217 | D12: =B12+SEE_April_BarrFrei!D12 -> 39051.13 | E12: =(D12*100)/H12-100 -> 3481.1644 | F12: Zeilenende | G12: 226.81 | H12: 1090.459
A13: 10 Metalle und Metallerzeugnisse | B13: 96867.223 | C13: =(B13*100)/G13-100 -> 121.79216 | D13: =B13+SEE_April_BarrFrei!D13 -> 393290.42 | E13: =(D13*100)/H13-100 -> 38.721096 | F13: Zeilenende | G13: 43674.773 | H13: 283511.61
A14: 11 Maschinen und Ausrüstungen, Haushaltsgeräte etc. | B14: 54869 | C14: =(B14*100)/G14-100 -> 29.818294 | D14: =B14+SEE_April_BarrFrei!D14 -> 258647 | E14: =(D14*100)/H14-100 -> 94.950744 | F14: Zeilenende | G14: 42266 | H14: 132673
A15: 12 Fahrzeuge | B15: 281851.5 | C15: =(B15*100)/G15-100 -> 7.8324961 | D15: =B15+SEE_April_BarrFrei!D15 -> 1267076 | E15: =(D15*100)/H15-100 -> 5.7387583 | F15: Zeilenende | G15: 261379 | H15: 1198308
A16: 13 Möbel, Schmuck, Musikinstrumente, Sportgeräte etc. | B16: 240 | C16: =(B16*100)/G16-100 -> -4.96555 | D16: =B16+SEE_April_BarrFrei!D16 -> 622.36 | E16: =(D16*100)/H16-100 -> -28.316056 | F16: Zeilenende | G16: 252.54 | H16: 868.2
A17: 14 Sekundärrohstoffe, Abfälle | B17: 31108 | C17: =(B17*100)/G17-100 -> -3.811814 | D17: =B17+SEE_April_BarrFrei!D17 -> 123772.73 | E17: =(D17*100)/H17-100 -> -31.121005 | F17: Zeilenende | G17: 32340.77 | H17: 179695.9
A18: 15 Post, Pakete | C18: =(B18*100)/G18-100 -> #DIV/0! | D18: =B18+SEE_April_BarrFrei!D18 -> 0 | E18: =(D18*100)/H18-100 -> #DIV/0! | F18: Zeilenende | G18: 0 | H18: 0
A19: 16 Geräte und Material für die Güterbeförderung2) | B19: 0 | C19: =(B19*100)/G19-100 -> -100 | D19: =B19+SEE_April_BarrFrei!D19 -> 22302 | E19: =(D19*100)/H19-100 -> -22.64308 | F19: Zeilenende | G19: 5934 | H19: 28830
A20: 17 Umzugsgut und sonstige nichtmarktbestimmte Güter | C20: =(B20*100)/G20-100 -> #DIV/0! | D20: =B20+SEE_April_BarrFrei!D20 -> 0 | E20: =(D20*100)/H20-100 -> -100 | F20: Zeilenende | H20: 2407
A21: 18 Sammelgut | B21: 1658 | C21: =(B21*100)/G21-100 -> 51.553931 | D21: =B21+SEE_April_BarrFrei!D21 -> 764470 | E21: =(D21*100)/H21-100 -> 55.437581 | F21: Zeilenende | G21: 1094 | H21: 491818
A22: 19 Gutart unbekannt3) | B22: 1245900 | C22: =(B22*100)/G22-100 -> 153.35684 | D22: =B22+SEE_April_BarrFrei!D22 -> 4955006 | E22: =(D22*100)/H22-100 -> 101.0713 | F22: Zeilenende | G22: 491757 | H22: 2464303
A23: 20 Sonstige Güter a.n.g. | B23: 0 | C23: =(B23*100)/G23-100 -> -100 | D23: =B23+SEE_April_BarrFrei!D23 -> 8048.81 | E23: =(D23*100)/H23-100 -> -21.831731 | F23: Zeilenende | G23: 5359 | H23: 10296.774
A24: Insgesamt | B24: 5017974 | C24: =(B24*100)/G24-100 -> 8.8019335 | D24: =B24+SEE_April_BarrFrei!D24 -> 23527529 | E24: =(D24*100)/H24-100 -> 5.5880689 | F24: Zeilenende | G24: 4612026.5 | H24: 22282375
A25: Nächste Zeilen: Fußnoten 1-3 | E25: Zeilenende | F25: Zeilenende
A26: 1) Einheitliches Güterverzeichnis der Verkehrsstatistiken (NST-2007) | F26: Zeilenende
A27: 2) NST 16.2 - Paletten & Verpackungsmaterial; NST 16.1 - Leere Container und Wechselbehälter zählen nicht zum Seegüterumschlag | F27: Zeilenende
A28: 3) Nicht identifizierbare Güter in Containern sowie sonstige nichtidentifizierbare Güter | F28: Zeilenende
A29: Güterumschlag der Seeschifffahrt im Mai 2025 nach ausgewählten Häfen | F29: Zeilenende
A30: Ausgewählte Häfen | B30: Güterumschlag Mai 2025 in Tonnen | C30: Veränderung gegenüber Vorjahresmonat in % | D30: Güterumschlag Januar-Mai 2025 in Tonnen | E30: Veränderung gegenüber Vorjahreszeitraum in % | F30: Zeilenende | G30: Berichtsmonat Vorjahr | H30: Berichtszeitraum Vorjahr
A31: Brake | B31: 688301 | C31: =SUM(B31/G31*100-100) -> 87.925856 | D31: =B31+SEE_April_BarrFrei!D31 -> 2313612 | E31: =SUM(D31/H31*100-100) -> 10.515387 | F31: Zeilenende | G31: 366262 | H31: 2093475
A32: Bützfleth | B32: 325704 | C32: =SUM(B32/G32*100-100) -> -44.111823 | D32: =B32+SEE_April_BarrFrei!D32 -> 2166413 | E32: =SUM(D32/H32*100-100) -> -8.8647665 | F32: Zeilenende | G32: 582778 | H32: 2377141
A33: Cuxhaven | B33: 253667.5 | C33: =SUM(B33/G33*100-100) -> 17.313197 | D33: =B33+SEE_April_BarrFrei!D33 -> 1552696.5 | E33: =SUM(D33/H33*100-100) -> 65.947811 | F33: Zeilenende | G33: 216231 | H33: 935653.5
A34: Emden | B34: 392874 | C34: =SUM(B34/G34*100-100) -> 7.5586218 | D34: =B34+SEE_April_BarrFrei!D34 -> 2007570 | E34: =SUM(D34/H34*100-100) -> 12.114287 | F34: Zeilenende | G34: 365265 | H34: 1790646
A35: JadeWeserPort | B35: 1142050 | C35: =SUM(B35/G35*100-100) -> 223.15341 | D35: =B35+SEE_April_BarrFrei!D35 -> 4415023 | E35: =SUM(D35/H35*100-100) -> 141.00247 | F35: Zeilenende | G35: 353408 | H35: 1831941
A36: Nordenham | B36: 58552.499 | C36: =SUM(B36/G36*100-100) -> -61.778201 | D36: =B36+SEE_April_BarrFrei!D36 -> 552705.67 | E36: =SUM(D36/H36*100-100) -> 13.910429 | F36: Zeilenende | G36: 153191.37 | H36: 485210.77
A37: Papenburg | B37: 48930 | C37: =SUM(B37/G37*100-100) -> 15.159218 | D37: =B37+SEE_April_BarrFrei!D37 -> 243494 | E37: =SUM(D37/H37*100-100) -> -5.0931357 | F37: Zeilenende | G37: 42489 | H37: 256561
A38: Wilhelmshaven | B38: 2053387 | C38: =SUM(B38/G38*100-100) -> -15.739124 | D38: =B38+SEE_April_BarrFrei!D38 -> 9926837 | E38: =SUM(D38/H38*100-100) -> -18.001146 | F38: Zeilenende | G38: 2436940 | H38: 12106068
A39: Übrige Seehäfen in Niedersachsen | B39: =B40-B31-B32-B33-B34-B35-B36-B37-B38 -> 54508 | C39: =SUM(B39/G39*100-100) -> -42.900912 | D39: =B39+SEE_April_BarrFrei!D39 -> 349178.24 | E39: =SUM(D39/H39*100-100) -> -13.927385 | F39: Zeilenende | G39: 95462.12 | H39: 405678.67
A40: Insgesamt | B40: =B24 -> 5017974 | C40: =SUM(B40/G40*100-100) -> 8.8019335 | D40: =B40+SEE_April_BarrFrei!D40 -> 23527529 | E40: =SUM(D40/H40*100-100) -> 5.5880689 | F40: Zeilenende | G40: 4612026.5 | H40: 22282375
A41: Spaltenende | B41: Spaltenende | C41: Spaltenende | D41: Spaltenende | E41: Spaltenende | F41: Tabellenende

Sheet SEE_Juni_Barrfrei
A1: © Landesamt für Statistik Niedersachsen, Hannover 2025. Vervielfältigung und Verbreitung, auch auszugsweise, mit Quellenangabe gestattet. | F1: Zeilenende
A2: Güterumschlag der Seeschifffahrt im Juni 2025 nach Güterabteilungen im Sinne des NST-2007 1) | F2: Zeilenende
A3: Güterabteilungen | B3: Güterumschlag Juni 2025 in Tonnen | C3: Veränderung gegenüber Vorjahresmonat in % | D3: Güterumschlag Januar-Juni 2025 in Tonnen | E3: Veränderung gegenüber Vorjahreszeitraum in % | F3: Zeilenende | G3: Berichtsmonat Vorjahr | H3: Berichtszeitraum Vorjahr
A4: 01 Erzeugnisse der Land- und Forstwirtschaft sowie der Fischerei | B4: 85864 | C4: =(B4*100)/G4-100 -> 160.33594 | D4: =B4+SEE_Mai_Barrfrei!D4 -> 234408 | E4: =(D4*100)/H4-100 -> 13.531813 | F4: Zeilenende | G4: 32982 | H4: 206469
A5: 02 Kohle, rohes Erdöl und Erdgas | B5: 1878137 | C5: =(B5*100)/G5-100 -> -6.1007089 | D5: =B5+SEE_Mai_Barrfrei!D5 -> 10597018 | E5: =(D5*100)/H5-100 -> -17.661812 | F5: Zeilenende | G5: 2000161 | H5: 12870113
A6: 03 Erze, Steine und Erden, sonstige Bergbauerzeugnisse | B6: 558165 | C6: =(B6*100)/G6-100 -> 16.486528 | D6: =B6+SEE_Mai_Barrfrei!D6 -> 3672407 | E6: =(D6*100)/H6-100 -> 14.887943 | F6: Zeilenende | G6: 479167 | H6: 3196512.1
A7: 04 Nahrungs- und Genussmittel | B7: 209576 | C7: =(B7*100)/G7-100 -> 0.37741633 | D7: =B7+SEE_Mai_Barrfrei!D7 -> 1314847 | E7: =(D7*100)/H7-100 -> -1.4596904 | F7: Zeilenende | G7: 208788 | H7: 1334324
A8: 05 Textilien, Bekleidung, Leder und Lederwaren | B8: 0 | C8: =(B8*100)/G8-100 -> #DIV/0! | D8: =B8+SEE_Mai_Barrfrei!D8 -> 0 | E8: =(D8*100)/H8-100 -> #DIV/0! | F8: Zeilenende | H8: 0
A9: 06 Holzwaren, Papier, Pappe, Druckerzeugnisse | B9: 155552 | C9: =(B9*100)/G9-100 -> 55.628258 | D9: =B9+SEE_Mai_Barrfrei!D9 -> 966886 | E9: =(D9*100)/H9-100 -> 13.489467 | F9: Zeilenende | G9: 99951 | H9: 851961
A10: 07 Kokerei- und Mineralölerzeugnisse | B10: 252139 | C10: =(B10*100)/G10-100 -> 83.217916 | D10: =B10+SEE_Mai_Barrfrei!D10 -> 1356160 | E10: =(D10*100)/H10-100 -> 27.595596 | F10: Zeilenende | G10: 137617 | H10: 1062858
A11: 08 Chemische Erzeugnisse etc. | B11: 218557 | C11: =(B11*100)/G11-100 -> -10.933933 | D11: =B11+SEE_Mai_Barrfrei!D11 -> 1634605.8 | E11: =(D11*100)/H11-100 -> 1.4745242 | F11: Zeilenende | G11: 245387.51 | H11: 1610853.3
A12: 09 Sonstige Mineralerzeugnisse (Glas, Zement, Gips etc.) | B12: 36318.26 | C12: =(B12*100)/G12-100 -> 0.55724451 | D12: =B12+SEE_Mai_Barrfrei!D12 -> 75369.39 | E12: =(D12*100)/H12-100 -> 102.56527 | F12: Zeilenende | G12: 36117 | H12: 37207.459
A13: 10 Metalle und Metallerzeugnisse | B13: 80807 | C13: =(B13*100)/G13-100 -> 20.657959 | D13: =B13+SEE_Mai_Barrfrei!D13 -> 474097.42 | E13: =(D13*100)/H13-100 -> 35.269512 | F13: Zeilenende | G13: 66971.96 | H13: 350483.57
A14: 11 Maschinen und Ausrüstungen, Haushaltsgeräte etc. | B14: 60614 | C14: =(B14*100)/G14-100 -> 76.686294 | D14: =B14+SEE_Mai_Barrfrei!D14 -> 319261 | E14: =(D14*100)/H14-100 -> 91.198294 | F14: Zeilenende | G14: 34306 | H14: 166979
A15: 12 Fahrzeuge | B15: 269592 | C15: =(B15*100)/G15-100 -> 8.6709583 | D15: =B15+SEE_Mai_Barrfrei!D15 -> 1536668 | E15: =(D15*100)/H15-100 -> 6.2416819 | F15: Zeilenende | G15: 248081 | H15: 1446389
A16: 13 Möbel, Schmuck, Musikinstrumente, Sportgeräte etc. | B16: 154.05 | C16: =(B16*100)/G16-100 -> 14.111111 | D16: =B16+SEE_Mai_Barrfrei!D16 -> 776.41 | E16: =(D16*100)/H16-100 -> -22.606659 | F16: Zeilenende | G16: 135 | H16: 1003.2
A17: 14 Sekundärrohstoffe, Abfälle | B17: 35869.28 | C17: =(B17*100)/G17-100 -> -36.167662 | D17: =B17+SEE_Mai_Barrfrei!D17 -> 159642.01 | E17: =(D17*100)/H17-100 -> -32.323209 | F17: Zeilenende | G17: 56192.96 | H17: 235888.86
A18: 15 Post, Pakete | B18: 0 | C18: =(B18*100)/G18-100 -> #DIV/0! | D18: =B18+SEE_Mai_Barrfrei!D18 -> 0 | E18: =(D18*100)/H18-100 -> #DIV/0! | F18: Zeilenende | H18: 0
A19: 16 Geräte und Material für die Güterbeförderung2) | B19: 0 | C19: =(B19*100)/G19-100 -> -100 | D19: =B19+SEE_Mai_Barrfrei!D19 -> 22302 | E19: =(D19*100)/H19-100 -> -33.896497 | F19: Zeilenende | G19: 4908 | H19: 33738
A20: 17 Umzugsgut und sonstige nichtmarktbestimmte Güter | C20: =(B20*100)/G20-100 -> #DIV/0! | D20: =B20+SEE_Mai_Barrfrei!D20 -> 0 | E20: =(D20*100)/H20-100 -> -100 | F20: Zeilenende | H20: 2407
A21: 18 Sammelgut | B21: 4778 | C21: =(B21*100)/G21-100 -> 72.553268 | D21: =B21+SEE_Mai_Barrfrei!D21 -> 769248 | E21: =(D21*100)/H21-100 -> 55.533405 | F21: Zeilenende | G21: 2769 | H21: 494587
A22: 19 Gutart unbekannt3) | B22: 1131088 | C22: =(B22*100)/G22-100 -> 114.67492 | D22: =B22+SEE_Mai_Barrfrei!D22 -> 6086094 | E22: =(D22*100)/H22-100 -> 103.46751 | F22: Zeilenende | G22: 526884.1 | H22: 2991187.1
A23: 20 Sonstige Güter a.n.g. | B23: 46.947 | C23: =(B23*100)/G23-100 -> -99.420497 | D23: =B23+SEE_Mai_Barrfrei!D23 -> 8095.757 | E23: =(D23*100)/H23-100 -> -55.996614 | F23: Zeilenende | G23: 8101.258 | H23: 18398.032
A24: Insgesamt | B24: 4977257.5 | C24: =(B24*100)/G24-100 -> 19.462892 | D24: =B24+SEE_Mai_Barrfrei!D24 -> 28504787 | E24: =(D24*100)/H24-100 -> 7.7737138 | F24: Zeilenende | G24: 4166362.8 | H24: 26448738
A25: Nächste Zeilen: Fußnoten 1-3 | E25: Zeilenende | F25: Zeilenende
A26: 1) Einheitliches Güterverzeichnis der Verkehrsstatistiken (NST-2007) | F26: Zeilenende
A27: 2) NST 16.2 - Paletten & Verpackungsmaterial; NST 16.1 - Leere Container und Wechselbehälter zählen nicht zum Seegüterumschlag | F27: Zeilenende
A28: 3) Nicht identifizierbare Güter in Containern sowie sonstige nichtidentifizierbare Güter | F28: Zeilenende
A29: Güterumschlag der Seeschifffahrt im Juni 2025 nach ausgewählten Häfen | F29: Zeilenende
A30: Ausgewählte Häfen | B30: Güterumschlag Juni 2025 in Tonnen | C30: Veränderung gegenüber Vorjahresmonat in % | D30: Güterumschlag Januar-Juni 2025 in Tonnen | E30: Veränderung gegenüber Vorjahreszeitraum in % | F30: Zeilenende | G30: Berichtsmonat Vorjahr | H30: Berichtszeitraum Vorjahr
A31: Brake | B31: 469328 | C31: =SUM(B31/G31*100-100) -> 23.933962 | D31: =B31+SEE_Mai_Barrfrei!D31 -> 2782940 | E31: =SUM(D31/H31*100-100) -> 12.570874 | F31: Zeilenende | G31: 378692 | H31: 2472167
A32: Bützfleth | B32: 440710 | C32: =SUM(B32/G32*100-100) -> 10.30435 | D32: =B32+SEE_Mai_Barrfrei!D32 -> 2607123 | E32: =SUM(D32/H32*100-100) -> -6.1064991 | F32: Zeilenende | G32: 399540 | H32: 2776681
A33: Cuxhaven | B33: 287989 | C33: =SUM(B33/G33*100-100) -> 43.275187 | D33: =B33+SEE_Mai_Barrfrei!D33 -> 1840685.5 | E33: =SUM(D33/H33*100-100) -> 61.938432 | F33: Zeilenende | G33: 201004.1 | H33: 1136657.6
A34: Emden | B34: 400389 | C34: =SUM(B34/G34*100-100) -> 14.58412 | D34: =B34+SEE_Mai_Barrfrei!D34 -> 2407959 | E34: =SUM(D34/H34*100-100) -> 12.517558 | F34: Zeilenende | G34: 349428 | H34: 2140074
A35: JadeWeserPort | B35: 1043942 | C35: =SUM(B35/G35*100-100) -> 159.71808 | D35: =B35+SEE_Mai_Barrfrei!D35 -> 5458965 | E35: =SUM(D35/H35*100-100) -> 144.37003 | F35: Zeilenende | G35: 401952 | H35: 2233893
A36: Nordenham | B36: 87231.947 | C36: =SUM(B36/G36*100-100) -> -23.820698 | D36: =B36+SEE_Mai_Barrfrei!D36 -> 639937.62 | E36: =SUM(D36/H36*100-100) -> 6.7061557 | F36: Zeilenende | G36: 114508.72 | H36: 599719.5
A37: Papenburg | B37: 51009 | C37: =SUM(B37/G37*100-100) -> 94.009585 | D37: =B37+SEE_Mai_Barrfrei!D37 -> 294503 | E37: =SUM(D37/H37*100-100) -> 4.1187472 | F37: Zeilenende | G37: 26292 | H37: 282853
A38: Wilhelmshaven | B38: 2152061 | C38: =SUM(B38/G38*100-100) -> -3.0072751 | D38: =B38+SEE_Mai_Barrfrei!D38 -> 12078898 | E38: =SUM(D38/H38*100-100) -> -15.678736 | F38: Zeilenende | G38: 2218786 | H38: 14324854
A39: Übrige Seehäfen in Niedersachsen | B39: =B40-B31-B32-B33-B34-B35-B36-B37-B38 -> 44597.59 | C39: =SUM(B39/G39*100-100) -> -41.44224 | D39: =B39+SEE_Mai_Barrfrei!D39 -> 393775.83 | E39: =SUM(D39/H39*100-100) -> -18.276416 | F39: Zeilenende | G39: 76160 | H39: 481838.67
A40: Insgesamt | B40: =B24 -> 4977257.5 | C40: =SUM(B40/G40*100-100) -> 19.462892 | D40: =B40+SEE_Mai_Barrfrei!D40 -> 28504787 | E40: =SUM(D40/H40*100-100) -> 7.7737138 | F40: Zeilenende | G40: 4166362.8 | H40: 26448738
A41: Spaltenende | B41: Spaltenende | C41: Spaltenende | D41: Spaltenende | E41: Spaltenende | F41: Tabellenende

Sheet SEE_Juli_Barrfrei
A1: © Landesamt für Statistik Niedersachsen, Hannover 2025. Vervielfältigung und Verbreitung, auch auszugsweise, mit Quellenangabe gestattet. | F1: Zeilenende
A2: Güterumschlag der Seeschifffahrt im Juli 2025 nach Güterabteilungen im Sinne des NST-2007 1) | F2: Zeilenende
A3: Güterabteilungen | B3: Güterumschlag Juli 2025 in Tonnen | C3: Veränderung gegenüber Vorjahresmonat in % | D3: Güterumschlag Januar-Juli 2025 in Tonnen | E3: Veränderung gegenüber Vorjahreszeitraum in % | F3: Zeilenende | G3: Berichtsmonat Vorjahr | H3: Berichtszeitraum Vorjahr
A4: 01 Erzeugnisse der Land- und Forstwirtschaft sowie der Fischerei | B4: 56219 | C4: =(B4*100)/G4-100 -> -55.566533 | D4: =B4+SEE_Juni_Barrfrei!D4 -> 290627 | E4: =(D4*100)/H4-100 -> -12.72279 | F4: Zeilenende | G4: 126524 | H4: 332993
A5: 02 Kohle, rohes Erdöl und Erdgas | B5: 2200083 | C5: =(B5*100)/G5-100 -> -2.78871 | D5: =B5+SEE_Juni_Barrfrei!D5 -> 12797101 | E5: =(D5*100)/H5-100 -> -15.437529 | F5: Zeilenende | G5: 2263197 | H5: 15133310
A6: 03 Erze, Steine und Erden, sonstige Bergbauerzeugnisse | B6: 725648 | C6: =(B6*100)/G6-100 -> -6.337605 | D6: =B6+SEE_Juni_Barrfrei!D6 -> 4398055 | E6: =(D6*100)/H6-100 -> 10.747076 | F6: Zeilenende | G6: 774748.5 | H6: 3971260.6
A7: 04 Nahrungs- und Genussmittel | B7: 317146 | C7: =(B7*100)/G7-100 -> 33.942908 | D7: =B7+SEE_Juni_Barrfrei!D7 -> 1631993 | E7: =(D7*100)/H7-100 -> 3.8757534 | F7: Zeilenende | G7: 236777 | H7: 1571101
A8: 05 Textilien, Bekleidung, Leder und Lederwaren | B8: 0 | C8: =(B8*100)/G8-100 -> #DIV/0! | D8: =B8+SEE_Juni_Barrfrei!D8 -> 0 | E8: =(D8*100)/H8-100 -> #DIV/0! | F8: Zeilenende | H8: 0
A9: 06 Holzwaren, Papier, Pappe, Druckerzeugnisse | B9: 152313 | C9: =(B9*100)/G9-100 -> 4.8258443 | D9: =B9+SEE_Juni_Barrfrei!D9 -> 1119199 | E9: =(D9*100)/H9-100 -> 12.227178 | F9: Zeilenende | G9: 145301 | H9: 997262
A10: 07 Kokerei- und Mineralölerzeugnisse | B10: 270721 | C10: =(B10*100)/G10-100 -> 40.744688 | D10: =B10+SEE_Juni_Barrfrei!D10 -> 1626881 | E10: =(D10*100)/H10-100 -> 29.610574 | F10: Zeilenende | G10: 192349 | H10: 1255207
A11: 08 Chemische Erzeugnisse etc. | B11: 265549.35 | C11: =(B11*100)/G11-100 -> 9.9364616 | D11: =B11+SEE_Juni_Barrfrei!D11 -> 1900155.1 | E11: =(D11*100)/H11-100 -> 2.5779375 | F11: Zeilenende | G11: 241548.03 | H11: 1852401.4
A12: 09 Sonstige Mineralerzeugnisse (Glas, Zement, Gips etc.) | B12: 36273.66 | C12: =(B12*100)/G12-100 -> 6754.9512 | D12: =B12+SEE_Juni_Barrfrei!D12 -> 111643.05 | E12: =(D12*100)/H12-100 -> 195.84805 | F12: Zeilenende | G12: 529.16 | H12: 37736.619
A13: 10 Metalle und Metallerzeugnisse | B13: 51398.877 | C13: =(B13*100)/G13-100 -> -10.10673 | D13: =B13+SEE_Juni_Barrfrei!D13 -> 525496.29 | E13: =(D13*100)/H13-100 -> 28.90514 | F13: Zeilenende | G13: 57177.67 | H13: 407661.24
A14: 11 Maschinen und Ausrüstungen, Haushaltsgeräte etc. | B14: 60287 | C14: =(B14*100)/G14-100 -> 29.761085 | D14: =B14+SEE_Juni_Barrfrei!D14 -> 379548 | E14: =(D14*100)/H14-100 -> 77.825046 | F14: Zeilenende | G14: 46460 | H14: 213439
A15: 12 Fahrzeuge | B15: 250850 | C15: =(B15*100)/G15-100 -> 3.6229834 | D15: =B15+SEE_Juni_Barrfrei!D15 -> 1787518 | E15: =(D15*100)/H15-100 -> 5.8662332 | F15: Zeilenende | G15: 242079.5 | H15: 1688468.5
A16: 13 Möbel, Schmuck, Musikinstrumente, Sportgeräte etc. | B16: 188.77 | C16: =(B16*100)/G16-100 -> 42.457173 | D16: =B16+SEE_Juni_Barrfrei!D16 -> 965.18 | E16: =(D16*100)/H16-100 -> -15.015277 | F16: Zeilenende | G16: 132.51 | H16: 1135.71
A17: 14 Sekundärrohstoffe, Abfälle | B17: 32410.78 | C17: =(B17*100)/G17-100 -> -23.664802 | D17: =B17+SEE_Juni_Barrfrei!D17 -> 192052.79 | E17: =(D17*100)/H17-100 -> -31.002475 | F17: Zeilenende | G17: 42458.5 | H17: 278347.36
A18: 15 Post, Pakete | B18: 0 | C18: =(B18*100)/G18-100 -> #DIV/0! | D18: =B18+SEE_Juni_Barrfrei!D18 -> 0 | E18: =(D18*100)/H18-100 -> #DIV/0! | F18: Zeilenende | H18: 0
A19: 16 Geräte und Material für die Güterbeförderung2) | B19: 0 | C19: =(B19*100)/G19-100 -> -100 | D19: =B19+SEE_Juni_Barrfrei!D19 -> 22302 | E19: =(D19*100)/H19-100 -> -43.656207 | F19: Zeilenende | G19: 5844 | H19: 39582
A20: 17 Umzugsgut und sonstige nichtmarktbestimmte Güter | C20: =(B20*100)/G20-100 -> -100 | D20: =B20+SEE_Juni_Barrfrei!D20 -> 0 | E20: =(D20*100)/H20-100 -> -100 | F20: Zeilenende | G20: 118 | H20: 2525
A21: 18 Sammelgut | B21: 3473 | C21: =(B21*100)/G21-100 -> 25.924583 | D21: =B21+SEE_Juni_Barrfrei!D21 -> 772721 | E21: =(D21*100)/H21-100 -> 55.369211 | F21: Zeilenende | G21: 2758 | H21: 497345
A22: 19 Gutart unbekannt3) | B22: 1138902.6 | C22: =(B22*100)/G22-100 -> 47.855861 | D22: =B22+SEE_Juni_Barrfrei!D22 -> 7224996.7 | E22: =(D22*100)/H22-100 -> 92.079271 | F22: Zeilenende | G22: 770279 | H22: 3761466.1
A23: 20 Sonstige Güter a.n.g. | B23: 0 | C23: =(B23*100)/G23-100 -> -100 | D23: =B23+SEE_Juni_Barrfrei!D23 -> 8095.757 | E23: =(D23*100)/H23-100 -> -69.862258 | F23: Zeilenende | G23: 8464.488 | H23: 26862.52
A24: Insgesamt | B24: 5561464.1 | C24: =(B24*100)/G24-100 -> 7.8483157 | D24: =B24+SEE_Juni_Barrfrei!D24 -> 34066251 | E24: =(D24*100)/H24-100 -> 7.7858859 | F24: Zeilenende | G24: 5156746.4 | H24: 31605484
A25: Nächste Zeilen: Fußnoten 1-3 | E25: Zeilenende | F25: Zeilenende
A26: 1) Einheitliches Güterverzeichnis der Verkehrsstatistiken (NST-2007) | F26: Zeilenende
A27: 2) NST 16.2 - Paletten & Verpackungsmaterial; NST 16.1 - Leere Container und Wechselbehälter zählen nicht zum Seegüterumschlag | F27: Zeilenende
A28: 3) Nicht identifizierbare Güter in Containern sowie sonstige nichtidentifizierbare Güter | F28: Zeilenende
A29: Güterumschlag der Seeschifffahrt im Juli 2025 nach ausgewählten Häfen | F29: Zeilenende
A30: Ausgewählte Häfen | B30: Güterumschlag Juli 2025 in Tonnen | C30: Veränderung gegenüber Vorjahresmonat in % | D30: Güterumschlag Januar-Juli 2025 in Tonnen | E30: Veränderung gegenüber Vorjahreszeitraum in % | F30: Zeilenende | G30: Berichtsmonat Vorjahr | H30: Berichtszeitraum Vorjahr
A31: Brake | B31: 516140 | C31: =SUM(B31/G31*100-100) -> 5.8981151 | D31: =B31+SEE_Juni_Barrfrei!D31 -> 3299080 | E31: =SUM(D31/H31*100-100) -> 11.471976 | F31: Zeilenende | G31: 487393 | H31: 2959560
A32: Bützfleth | B32: 553283 | C32: =SUM(B32/G32*100-100) -> 9.530842 | D32: =B32+SEE_Juni_Barrfrei!D32 -> 3160406 | E32: =SUM(D32/H32*100-100) -> -3.6995935 | F32: Zeilenende | G32: 505139 | H32: 3281820
A33: Cuxhaven | B33: 267146 | C33: =SUM(B33/G33*100-100) -> 2.0199995 | D33: =B33+SEE_Juni_Barrfrei!D33 -> 2107831.5 | E33: =SUM(D33/H33*100-100) -> 50.71936 | F33: Zeilenende | G33: 261856.5 | H33: 1398514.1
A34: Emden | B34: 411793 | C34: =SUM(B34/G34*100-100) -> -7.9979267 | D34: =B34+SEE_Juni_Barrfrei!D34 -> 2819752 | E34: =SUM(D34/H34*100-100) -> 8.968974 | F34: Zeilenende | G34: 447591 | H34: 2587665
A35: JadeWeserPort | B35: 1047459 | C35: =SUM(B35/G35*100-100) -> 61.369981 | D35: =B35+SEE_Juni_Barrfrei!D35 -> 6506424 | E35: =SUM(D35/H35*100-100) -> 125.68265 | F35: Zeilenende | G35: 649104 | H35: 2882997
A36: Nordenham | B36: 163084.88 | C36: =SUM(B36/G36*100-100) -> 212.60469 | D36: =B36+SEE_Juni_Barrfrei!D36 -> 803022.5 | E36: =SUM(D36/H36*100-100) -> 23.183897 | F36: Zeilenende | G36: 52169.685 | H36: 651889.18
A37: Papenburg | B37: 63094 | C37: =SUM(B37/G37*100-100) -> 108.8652 | D37: =B37+SEE_Juni_Barrfrei!D37 -> 357597 | E37: =SUM(D37/H37*100-100) -> 14.225982 | F37: Zeilenende | G37: 30208 | H37: 313061
A38: Wilhelmshaven | B38: 2481419 | C38: =SUM(B38/G38*100-100) -> -4.741396 | D38: =B38+SEE_Juni_Barrfrei!D38 -> 14560317 | E38: =SUM(D38/H38*100-100) -> -13.995844 | F38: Zeilenende | G38: 2604929 | H38: 16929783
A39: Übrige Seehäfen in Niedersachsen | B39: =B40-B31-B32-B33-B34-B35-B36-B37-B38 -> 58045.21 | C39: =SUM(B39/G39*100-100) -> -50.957174 | D39: =B39+SEE_Juni_Barrfrei!D39 -> 451821.04 | E39: =SUM(D39/H39*100-100) -> -24.720939 | F39: Zeilenende | G39: 118356.17 | H39: 600194.84
A40: Insgesamt | B40: =B24 -> 5561464.1 | C40: =SUM(B40/G40*100-100) -> 7.8483157 | D40: =B40+SEE_Juni_Barrfrei!D40 -> 34066251 | E40: =SUM(D40/H40*100-100) -> 7.7858859 | F40: Zeilenende | G40: 5156746.4 | H40: 31605484
A41: Spaltenende | B41: Spaltenende | C41: Spaltenende | D41: Spaltenende | E41: Spaltenende | F41: Tabellenende

Sheet SEE_August_Barrfrei
A1: © Landesamt für Statistik Niedersachsen, Hannover 2025. Vervielfältigung und Verbreitung, auch auszugsweise, mit Quellenangabe gestattet. | F1: Zeilenende
A2: Güterumschlag der Seeschifffahrt im August 2025 nach Güterabteilungen im Sinne des NST-2007 1) | F2: Zeilenende
A3: Güterabteilungen | B3: Güterumschlag August 2025 in Tonnen | C3: Veränderung gegenüber Vorjahresmonat in % | D3: Güterumschlag Januar-August 2025 in Tonnen | E3: Veränderung gegenüber Vorjahreszeitraum in % | F3: Zeilenende | G3: Berichtsmonat Vorjahr | H3: Berichtszeitraum Vorjahr
A4: 01 Erzeugnisse der Land- und Forstwirtschaft sowie der Fischerei | B4: 42151 | C4: =(B4*100)/G4-100 -> -30.384158 | D4: =B4+SEE_Juli_Barrfrei!D4 -> 332778 | E4: =(D4*100)/H4-100 -> -15.440069 | F4: Zeilenende | G4: 60548 | H4: 393541
A5: 02 Kohle, rohes Erdöl und Erdgas | B5: 2192973 | C5: =(B5*100)/G5-100 -> 19.57238 | D5: =B5+SEE_Juli_Barrfrei!D5 -> 14990074 | E5: =(D5*100)/H5-100 -> -11.653277 | F5: Zeilenende | G5: 1834013 | H5: 16967323
A6: 03 Erze, Steine und Erden, sonstige Bergbauerzeugnisse | B6: 704248 | C6: =(B6*100)/G6-100 -> 41.861641 | D6: =B6+SEE_Juli_Barrfrei!D6 -> 5102303 | E6: =(D6*100)/H6-100 -> 14.204407 | F6: Zeilenende | G6: 496433 | H6: 4467693.6
A7: 04 Nahrungs- und Genussmittel | B7: 310783.9 | C7: =(B7*100)/G7-100 -> 25.912141 | D7: =B7+SEE_Juli_Barrfrei!D7 -> 1942776.9 | E7: =(D7*100)/H7-100 -> 6.8677071 | F7: Zeilenende | G7: 246826 | H7: 1817927
A8: 05 Textilien, Bekleidung, Leder und Lederwaren | B8: 0 | C8: =(B8*100)/G8-100 -> #DIV/0! | D8: =B8+SEE_Juli_Barrfrei!D8 -> 0 | E8: =(D8*100)/H8-100 -> #DIV/0! | F8: Zeilenende | H8: 0
A9: 06 Holzwaren, Papier, Pappe, Druckerzeugnisse | B9: 206363 | C9: =(B9*100)/G9-100 -> 20.934716 | D9: =B9+SEE_Juli_Barrfrei!D9 -> 1325562 | E9: =(D9*100)/H9-100 -> 13.49942 | F9: Zeilenende | G9: 170640 | H9: 1167902
A10: 07 Kokerei- und Mineralölerzeugnisse | B10: 235845 | C10: =(B10*100)/G10-100 -> 59.488355 | D10: =B10+SEE_Juli_Barrfrei!D10 -> 1862726 | E10: =(D10*100)/H10-100 -> 32.759502 | F10: Zeilenende | G10: 147876 | H10: 1403083
A11: 08 Chemische Erzeugnisse etc. | B11: 300234.4 | C11: =(B11*100)/G11-100 -> 4.7341613 | D11: =B11+SEE_Juli_Barrfrei!D11 -> 2200389.5 | E11: =(D11*100)/H11-100 -> 2.8669004 | F11: Zeilenende | G11: 286663.3 | H11: 2139064.7
A12: 09 Sonstige Mineralerzeugnisse (Glas, Zement, Gips etc.) | B12: 113992.59 | C12: =(B12*100)/G12-100 -> 215.87684 | D12: =B12+SEE_Juli_Barrfrei!D12 -> 225635.64 | E12: =(D12*100)/H12-100 -> 205.63876 | F12: Zeilenende | G12: 36087.67 | H12: 73824.289
A13: 10 Metalle und Metallerzeugnisse | B13: 59108 | C13: =(B13*100)/G13-100 -> 49.79216 | D13: =B13+SEE_Juli_Barrfrei!D13 -> 584604.29 | E13: =(D13*100)/H13-100 -> 30.748492 | F13: Zeilenende | G13: 39460.009 | H13: 447121.25
A14: 11 Maschinen und Ausrüstungen, Haushaltsgeräte etc. | B14: 51177 | C14: =(B14*100)/G14-100 -> 34.502878 | D14: =B14+SEE_Juli_Barrfrei!D14 -> 430725 | E14: =(D14*100)/H14-100 -> 71.270597 | F14: Zeilenende | G14: 38049 | H14: 251488
A15: 12 Fahrzeuge | B15: 218528.5 | C15: =(B15*100)/G15-100 -> -0.46540588 | D15: =B15+SEE_Juli_Barrfrei!D15 -> 2006046.5 | E15: =(D15*100)/H15-100 -> 5.1376695 | F15: Zeilenende | G15: 219550.3 | H15: 1908018.8
A16: 13 Möbel, Schmuck, Musikinstrumente, Sportgeräte etc. | B16: 112.38 | C16: =(B16*100)/G16-100 -> -12.017537 | D16: =B16+SEE_Juli_Barrfrei!D16 -> 1077.56 | E16: =(D16*100)/H16-100 -> -14.712214 | F16: Zeilenende | G16: 127.73 | H16: 1263.44
A17: 14 Sekundärrohstoffe, Abfälle | B17: 25272.97 | C17: =(B17*100)/G17-100 -> 27.270891 | D17: =B17+SEE_Juli_Barrfrei!D17 -> 217325.76 | E17: =(D17*100)/H17-100 -> -27.122022 | F17: Zeilenende | G17: 19857.62 | H17: 298204.98
A18: 15 Post, Pakete | B18: 0 | C18: =(B18*100)/G18-100 -> #DIV/0! | D18: =B18+SEE_Juli_Barrfrei!D18 -> 0 | E18: =(D18*100)/H18-100 -> #DIV/0! | F18: Zeilenende | H18: 0
A19: 16 Geräte und Material für die Güterbeförderung2) | B19: 0 | C19: =(B19*100)/G19-100 -> -100 | D19: =B19+SEE_Juli_Barrfrei!D19 -> 22302 | E19: =(D19*100)/H19-100 -> -50.930693 | F19: Zeilenende | G19: 5868 | H19: 45450
A20: 17 Umzugsgut und sonstige nichtmarktbestimmte Güter | C20: =(B20*100)/G20-100 -> #DIV/0! | D20: =B20+SEE_Juli_Barrfrei!D20 -> 0 | E20: =(D20*100)/H20-100 -> -100 | F20: Zeilenende | H20: 2525
A21: 18 Sammelgut | B21: 5729 | C21: =(B21*100)/G21-100 -> 3.8238492 | D21: =B21+SEE_Juli_Barrfrei!D21 -> 778450 | E21: =(D21*100)/H21-100 -> 54.803595 | F21: Zeilenende | G21: 5518 | H21: 502863
A22: 19 Gutart unbekannt3) | B22: 1225812 | C22: =(B22*100)/G22-100 -> 36.965754 | D22: =B22+SEE_Juli_Barrfrei!D22 -> 8450808.7 | E22: =(D22*100)/H22-100 -> 81.486351 | F22: Zeilenende | G22: 894977 | H22: 4656443.1
A23: 20 Sonstige Güter a.n.g. | B23: 9342.959 | C23: =(B23*100)/G23-100 -> 305.86268 | D23: =B23+SEE_Juli_Barrfrei!D23 -> 17438.716 | E23: =(D23*100)/H23-100 -> -40.205716 | F23: Zeilenende | G23: 2302 | H23: 29164.52
A24: Insgesamt | B24: 5701673.7 | C24: =(B24*100)/G24-100 -> 26.568948 | D24: =B24+SEE_Juli_Barrfrei!D24 -> 39767925 | E24: =(D24*100)/H24-100 -> 10.129093 | F24: Zeilenende | G24: 4504796.6 | H24: 36110281
A25: Nächste Zeilen: Fußnoten 1-3 | E25: Zeilenende | F25: Zeilenende
A26: 1) Einheitliches Güterverzeichnis der Verkehrsstatistiken (NST-2007) | F26: Zeilenende
A27: 2) NST 16.2 - Paletten & Verpackungsmaterial; NST 16.1 - Leere Container und Wechselbehälter zählen nicht zum Seegüterumschlag | F27: Zeilenende
A28: 3) Nicht identifizierbare Güter in Containern sowie sonstige nichtidentifizierbare Güter | F28: Zeilenende
A29: Güterumschlag der Seeschifffahrt im August 2025 nach ausgewählten Häfen | F29: Zeilenende
A30: Ausgewählte Häfen | B30: Güterumschlag August 2025 in Tonnen | C30: Veränderung gegenüber Vorjahresmonat in % | D30: Güterumschlag Januar-August 2025 in Tonnen | E30: Veränderung gegenüber Vorjahreszeitraum in % | F30: Zeilenende | G30: Berichtsmonat Vorjahr | H30: Berichtszeitraum Vorjahr
A31: Brake | B31: 567356 | C31: =SUM(B31/G31*100-100) -> 19.183673 | D31: =B31+SEE_Juli_Barrfrei!D31 -> 3866436 | E31: =SUM(D31/H31*100-100) -> 12.540506 | F31: Zeilenende | G31: 476035 | H31: 3435595
A32: Bützfleth | B32: 617127 | C32: =SUM(B32/G32*100-100) -> 70.945519 | D32: =B32+SEE_Juli_Barrfrei!D32 -> 3777533 | E32: =SUM(D32/H32*100-100) -> 3.6978139 | F32: Zeilenende | G32: 361008 | H32: 3642828
A33: Cuxhaven | B33: 254272.5 | C33: =SUM(B33/G33*100-100) -> 6.6534541 | D33: =B33+SEE_Juli_Barrfrei!D33 -> 2362104 | E33: =SUM(D33/H33*100-100) -> 44.301376 | F33: Zeilenende | G33: 238410 | H33: 1636924.1
A34: Emden | B34: 352620 | C34: =SUM(B34/G34*100-100) -> 5.5609441 | D34: =B34+SEE_Juli_Barrfrei!D34 -> 3172372 | E34: =SUM(D34/H34*100-100) -> 8.5793281 | F34: Zeilenende | G34: 334044 | H34: 2921709
A35: JadeWeserPort | B35: 1141350 | C35: =SUM(B35/G35*100-100) -> 47.765171 | D35: =B35+SEE_Juli_Barrfrei!D35 -> 7647774 | E35: =SUM(D35/H35*100-100) -> 109.21824 | F35: Zeilenende | G35: 772408 | H35: 3655405
A36: Nordenham | B36: 249029.26 | C36: =SUM(B36/G36*100-100) -> 165.1072 | D36: =B36+SEE_Juli_Barrfrei!D36 -> 1052051.8 | E36: =SUM(D36/H36*100-100) -> 41.058893 | F36: Zeilenende | G36: 93935.306 | H36: 745824.49
A37: Papenburg | B37: 28748 | C37: =SUM(B37/G37*100-100) -> 49.02286 | D37: =B37+SEE_Juli_Barrfrei!D37 -> 386345 | E37: =SUM(D37/H37*100-100) -> 16.245727 | F37: Zeilenende | G37: 19291 | H37: 332352
A38: Wilhelmshaven | B38: 2455228 | C38: =SUM(B38/G38*100-100) -> 17.178713 | D38: =B38+SEE_Juli_Barrfrei!D38 -> 17015545 | E38: =SUM(D38/H38*100-100) -> -10.562501 | F38: Zeilenende | G38: 2095285 | H38: 19025068
A39: Übrige Seehäfen in Niedersachsen | B39: =B40-B31-B32-B33-B34-B35-B36-B37-B38 -> 35942.94 | C39: =SUM(B39/G39*100-100) -> -68.57594 | D39: =B39+SEE_Juli_Barrfrei!D39 -> 487763.98 | E39: =SUM(D39/H39*100-100) -> -31.740703 | F39: Zeilenende | G39: 114380.32 | H39: 714575.16
A40: Insgesamt | B40: =B24 -> 5701673.7 | C40: =SUM(B40/G40*100-100) -> 26.568948 | D40: =B40+SEE_Juli_Barrfrei!D40 -> 39767925 | E40: =SUM(D40/H40*100-100) -> 10.129093 | F40: Zeilenende | G40: 4504796.6 | H40: 36110281
A41: Spaltenende | B41: Spaltenende | C41: Spaltenende | D41: Spaltenende | E41: Spaltenende | F41: Tabellenende

Sheet SEE_September_Barrfrei
A1: © Landesamt für Statistik Niedersachsen, Hannover 2025. Vervielfältigung und Verbreitung, auch auszugsweise, mit Quellenangabe gestattet. | F1: Zeilenende
A2: Güterumschlag der Seeschifffahrt im September 2025 nach Güterabteilungen im Sinne des NST-2007 1) | F2: Zeilenende
A3: Güterabteilungen | B3: Güterumschlag September 2025 in Tonnen | C3: Veränderung gegenüber Vorjahresmonat in % | D3: Güterumschlag Januar-September 2025 in Tonnen | E3: Veränderung gegenüber Vorjahreszeitraum in % | F3: Zeilenende | G3: Berichtsmonat Vorjahr | H3: Berichtszeitraum Vorjahr
A4: 01 Erzeugnisse der Land- und Forstwirtschaft sowie der Fischerei | B4: 21957 | C4: =(B4*100)/G4-100 -> -75.640144 | D4: =B4+SEE_August_Barrfrei!D4 -> 354735 | E4: =(D4*100)/H4-100 -> -26.6587 | F4: Zeilenende | G4: 90136 | H4: 483677
A5: 02 Kohle, rohes Erdöl und Erdgas | B5: 1998178 | C5: =(B5*100)/G5-100 -> -0.5713899 | D5: =B5+SEE_August_Barrfrei!D5 -> 16988252 | E5: =(D5*100)/H5-100 -> -10.479706 | F5: Zeilenende | G5: 2009661 | H5: 18976984
A6: 03 Erze, Steine und Erden, sonstige Bergbauerzeugnisse | B6: 565157 | C6: =(B6*100)/G6-100 -> -13.95374 | D6: =B6+SEE_August_Barrfrei!D6 -> 5667460 | E6: =(D6*100)/H6-100 -> 10.595384 | F6: Zeilenende | G6: 656806 | H6: 5124499.6
A7: 04 Nahrungs- und Genussmittel | B7: 232059 | C7: =(B7*100)/G7-100 -> -1.8362944 | D7: =B7+SEE_August_Barrfrei!D7 -> 2174835.9 | E7: =(D7*100)/H7-100 -> 5.8661013 | F7: Zeilenende | G7: 236400 | H7: 2054327
A8: 05 Textilien, Bekleidung, Leder und Lederwaren | C8: =(B8*100)/G8-100 -> #DIV/0! | D8: =B8+SEE_August_Barrfrei!D8 -> 0 | E8: =(D8*100)/H8-100 -> #DIV/0! | F8: Zeilenende | H8: 0
A9: 06 Holzwaren, Papier, Pappe, Druckerzeugnisse | B9: 173223 | C9: =(B9*100)/G9-100 -> 9.7250903 | D9: =B9+SEE_August_Barrfrei!D9 -> 1498785 | E9: =(D9*100)/H9-100 -> 13.049981 | F9: Zeilenende | G9: 157870 | H9: 1325772
A10: 07 Kokerei- und Mineralölerzeugnisse | B10: 147391 | C10: =(B10*100)/G10-100 -> -5.0884457 | D10: =B10+SEE_August_Barrfrei!D10 -> 2010117 | E10: =(D10*100)/H10-100 -> 28.987934 | F10: Zeilenende | G10: 155293 | H10: 1558376
A11: 08 Chemische Erzeugnisse etc. | B11: 277814.62 | C11: =(B11*100)/G11-100 -> -2.6380189 | D11: =B11+SEE_August_Barrfrei!D11 -> 2478204.1 | E11: =(D11*100)/H11-100 -> 2.2189956 | F11: Zeilenende | G11: 285342 | H11: 2424406.7
A12: 09 Sonstige Mineralerzeugnisse (Glas, Zement, Gips etc.) | B12: 331.03 | C12: =(B12*100)/G12-100 -> -99.084302 | D12: =B12+SEE_August_Barrfrei!D12 -> 225966.67 | E12: =(D12*100)/H12-100 -> 105.47119 | F12: Zeilenende | G12: 36150.58 | H12: 109974.87
A13: 10 Metalle und Metallerzeugnisse | B13: 52991.718 | C13: =(B13*100)/G13-100 -> 41.205137 | D13: =B13+SEE_August_Barrfrei!D13 -> 637596.01 | E13: =(D13*100)/H13-100 -> 31.558188 | F13: Zeilenende | G13: 37528.18 | H13: 484649.43
A14: 11 Maschinen und Ausrüstungen, Haushaltsgeräte etc. | B14: 47772 | C14: =(B14*100)/G14-100 -> 17.93226 | D14: =B14+SEE_August_Barrfrei!D14 -> 478497 | E14: =(D14*100)/H14-100 -> 63.87108 | F14: Zeilenende | G14: 40508 | H14: 291996
A15: 12 Fahrzeuge | B15: 251083 | C15: =(B15*100)/G15-100 -> 4.4057989 | D15: =B15+SEE_August_Barrfrei!D15 -> 2257129.5 | E15: =(D15*100)/H15-100 -> 5.0557494 | F15: Zeilenende | G15: 240487.6 | H15: 2148506.4
A16: 13 Möbel, Schmuck, Musikinstrumente, Sportgeräte etc. | B16: 133.87 | C16: =(B16*100)/G16-100 -> -11.203237 | D16: =B16+SEE_August_Barrfrei!D16 -> 1211.43 | E16: =(D16*100)/H16-100 -> -14.338142 | F16: Zeilenende | G16: 150.76 | H16: 1414.2
A17: 14 Sekundärrohstoffe, Abfälle | B17: 30641.88 | C17: =(B17*100)/G17-100 -> -11.678886 | D17: =B17+SEE_August_Barrfrei!D17 -> 247967.64 | E17: =(D17*100)/H17-100 -> -25.512584 | F17: Zeilenende | G17: 34693.72 | H17: 332898.7
A18: 15 Post, Pakete | C18: =(B18*100)/G18-100 -> #DIV/0! | D18: =B18+SEE_August_Barrfrei!D18 -> 0 | E18: =(D18*100)/H18-100 -> #DIV/0! | F18: Zeilenende | H18: 0
A19: 16 Geräte und Material für die Güterbeförderung2) | B19: 0 | C19: =(B19*100)/G19-100 -> -100 | D19: =B19+SEE_August_Barrfrei!D19 -> 22302 | E19: =(D19*100)/H19-100 -> -55.691978 | F19: Zeilenende | G19: 4884 | H19: 50334
A20: 17 Umzugsgut und sonstige nichtmarktbestimmte Güter | B20: 0 | C20: =(B20*100)/G20-100 -> -100 | D20: =B20+SEE_August_Barrfrei!D20 -> 0 | E20: =(D20*100)/H20-100 -> -100 | F20: Zeilenende | G20: 1586 | H20: 4111
A21: 18 Sammelgut | B21: 7055 | C21: =(B21*100)/G21-100 -> 28.482972 | D21: =B21+SEE_August_Barrfrei!D21 -> 785505 | E21: =(D21*100)/H21-100 -> 54.519292 | F21: Zeilenende | G21: 5491 | H21: 508354
A22: 19 Gutart unbekannt3) | B22: 1025295 | C22: =(B22*100)/G22-100 -> 16.129679 | D22: =B22+SEE_August_Barrfrei!D22 -> 9476103.7 | E22: =(D22*100)/H22-100 -> 71.069457 | F22: Zeilenende | G22: 882888 | H22: 5539331.1
A23: 20 Sonstige Güter a.n.g. | B23: 1228.085 | C23: =(B23*100)/G23-100 -> -80.735922 | D23: =B23+SEE_August_Barrfrei!D23 -> 18666.801 | E23: =(D23*100)/H23-100 -> -47.475934 | F23: Zeilenende | G23: 6375 | H23: 35539.52
A24: Insgesamt | B24: 4832311.2 | C24: =(B24*100)/G24-100 -> -1.0228813 | D24: =B24+SEE_August_Barrfrei!D24 -> 44600236 | E24: =(D24*100)/H24-100 -> 8.8008821 | F24: Zeilenende | G24: 4882250.8 | H24: 40992532
A25: Nächste Zeilen: Fußnoten 1-3 | E25: Zeilenende | F25: Zeilenende
A26: 1) Einheitliches Güterverzeichnis der Verkehrsstatistiken (NST-2007) | F26: Zeilenende
A27: 2) NST 16.2 - Paletten & Verpackungsmaterial; NST 16.1 - Leere Container und Wechselbehälter zählen nicht zum Seegüterumschlag | F27: Zeilenende
A28: 3) Nicht identifizierbare Güter in Containern sowie sonstige nichtidentifizierbare Güter | F28: Zeilenende
A29: Güterumschlag der Seeschifffahrt im September 2025 nach ausgewählten Häfen | F29: Zeilenende
A30: Ausgewählte Häfen | B30: Güterumschlag September 2025 in Tonnen | C30: Veränderung gegenüber Vorjahresmonat in % | D30: Güterumschlag Januar-September 2025 in Tonnen | E30: Veränderung gegenüber Vorjahreszeitraum in % | F30: Zeilenende | G30: Berichtsmonat Vorjahr | H30: Berichtszeitraum Vorjahr
A31: Brake | B31: 426846 | C31: =SUM(B31/G31*100-100) -> -8.6260709 | D31: =B31+SEE_August_Barrfrei!D31 -> 4293282 | E31: =SUM(D31/H31*100-100) -> 10.006952 | F31: Zeilenende | G31: 467142 | H31: 3902737
A32: Bützfleth | B32: 600142 | C32: =SUM(B32/G32*100-100) -> 13.566898 | D32: =B32+SEE_August_Barrfrei!D32 -> 4377675 | E32: =SUM(D32/H32*100-100) -> 4.9481022 | F32: Zeilenende | G32: 528448 | H32: 4171276
A33: Cuxhaven | B33: 182647 | C33: =SUM(B33/G33*100-100) -> -25.337906 | D33: =B33+SEE_August_Barrfrei!D33 -> 2544751 | E33: =SUM(D33/H33*100-100) -> 35.247186 | F33: Zeilenende | G33: 244631.5 | H33: 1881555.6
A34: Emden | B34: 370619 | C34: =SUM(B34/G34*100-100) -> -3.8267517 | D34: =B34+SEE_August_Barrfrei!D34 -> 3542991 | E34: =SUM(D34/H34*100-100) -> 7.1336755 | F34: Zeilenende | G34: 385366 | H34: 3307075
A35: JadeWeserPort | B35: 936656 | C35: =SUM(B35/G35*100-100) -> 21.424599 | D35: =B35+SEE_August_Barrfrei!D35 -> 8584430 | E35: =SUM(D35/H35*100-100) -> 93.919798 | F35: Zeilenende | G35: 771389 | H35: 4426794
A36: Nordenham | B36: 54904.427 | C36: =SUM(B36/G36*100-100) -> -36.605957 | D36: =B36+SEE_August_Barrfrei!D36 -> 1106956.2 | E36: =SUM(D36/H36*100-100) -> 32.978466 | F36: Zeilenende | G36: 86608.18 | H36: 832432.67
A37: Papenburg | B37: 30787 | C37: =SUM(B37/G37*100-100) -> 57.020452 | D37: =B37+SEE_August_Barrfrei!D37 -> 417132 | E37: =SUM(D37/H37*100-100) -> 18.517214 | F37: Zeilenende | G37: 19607 | H37: 351959
A38: Wilhelmshaven | B38: 2176800 | C38: =SUM(B38/G38*100-100) -> -4.4848002 | D38: =B38+SEE_August_Barrfrei!D38 -> 19192345 | E38: =SUM(D38/H38*100-100) -> -9.9123374 | F38: Zeilenende | G38: 2279009 | H38: 21304077
A39: Übrige Seehäfen in Niedersachsen | B39: =B40-B31-B32-B33-B34-B35-B36-B37-B38 -> 52909.78 | C39: =SUM(B39/G39*100-100) -> -47.116746 | D39: =B39+SEE_August_Barrfrei!D39 -> 540673.76 | E39: =SUM(D39/H39*100-100) -> -33.629149 | F39: Zeilenende | G39: 100050.16 | H39: 814625.32
A40: Insgesamt | B40: =B24 -> 4832311.2 | C40: =SUM(B40/G40*100-100) -> -1.0228813 | D40: =B40+SEE_August_Barrfrei!D40 -> 44600236 | E40: =SUM(D40/H40*100-100) -> 8.8008821 | F40: Zeilenende | G40: 4882250.8 | H40: 40992532
A41: Spaltenende | B41: Spaltenende | C41: Spaltenende | D41: Spaltenende | E41: Spaltenende | F41: Tabellenende

Sheet SEE_Oktober_Barrfrei
A1: © Landesamt für Statistik Niedersachsen, Hannover 2025. Vervielfältigung und Verbreitung, auch auszugsweise, mit Quellenangabe gestattet. | F1: Zeilenende
A2: Güterumschlag der Seeschifffahrt im Oktober 2025 nach Güterabteilungen im Sinne des NST-2007 1) | F2: Zeilenende
A3: Güterabteilungen | B3: Güterumschlag Oktober 2025 in Tonnen | C3: Veränderung gegenüber Vorjahresmonat in % | D3: Güterumschlag Januar-Oktober 2025 in Tonnen | E3: Veränderung gegenüber Vorjahreszeitraum in % | F3: Zeilenende | G3: Berichtsmonat Vorjahr | H3: Berichtszeitraum Vorjahr
A4: 01 Erzeugnisse der Land- und Forstwirtschaft sowie der Fischerei | B4: 60743 | C4: =(B4*100)/G4-100 -> 34.265379 | D4: =B4+SEE_September_Barrfrei!D4 -> 415478 | E4: =(D4*100)/H4-100 -> -21.447559 | F4: Zeilenende | G4: 45241 | H4: 528918
A5: 02 Kohle, rohes Erdöl und Erdgas | B5: 1960745.3 | C5: =(B5*100)/G5-100 -> -13.304998 | D5: =B5+SEE_September_Barrfrei!D5 -> 18948997 | E5: =(D5*100)/H5-100 -> -10.780566 | F5: Zeilenende | G5: 2261659 | H5: 21238643
A6: 03 Erze, Steine und Erden, sonstige Bergbauerzeugnisse | B6: 434880 | C6: =(B6*100)/G6-100 -> -30.962443 | D6: =B6+SEE_September_Barrfrei!D6 -> 6102340 | E6: =(D6*100)/H6-100 -> 6.0461791 | F6: Zeilenende | G6: 629918 | H6: 5754417.6
A7: 04 Nahrungs- und Genussmittel | B7: 240895 | C7: =(B7*100)/G7-100 -> -22.468008 | D7: =B7+SEE_September_Barrfrei!D7 -> 2415730.9 | E7: =(D7*100)/H7-100 -> 2.143731 | F7: Zeilenende | G7: 310704 | H7: 2365031
A8: 05 Textilien, Bekleidung, Leder und Lederwaren | B8: 0 | C8: =(B8*100)/G8-100 -> #DIV/0! | D8: =B8+SEE_September_Barrfrei!D8 -> 0 | E8: =(D8*100)/H8-100 -> #DIV/0! | F8: Zeilenende | H8: 0
A9: 06 Holzwaren, Papier, Pappe, Druckerzeugnisse | B9: 130956 | C9: =(B9*100)/G9-100 -> -30.225272 | D9: =B9+SEE_September_Barrfrei!D9 -> 1629741 | E9: =(D9*100)/H9-100 -> 7.683408 | F9: Zeilenende | G9: 187684 | H9: 1513456
A10: 07 Kokerei- und Mineralölerzeugnisse | B10: 135435 | C10: =(B10*100)/G10-100 -> 6.4584059 | D10: =B10+SEE_September_Barrfrei!D10 -> 2145552 | E10: =(D10*100)/H10-100 -> 27.287538 | F10: Zeilenende | G10: 127218.7 | H10: 1685594.7
A11: 08 Chemische Erzeugnisse etc. | B11: 346691.96 | C11: =(B11*100)/G11-100 -> 2.4569065 | D11: =B11+SEE_September_Barrfrei!D11 -> 2824896.1 | E11: =(D11*100)/H11-100 -> 2.2481343 | F11: Zeilenende | G11: 338378.32 | H11: 2762785
A12: 09 Sonstige Mineralerzeugnisse (Glas, Zement, Gips etc.) | B12: 433.74 | C12: =(B12*100)/G12-100 -> 224.12195 | D12: =B12+SEE_September_Barrfrei!D12 -> 226400.41 | E12: =(D12*100)/H12-100 -> 105.61539 | F12: Zeilenende | G12: 133.82 | H12: 110108.69
A13: 10 Metalle und Metallerzeugnisse | B13: 55307.321 | C13: =(B13*100)/G13-100 -> -19.848377 | D13: =B13+SEE_September_Barrfrei!D13 -> 692903.33 | E13: =(D13*100)/H13-100 -> 25.151238 | F13: Zeilenende | G13: 69003.37 | H13: 553652.8
A14: 11 Maschinen und Ausrüstungen, Haushaltsgeräte etc. | B14: 36375 | C14: =(B14*100)/G14-100 -> 10.040537 | D14: =B14+SEE_September_Barrfrei!D14 -> 514872 | E14: =(D14*100)/H14-100 -> 58.39681 | F14: Zeilenende | G14: 33056 | H14: 325052
A15: 12 Fahrzeuge | B15: 238950 | C15: =(B15*100)/G15-100 -> -8.6908922 | D15: =B15+SEE_September_Barrfrei!D15 -> 2496079.5 | E15: =(D15*100)/H15-100 -> 3.5631733 | F15: Zeilenende | G15: 261693.5 | H15: 2410199.9
A16: 13 Möbel, Schmuck, Musikinstrumente, Sportgeräte etc. | B16: 87.88 | C16: =(B16*100)/G16-100 -> -20.935673 | D16: =B16+SEE_September_Barrfrei!D16 -> 1299.31 | E16: =(D16*100)/H16-100 -> -14.818894 | F16: Zeilenende | G16: 111.15 | H16: 1525.35
A17: 14 Sekundärrohstoffe, Abfälle | B17: 23378.4 | C17: =(B17*100)/G17-100 -> -30.239553 | D17: =B17+SEE_September_Barrfrei!D17 -> 271346.04 | E17: =(D17*100)/H17-100 -> -25.944918 | F17: Zeilenende | G17: 33512.4 | H17: 366411.1
A18: 15 Post, Pakete | B18: 0 | C18: =(B18*100)/G18-100 -> #DIV/0! | D18: =B18+SEE_September_Barrfrei!D18 -> 0 | E18: =(D18*100)/H18-100 -> #DIV/0! | F18: Zeilenende | H18: 0
A19: 16 Geräte und Material für die Güterbeförderung2) | B19: 0 | C19: =(B19*100)/G19-100 -> -100 | D19: =B19+SEE_September_Barrfrei!D19 -> 22302 | E19: =(D19*100)/H19-100 -> -60.622219 | F19: Zeilenende | G19: 6302 | H19: 56636
A20: 17 Umzugsgut und sonstige nichtmarktbestimmte Güter | B20: 0 | C20: =(B20*100)/G20-100 -> #DIV/0! | D20: =B20+SEE_September_Barrfrei!D20 -> 0 | E20: =(D20*100)/H20-100 -> -100 | F20: Zeilenende | H20: 4111
A21: 18 Sammelgut | B21: 4888 | C21: =(B21*100)/G21-100 -> 184.18605 | D21: =B21+SEE_September_Barrfrei!D21 -> 790393 | E21: =(D21*100)/H21-100 -> 54.956536 | F21: Zeilenende | G21: 1720 | H21: 510074
A22: 19 Gutart unbekannt3) | B22: 1161982 | C22: =(B22*100)/G22-100 -> 55.913186 | D22: =B22+SEE_September_Barrfrei!D22 -> 10638086 | E22: =(D22*100)/H22-100 -> 69.272115 | F22: Zeilenende | G22: 745275 | H22: 6284606.1
A23: 20 Sonstige Güter a.n.g. | C23: =(B23*100)/G23-100 -> -100 | D23: =B23+SEE_September_Barrfrei!D23 -> 18666.801 | E23: =(D23*100)/H23-100 -> -60.500291 | F23: Zeilenende | G23: 11718.552 | H23: 47258.072
A24: Insgesamt | B24: 4831748.6 | C24: =(B24*100)/G24-100 -> -4.5736749 | D24: =B24+SEE_September_Barrfrei!D24 -> 49431985 | E24: =(D24*100)/H24-100 -> 7.3304985 | F24: Zeilenende | G24: 5063328.8 | H24: 46055860
A25: Nächste Zeilen: Fußnoten 1-3 | E25: Zeilenende | F25: Zeilenende
A26: 1) Einheitliches Güterverzeichnis der Verkehrsstatistiken (NST-2007) | F26: Zeilenende
A27: 2) NST 16.2 - Paletten & Verpackungsmaterial; NST 16.1 - Leere Container und Wechselbehälter zählen nicht zum Seegüterumschlag | F27: Zeilenende
A28: 3) Nicht identifizierbare Güter in Containern sowie sonstige nichtidentifizierbare Güter | F28: Zeilenende
A29: Güterumschlag der Seeschifffahrt im Oktober 2025 nach ausgewählten Häfen | F29: Zeilenende
A30: Ausgewählte Häfen | B30: Güterumschlag Oktober 2025 in Tonnen | C30: Veränderung gegenüber Vorjahresmonat in % | D30: Güterumschlag Januar-Oktober 2025 in Tonnen | E30: Veränderung gegenüber Vorjahreszeitraum in % | F30: Zeilenende | G30: Berichtsmonat Vorjahr | H30: Berichtszeitraum Vorjahr
A31: Brake | B31: 435730 | C31: =SUM(B31/G31*100-100) -> -24.551008 | D31: =B31+SEE_September_Barrfrei!D31 -> 4729012 | E31: =SUM(D31/H31*100-100) -> 5.5523427 | F31: Zeilenende | G31: 577516 | H31: 4480253
A32: Bützfleth | B32: 515095 | C32: =SUM(B32/G32*100-100) -> 8.0722419 | D32: =B32+SEE_September_Barrfrei!D32 -> 4892770 | E32: =SUM(D32/H32*100-100) -> 5.2684687 | F32: Zeilenende | G32: 476621 | H32: 4647897
A33: Cuxhaven | B33: 184514 | C33: =SUM(B33/G33*100-100) -> -8.7388869 | D33: =B33+SEE_September_Barrfrei!D33 -> 2729265 | E33: =SUM(D33/H33*100-100) -> 30.979272 | F33: Zeilenende | G33: 202182.5 | H33: 2083738.1
A34: Emden | B34: 334358 | C34: =SUM(B34/G34*100-100) -> -29.172395 | D34: =B34+SEE_September_Barrfrei!D34 -> 3877349 | E34: =SUM(D34/H34*100-100) -> 2.5984957 | F34: Zeilenende | G34: 472073 | H34: 3779148
A35: JadeWeserPort | B35: 1066983 | C35: =SUM(B35/G35*100-100) -> 68.683897 | D35: =B35+SEE_September_Barrfrei!D35 -> 9651413 | E35: =SUM(D35/H35*100-100) -> 90.764722 | F35: Zeilenende | G35: 632534 | H35: 5059328
A36: Nordenham | B36: 131506.59 | C36: =SUM(B36/G36*100-100) -> 70.761306 | D36: =B36+SEE_September_Barrfrei!D36 -> 1238462.8 | E36: =SUM(D36/H36*100-100) -> 36.177924 | F36: Zeilenende | G36: 77011.938 | H36: 909444.6
A37: Papenburg | B37: 34701 | C37: =SUM(B37/G37*100-100) -> 7.3370658 | D37: =B37+SEE_September_Barrfrei!D37 -> 451833 | E37: =SUM(D37/H37*100-100) -> 17.576661 | F37: Zeilenende | G37: 32329 | H37: 384288
A38: Wilhelmshaven | B38: 2079266 | C38: =SUM(B38/G38*100-100) -> -16.668664 | D38: =B38+SEE_September_Barrfrei!D38 -> 21271611 | E38: =SUM(D38/H38*100-100) -> -10.620689 | F38: Zeilenende | G38: 2495179 | H38: 23799256
A39: Übrige Seehäfen in Niedersachsen | B39: =B40-B31-B32-B33-B34-B35-B36-B37-B38 -> 49595.02 | C39: =SUM(B39/G39*100-100) -> -49.33202 | D39: =B39+SEE_September_Barrfrei!D39 -> 590268.78 | E39: =SUM(D39/H39*100-100) -> -35.313556 | F39: Zeilenende | G39: 97882.37 | H39: 912507.69
A40: Insgesamt | B40: =B24 -> 4831748.6 | C40: =SUM(B40/G40*100-100) -> -4.5736749 | D40: =B40+SEE_September_Barrfrei!D40 -> 49431985 | E40: =SUM(D40/H40*100-100) -> 7.3304985 | F40: Zeilenende | G40: 5063328.8 | H40: 46055860
A41: Spaltenende | B41: Spaltenende | C41: Spaltenende | D41: Spaltenende | E41: Spaltenende | F41: Tabellenende

Sheet SEE_November_Barrfrei
A1: © Landesamt für Statistik Niedersachsen, Hannover 2025. Vervielfältigung und Verbreitung, auch auszugsweise, mit Quellenangabe gestattet. | F1: Zeilenende
A2: Güterumschlag der Seeschifffahrt im November 2025 nach Güterabteilungen im Sinne des NST-2007 1) | F2: Zeilenende
A3: Güterabteilungen | B3: Güterumschlag November 2025 in Tonnen | C3: Veränderung gegenüber Vorjahresmonat in % | D3: Güterumschlag Januar-November 2025 in Tonnen | E3: Veränderung gegenüber Vorjahreszeitraum in % | F3: Zeilenende | G3: Berichtsmonat Vorjahr | H3: Berichtszeitraum Vorjahr
A4: 01 Erzeugnisse der Land- und Forstwirtschaft sowie der Fischerei | B4: 35790 | C4: =(B4*100)/G4-100 -> 26.8789 | D4: =B4+SEE_Oktober_Barrfrei!D4 -> 451268 | E4: =(D4*100)/H4-100 -> -19.000729 | F4: Zeilenende | G4: 28208 | H4: 557126
A5: 02 Kohle, rohes Erdöl und Erdgas | B5: 1702221 | C5: =(B5*100)/G5-100 -> -18.043102 | D5: =B5+SEE_Oktober_Barrfrei!D5 -> 20651218 | E5: =(D5*100)/H5-100 -> -11.427517 | F5: Zeilenende | G5: 2076971 | H5: 23315614
A6: 03 Erze, Steine und Erden, sonstige Bergbauerzeugnisse | B6: 668459 | C6: =(B6*100)/G6-100 -> 47.173155 | D6: =B6+SEE_Oktober_Barrfrei!D6 -> 6770799 | E6: =(D6*100)/H6-100 -> 9.0548737 | F6: Zeilenende | G6: 454199 | H6: 6208616.6
A7: 04 Nahrungs- und Genussmittel | B7: 283331 | C7: =(B7*100)/G7-100 -> 8.7133857 | D7: =B7+SEE_Oktober_Barrfrei!D7 -> 2699061.9 | E7: =(D7*100)/H7-100 -> 2.7958341 | F7: Zeilenende | G7: 260622 | H7: 2625653
A8: 05 Textilien, Bekleidung, Leder und Lederwaren | C8: =(B8*100)/G8-100 -> #DIV/0! | D8: =B8+SEE_Oktober_Barrfrei!D8 -> 0 | E8: =(D8*100)/H8-100 -> #DIV/0! | F8: Zeilenende | H8: 0
A9: 06 Holzwaren, Papier, Pappe, Druckerzeugnisse | B9: 148681 | C9: =(B9*100)/G9-100 -> -3.1993229 | D9: =B9+SEE_Oktober_Barrfrei!D9 -> 1778422 | E9: =(D9*100)/H9-100 -> 6.6807194 | F9: Zeilenende | G9: 153595 | H9: 1667051
A10: 07 Kokerei- und Mineralölerzeugnisse | B10: 181142 | C10: =(B10*100)/G10-100 -> -13.054205 | D10: =B10+SEE_Oktober_Barrfrei!D10 -> 2326694 | E10: =(D10*100)/H10-100 -> 22.849813 | F10: Zeilenende | G10: 208339 | H10: 1893933.7
A11: 08 Chemische Erzeugnisse etc. | B11: 301659.02 | C11: =(B11*100)/G11-100 -> 10.941614 | D11: =B11+SEE_Oktober_Barrfrei!D11 -> 3126555.1 | E11: =(D11*100)/H11-100 -> 3.0270684 | F11: Zeilenende | G11: 271907.9 | H11: 3034692.9
A12: 09 Sonstige Mineralerzeugnisse (Glas, Zement, Gips etc.) | B12: 116 | C12: =(B12*100)/G12-100 -> -98.528333 | D12: =B12+SEE_Oktober_Barrfrei!D12 -> 226516.41 | E12: =(D12*100)/H12-100 -> 91.97785 | F12: Zeilenende | G12: 7882.22 | H12: 117990.91
A13: 10 Metalle und Metallerzeugnisse | B13: 48456.125 | C13: =(B13*100)/G13-100 -> 13.219904 | D13: =B13+SEE_Oktober_Barrfrei!D13 -> 741359.46 | E13: =(D13*100)/H13-100 -> 24.295107 | F13: Zeilenende | G13: 42798.239 | H13: 596451.04
A14: 11 Maschinen und Ausrüstungen, Haushaltsgeräte etc. | B14: 25511 | C14: =(B14*100)/G14-100 -> -60.209939 | D14: =B14+SEE_Oktober_Barrfrei!D14 -> 540383 | E14: =(D14*100)/H14-100 -> 38.856683 | F14: Zeilenende | G14: 64114 | H14: 389166
A15: 12 Fahrzeuge | B15: 271102 | C15: =(B15*100)/G15-100 -> 1.2167576 | D15: =B15+SEE_Oktober_Barrfrei!D15 -> 2767181.5 | E15: =(D15*100)/H15-100 -> 3.3284978 | F15: Zeilenende | G15: 267843 | H15: 2678042.9
A16: 13 Möbel, Schmuck, Musikinstrumente, Sportgeräte etc. | C16: =(B16*100)/G16-100 -> -100 | D16: =B16+SEE_Oktober_Barrfrei!D16 -> 1299.31 | E16: =(D16*100)/H16-100 -> -19.605611 | F16: Zeilenende | G16: 90.82 | H16: 1616.17
A17: 14 Sekundärrohstoffe, Abfälle | B17: 21271 | C17: =(B17*100)/G17-100 -> -51.886919 | D17: =B17+SEE_Oktober_Barrfrei!D17 -> 292617.04 | E17: =(D17*100)/H17-100 -> -28.738018 | F17: Zeilenende | G17: 44210.43 | H17: 410621.53
A18: 15 Post, Pakete | C18: =(B18*100)/G18-100 -> #DIV/0! | D18: =B18+SEE_Oktober_Barrfrei!D18 -> 0 | E18: =(D18*100)/H18-100 -> #DIV/0! | F18: Zeilenende | H18: 0
A19: 16 Geräte und Material für die Güterbeförderung2) | B19: 3502 | C19: =(B19*100)/G19-100 -> -38.925706 | D19: =B19+SEE_Oktober_Barrfrei!D19 -> 25804 | E19: =(D19*100)/H19-100 -> -58.627545 | F19: Zeilenende | G19: 5734 | H19: 62370
A20: 17 Umzugsgut und sonstige nichtmarktbestimmte Güter | C20: =(B20*100)/G20-100 -> -100 | D20: =B20+SEE_Oktober_Barrfrei!D20 -> 0 | E20: =(D20*100)/H20-100 -> -100 | F20: Zeilenende | G20: 318 | H20: 4429
A21: 18 Sammelgut | B21: 3217 | C21: =(B21*100)/G21-100 -> 423.08943 | D21: =B21+SEE_Oktober_Barrfrei!D21 -> 793610 | E21: =(D21*100)/H21-100 -> 55.399862 | F21: Zeilenende | G21: 615 | H21: 510689
A22: 19 Gutart unbekannt3) | B22: 1155861.7 | C22: =(B22*100)/G22-100 -> 46.599146 | D22: =B22+SEE_Oktober_Barrfrei!D22 -> 11793947 | E22: =(D22*100)/H22-100 -> 66.744705 | F22: Zeilenende | G22: 788450.5 | H22: 7073056.6
A23: 20 Sonstige Güter a.n.g. | B23: 4827 | C23: =(B23*100)/G23-100 -> 118.3175 | D23: =B23+SEE_Oktober_Barrfrei!D23 -> 23493.801 | E23: =(D23*100)/H23-100 -> -52.508102 | F23: Zeilenende | G23: 2211 | H23: 49469.072
A24: Insgesamt | B24: 4855146.8 | C24: =(B24*100)/G24-100 -> 3.7843865 | D24: =B24+SEE_Oktober_Barrfrei!D24 -> 54287131 | E24: =(D24*100)/H24-100 -> 7.0035164 | F24: Zeilenende | G24: 4678109.1 | H24: 50733970
A25: Nächste Zeilen: Fußnoten 1-3 | E25: Zeilenende | F25: Zeilenende
A26: 1) Einheitliches Güterverzeichnis der Verkehrsstatistiken (NST-2007) | F26: Zeilenende
A27: 2) NST 16.2 - Paletten & Verpackungsmaterial; NST 16.1 - Leere Container und Wechselbehälter zählen nicht zum Seegüterumschlag | F27: Zeilenende
A28: 3) Nicht identifizierbare Güter in Containern sowie sonstige nichtidentifizierbare Güter | F28: Zeilenende
A29: Güterumschlag der Seeschifffahrt im November 2025 nach ausgewählten Häfen | F29: Zeilenende
A30: Ausgewählte Häfen | B30: Güterumschlag November 2025 in Tonnen | C30: Veränderung gegenüber Vorjahresmonat in % | D30: Güterumschlag Januar-November 2025 in Tonnen | E30: Veränderung gegenüber Vorjahreszeitraum in % | F30: Zeilenende | G30: Berichtsmonat Vorjahr | H30: Berichtszeitraum Vorjahr
A31: Brake | B31: 456488 | C31: =SUM(B31/G31*100-100) -> -3.0971516 | D31: =B31+SEE_Oktober_Barrfrei!D31 -> 5185500 | E31: =SUM(D31/H31*100-100) -> 4.7294152 | F31: Zeilenende | G31: 471078 | H31: 4951331
A32: Bützfleth | B32: 537163 | C32: =SUM(B32/G32*100-100) -> 25.961248 | D32: =B32+SEE_Oktober_Barrfrei!D32 -> 5429933 | E32: =SUM(D32/H32*100-100) -> 7.0075013 | F32: Zeilenende | G32: 426451 | H32: 5074348
A33: Cuxhaven | B33: 203010.5 | C33: =SUM(B33/G33*100-100) -> -9.9817534 | D33: =B33+SEE_Oktober_Barrfrei!D33 -> 2932275.5 | E33: =SUM(D33/H33*100-100) -> 26.979033 | F33: Zeilenende | G33: 225521.5 | H33: 2309259.6
A34: Emden | B34: 406500 | C34: =SUM(B34/G34*100-100) -> -0.44816692 | D34: =B34+SEE_Oktober_Barrfrei!D34 -> 4283849 | E34: =SUM(D34/H34*100-100) -> 2.3014091 | F34: Zeilenende | G34: 408330 | H34: 4187478
A35: JadeWeserPort | B35: 1084660 | C35: =SUM(B35/G35*100-100) -> 61.509883 | D35: =B35+SEE_Oktober_Barrfrei!D35 -> 10736073 | E35: =SUM(D35/H35*100-100) -> 87.336498 | F35: Zeilenende | G35: 671575 | H35: 5730903
A36: Nordenham | B36: 104856.14 | C36: =SUM(B36/G36*100-100) -> -45.110446 | D36: =B36+SEE_Oktober_Barrfrei!D36 -> 1343318.9 | E36: =SUM(D36/H36*100-100) -> 22.067108 | F36: Zeilenende | G36: 191031.14 | H36: 1100475.7
A37: Papenburg | B37: 55489 | C37: =SUM(B37/G37*100-100) -> 71.87771 | D37: =B37+SEE_Oktober_Barrfrei!D37 -> 507322 | E37: =SUM(D37/H37*100-100) -> 21.78495 | F37: Zeilenende | G37: 32284 | H37: 416572
A38: Wilhelmshaven | B38: 1967167 | C38: =SUM(B38/G38*100-100) -> -9.7260853 | D38: =B38+SEE_Oktober_Barrfrei!D38 -> 23238778 | E38: =SUM(D38/H38*100-100) -> -10.545648 | F38: Zeilenende | G38: 2179109 | H38: 25978365
A39: Übrige Seehäfen in Niedersachsen | B39: =B40-B31-B32-B33-B34-B35-B36-B37-B38 -> 39813.2 | C39: =SUM(B39/G39*100-100) -> -45.258504 | D39: =B39+SEE_Oktober_Barrfrei!D39 -> 630081.98 | E39: =SUM(D39/H39*100-100) -> -36.047684 | F39: Zeilenende | G39: 72729.47 | H39: 985237.16
A40: Insgesamt | B40: =B24 -> 4855146.8 | C40: =SUM(B40/G40*100-100) -> 3.7843865 | D40: =B40+SEE_Oktober_Barrfrei!D40 -> 54287131 | E40: =SUM(D40/H40*100-100) -> 7.0035164 | F40: Zeilenende | G40: 4678109.1 | H40: 50733970
A41: Spaltenende | B41: Spaltenende | C41: Spaltenende | D41: Spaltenende | E41: Spaltenende | F41: Tabellenende

Sheet SEE_Dezember_Barrfrei
A1: © Landesamt für Statistik Niedersachsen, Hannover 2025. Vervielfältigung und Verbreitung, auch auszugsweise, mit Quellenangabe gestattet. | F1: Zeilenende
A2: Güterumschlag der Seeschifffahrt im Dezember 2025 nach Güterabteilungen im Sinne des NST-2007 1) | F2: Zeilenende
A3: Güterabteilungen | B3: Güterumschlag Dezember 2025 in Tonnen | C3: Veränderung gegenüber Vorjahresmonat in % | D3: Güterumschlag Januar-Dezember 2025 in Tonnen | E3: Veränderung gegenüber Vorjahreszeitraum in % | F3: Zeilenende | G3: Berichtsmonat Vorjahr | H3: Berichtszeitraum Vorjahr
A4: 01 Erzeugnisse der Land- und Forstwirtschaft sowie der Fischerei | C4: =(B4*100)/G4-100 -> -100 | D4: =B4+SEE_November_Barrfrei!D4 -> 451268 | E4: =(D4*100)/H4-100 -> -24.833266 | F4: Zeilenende | G4: 43230 | H4: 600356
A5: 02 Kohle, rohes Erdöl und Erdgas | C5: =(B5*100)/G5-100 -> -100 | D5: =B5+SEE_November_Barrfrei!D5 -> 20651218 | E5: =(D5*100)/H5-100 -> -19.12019 | F5: Zeilenende | G5: 2217604 | H5: 25533218
A6: 03 Erze, Steine und Erden, sonstige Bergbauerzeugnisse | C6: =(B6*100)/G6-100 -> -100 | D6: =B6+SEE_November_Barrfrei!D6 -> 6770799 | E6: =(D6*100)/H6-100 -> 2.8798459 | F6: Zeilenende | G6: 372652 | H6: 6581268.6
A7: 04 Nahrungs- und Genussmittel | C7: =(B7*100)/G7-100 -> -100 | D7: =B7+SEE_November_Barrfrei!D7 -> 2699061.9 | E7: =(D7*100)/H7-100 -> -5.900588 | F7: Zeilenende | G7: 242656 | H7: 2868309
A8: 05 Textilien, Bekleidung, Leder und Lederwaren | C8: =(B8*100)/G8-100 -> #DIV/0! | D8: =B8+SEE_November_Barrfrei!D8 -> 0 | E8: =(D8*100)/H8-100 -> #DIV/0! | F8: Zeilenende | H8: 0
A9: 06 Holzwaren, Papier, Pappe, Druckerzeugnisse | C9: =(B9*100)/G9-100 -> -100 | D9: =B9+SEE_November_Barrfrei!D9 -> 1778422 | E9: =(D9*100)/H9-100 -> -1.3118306 | F9: Zeilenende | G9: 135011 | H9: 1802062
A10: 07 Kokerei- und Mineralölerzeugnisse | C10: =(B10*100)/G10-100 -> -100 | D10: =B10+SEE_November_Barrfrei!D10 -> 2326694 | E10: =(D10*100)/H10-100 -> 8.0351833 | F10: Zeilenende | G10: 259711 | H10: 2153644.7
A11: 08 Chemische Erzeugnisse etc. | C11: =(B11*100)/G11-100 -> -100 | D11: =B11+SEE_November_Barrfrei!D11 -> 3126555.1 | E11: =(D11*100)/H11-100 -> -4.9241018 | F11: Zeilenende | G11: 253790.5 | H11: 3288483.4
A12: 09 Sonstige Mineralerzeugnisse (Glas, Zement, Gips etc.) | C12: =(B12*100)/G12-100 -> -100 | D12: =B12+SEE_November_Barrfrei!D12 -> 226516.41 | E12: =(D12*100)/H12-100 -> 89.579484 | F12: Zeilenende | G12: 1492.7 | H12: 119483.61
A13: 10 Metalle und Metallerzeugnisse | C13: =(B13*100)/G13-100 -> -100 | D13: =B13+SEE_November_Barrfrei!D13 -> 741359.46 | E13: =(D13*100)/H13-100 -> 10.202039 | F13: Zeilenende | G13: 76276.495 | H13: 672727.53
A14: 11 Maschinen und Ausrüstungen, Haushaltsgeräte etc. | C14: =(B14*100)/G14-100 -> -100 | D14: =B14+SEE_November_Barrfrei!D14 -> 540383 | E14: =(D14*100)/H14-100 -> 29.134267 | F14: Zeilenende | G14: 29300 | H14: 418466
A15: 12 Fahrzeuge | C15: =(B15*100)/G15-100 -> -100 | D15: =B15+SEE_November_Barrfrei!D15 -> 2767181.5 | E15: =(D15*100)/H15-100 -> -5.4279142 | F15: Zeilenende | G15: 247959.5 | H15: 2926002.4
A16: 13 Möbel, Schmuck, Musikinstrumente, Sportgeräte etc. | C16: =(B16*100)/G16-100 -> -100 | D16: =B16+SEE_November_Barrfrei!D16 -> 1299.31 | E16: =(D16*100)/H16-100 -> -25.466654 | F16: Zeilenende | G16: 127.09 | H16: 1743.26
A17: 14 Sekundärrohstoffe, Abfälle | C17: =(B17*100)/G17-100 -> -100 | D17: =B17+SEE_November_Barrfrei!D17 -> 292617.04 | E17: =(D17*100)/H17-100 -> -32.242649 | F17: Zeilenende | G17: 21238.68 | H17: 431860.21
A18: 15 Post, Pakete | C18: =(B18*100)/G18-100 -> #DIV/0! | D18: =B18+SEE_November_Barrfrei!D18 -> 0 | E18: =(D18*100)/H18-100 -> #DIV/0! | F18: Zeilenende | H18: 0
A19: 16 Geräte und Material für die Güterbeförderung2) | C19: =(B19*100)/G19-100 -> -100 | D19: =B19+SEE_November_Barrfrei!D19 -> 25804 | E19: =(D19*100)/H19-100 -> -60.888808 | F19: Zeilenende | G19: 3606 | H19: 65976
A20: 17 Umzugsgut und sonstige nichtmarktbestimmte Güter | C20: =(B20*100)/G20-100 -> -100 | D20: =B20+SEE_November_Barrfrei!D20 -> 0 | E20: =(D20*100)/H20-100 -> -100 | F20: Zeilenende | G20: 320 | H20: 4749
A21: 18 Sammelgut | C21: =(B21*100)/G21-100 -> -100 | D21: =B21+SEE_November_Barrfrei!D21 -> 793610 | E21: =(D21*100)/H21-100 -> 55.244523 | F21: Zeilenende | G21: 511 | H21: 511200
A22: 19 Gutart unbekannt3) | C22: =(B22*100)/G22-100 -> -100 | D22: =B22+SEE_November_Barrfrei!D22 -> 11793947 | E22: =(D22*100)/H22-100 -> 49.513596 | F22: Zeilenende | G22: 815154 | H22: 7888210.6
A23: 20 Sonstige Güter a.n.g. | C23: =(B23*100)/G23-100 -> #DIV/0! | D23: =B23+SEE_November_Barrfrei!D23 -> 23493.801 | E23: =(D23*100)/H23-100 -> -52.508102 | F23: Zeilenende | H23: 49469.072
A24: Insgesamt | C24: =(B24*100)/G24-100 -> -100 | D24: =B24+SEE_November_Barrfrei!D24 -> 54287131 | E24: =(D24*100)/H24-100 -> -2.1052859 | F24: Zeilenende | G24: 4720640 | H24: 55454609
A25: Nächste Zeilen: Fußnoten 1-3 | E25: Zeilenende | F25: Zeilenende
A26: 1) Einheitliches Güterverzeichnis der Verkehrsstatistiken (NST-2007) | F26: Zeilenende
A27: 2) NST 16.2 - Paletten & Verpackungsmaterial; NST 16.1 - Leere Container und Wechselbehälter zählen nicht zum Seegüterumschlag | F27: Zeilenende
A28: 3) Nicht identifizierbare Güter in Containern sowie sonstige nichtidentifizierbare Güter | F28: Zeilenende
A29: Güterumschlag der Seeschifffahrt im Dezember 2025 nach ausgewählten Häfen | F29: Zeilenende
A30: Ausgewählte Häfen | B30: Güterumschlag Dezember 2025 in Tonnen | C30: Veränderung gegenüber Vorjahresmonat in % | D30: Güterumschlag Januar-Dezember 2025 in Tonnen | E30: Veränderung gegenüber Vorjahreszeitraum in % | F30: Zeilenende | G30: Berichtsmonat Vorjahr | H30: Berichtszeitraum Vorjahr
A31: Brake | C31: =SUM(B31/G31*100-100) -> -100 | D31: =B31+SEE_November_Barrfrei!D31 -> 5185500 | E31: =SUM(D31/H31*100-100) -> -3.9599149 | F31: Zeilenende | G31: 447977 | H31: 5399308
A32: Bützfleth | C32: =SUM(B32/G32*100-100) -> -100 | D32: =B32+SEE_November_Barrfrei!D32 -> 5429933 | E32: =SUM(D32/H32*100-100) -> -0.74128711 | F32: Zeilenende | G32: 396137 | H32: 5470485
A33: Cuxhaven | C33: =SUM(B33/G33*100-100) -> -100 | D33: =B33+SEE_November_Barrfrei!D33 -> 2932275.5 | E33: =SUM(D33/H33*100-100) -> 19.208266 | F33: Zeilenende | G33: 150532.5 | H33: 2459792.1
A34: Emden | C34: =SUM(B34/G34*100-100) -> -100 | D34: =B34+SEE_November_Barrfrei!D34 -> 4283849 | E34: =SUM(D34/H34*100-100) -> -4.7966913 | F34: Zeilenende | G34: 312207 | H34: 4499685
A35: JadeWeserPort | C35: =SUM(B35/G35*100-100) -> -100 | D35: =B35+SEE_November_Barrfrei!D35 -> 10736073 | E35: =SUM(D35/H35*100-100) -> 66.070199 | F35: Zeilenende | G35: 733877 | H35: 6464780
A36: Nordenham | C36: =SUM(B36/G36*100-100) -> -100 | D36: =B36+SEE_November_Barrfrei!D36 -> 1343318.9 | E36: =SUM(D36/H36*100-100) -> 16.518665 | F36: Zeilenende | G36: 52402.995 | H36: 1152878.7
A37: Papenburg | C37: =SUM(B37/G37*100-100) -> -100 | D37: =B37+SEE_November_Barrfrei!D37 -> 507322 | E37: =SUM(D37/H37*100-100) -> 15.025961 | F37: Zeilenende | G37: 24478 | H37: 441050
A38: Wilhelmshaven | C38: =SUM(B38/G38*100-100) -> -100 | D38: =B38+SEE_November_Barrfrei!D38 -> 23238778 | E38: =SUM(D38/H38*100-100) -> -18.536501 | F38: Zeilenende | G38: 2548249 | H38: 28526614
A39: Übrige Seehäfen in Niedersachsen | B39: =B40-B31-B32-B33-B34-B35-B36-B37-B38 -> 0 | C39: =SUM(B39/G39*100-100) -> -100 | D39: =B39+SEE_November_Barrfrei!D39 -> 630081.98 | E39: =SUM(D39/H39*100-100) -> -39.416163 | F39: Zeilenende | G39: 54779.47 | H39: 1040016.6
A40: Insgesamt | B40: =B24 -> 0 | C40: =SUM(B40/G40*100-100) -> -100 | D40: =B40+SEE_November_Barrfrei!D40 -> 54287131 | E40: =SUM(D40/H40*100-100) -> -2.1052859 | F40: Zeilenende | G40: 4720640 | H40: 55454609
A41: Spaltenende | B41: Spaltenende | C41: Spaltenende | D41: Spaltenende | E41: Spaltenende | F41: Tabellenende

Sheet SEE_Jahresergebnis_Barrfrei
A1: © Landesamt für Statistik Niedersachsen, Hannover 2025. Vervielfältigung und Verbreitung, auch auszugsweise, mit Quellenangabe gestattet.
A2: Güterumschlag der Seeschifffahrt 2025 nach Güterabteilungen im Sinne des NST-2007 1) | E2: Zeilenende
A3: Güterabteilungen | B3: Güterumschlag 2025 in Tonnen | C3: Güterumschlag 2024 in Tonnen | D3: Veränderung gegenüber Vorjahreszeitraum in % | E3: Zeilenende
A4: 01 Erzeugnisse der Land- und Forstwirtschaft sowie der Fischerei | B4: =SEE_Dezember_Barrfrei!D4 -> 451268 | C4: 600356 | D4: =(B4*100)/C4-100 -> -24.833266 | E4: Zeilenende
A5: 02 Kohle, rohes Erdöl und Erdgas | B5: =SEE_Dezember_Barrfrei!D5 -> 20651218 | C5: 25533218 | D5: =(B5*100)/C5-100 -> -19.12019 | E5: Zeilenende
A6: 03 Erze, Steine und Erden, sonstige Bergbauerzeugnisse | B6: =SEE_Dezember_Barrfrei!D6 -> 6770799 | C6: 6581268.6 | D6: =(B6*100)/C6-100 -> 2.8798459 | E6: Zeilenende
A7: 04 Nahrungs- und Genussmittel | B7: =SEE_Dezember_Barrfrei!D7 -> 2699061.9 | C7: 2868309 | D7: =(B7*100)/C7-100 -> -5.900588 | E7: Zeilenende
A8: 05 Textilien, Bekleidung, Leder und Lederwaren | B8: =SEE_Dezember_Barrfrei!D8 -> 0 | C8: 0 | D8: =(B8*100)/C8-100 -> #DIV/0! | E8: Zeilenende
A9: 06 Holzwaren, Papier, Pappe, Druckerzeugnisse | B9: =SEE_Dezember_Barrfrei!D9 -> 1778422 | C9: 1802062 | D9: =(B9*100)/C9-100 -> -1.3118306 | E9: Zeilenende
A10: 07 Kokerei- und Mineralölerzeugnisse | B10: =SEE_Dezember_Barrfrei!D10 -> 2326694 | C10: 2153644.7 | D10: =(B10*100)/C10-100 -> 8.0351833 | E10: Zeilenende
A11: 08 Chemische Erzeugnisse etc. | B11: =SEE_Dezember_Barrfrei!D11 -> 3126555.1 | C11: 3288483.4 | D11: =(B11*100)/C11-100 -> -4.9241018 | E11: Zeilenende
A12: 09 Sonstige Mineralerzeugnisse (Glas, Zement, Gips etc.) | B12: =SEE_Dezember_Barrfrei!D12 -> 226516.41 | C12: 119483.61 | D12: =(B12*100)/C12-100 -> 89.579484 | E12: Zeilenende
A13: 10 Metalle und Metallerzeugnisse | B13: =SEE_Dezember_Barrfrei!D13 -> 741359.46 | C13: 672727.53 | D13: =(B13*100)/C13-100 -> 10.202039 | E13: Zeilenende
A14: 11 Maschinen und Ausrüstungen, Haushaltsgeräte etc. | B14: =SEE_Dezember_Barrfrei!D14 -> 540383 | C14: 418466 | D14: =(B14*100)/C14-100 -> 29.134267 | E14: Zeilenende
A15: 12 Fahrzeuge | B15: =SEE_Dezember_Barrfrei!D15 -> 2767181.5 | C15: 2926002.4 | D15: =(B15*100)/C15-100 -> -5.4279142 | E15: Zeilenende
... A24: Insgesamt | B24: =SEE_Dezember_Barrfrei!D24 -> 54287131 | C24: 55454609 | D24: =(B24*100)/C24-100 -> -2.1052859 | E24: Zeilenende
A25: Nächsten Zeilen: Fußnoten 1-3 | E25: Zeilenende
A26: 1) Einheitliches Güterverzeichnis der Verkehrsstatistiken (NST-2007) | E26: Zeilenende
A27: 2) NST 16.2 - Paletten & Verpackungsmaterial; NST 16.1 - Leere Container und Wechselbehälter zählen nicht zum Seegüterumschlag | E27: Zeilenende
A28: 3) Nicht identifizierbare Güter in Containern sowie sonstige nichtidentifizierbare Güter | E28: Zeilenende
A29: Güterumschlag der Seeschifffahrt 2025 nach ausgewählten Häfen | E29: Zeilenende
A30: Ausgewählte Häfen | B30: Güterumschlag 2025 in Tonnen | C30: Güterumschlag 2024 in Tonnen | D30: Veränderung gegenüber Vorjahreszeitraum in % | E30: Zeilenende
A31: Brake | B31: =SEE_Dezember_Barrfrei!D31 -> 5185500 | C31: 5399308 | D31: =(B31*100)/C31-100 -> -3.9599149 | E31: Zeilenende
A32: Bützfleth | B32: =SEE_Dezember_Barrfrei!D32 -> 5429933 | C32: 5470485 | D32: =(B32*100)/C32-100 -> -0.74128711 | E32: Zeilenende
A33: Cuxhaven | B33: =SEE_Dezember_Barrfrei!D33 -> 2932275.5 | C33: 2459792.1 | D33: =(B33*100)/C33-100 -> 19.208266 | E33: Zeilenende
A34: Emden | B34: =SEE_Dezember_Barrfrei!D34 -> 4283849 | C34: 4499685 | D34: =(B34*100)/C34-100 -> -4.7966913 | E34: Zeilenende
A35: JadeWeserPort | B35: =SEE_Dezember_Barrfrei!D35 -> 10736073 | C35: 6464780 | D35: =(B35*100)/C35-100 -> 66.070199 | E35: Zeilenende
A36: Nordenham | B36: =SEE_Dezember_Barrfrei!D36 -> 1343318.9 | C36: 1152878.7 | D36: =(B36*100)/C36-100 -> 16.518665 | E36: Zeilenende
A37: Papenburg | B37: =SEE_Dezember_Barrfrei!D37 -> 507322 | C37: 441050 | D37: =(B37*100)/C37-100 -> 15.025961 | E37: Zeilenende
A38: Wilhelmshaven | B38: =SEE_Dezember_Barrfrei!D38 -> 23238778 | C38: 28526614 | D38: =(B38*100)/C38-100 -> -18.536501 | E38: Zeilenende
A39: Übrige Seehäfen in Niedersachsen | B39: =B40-B31-B32-B33-B34-B35-B36-B37-B38 -> 630081.98 | C39: 1040016.6 | D39: =(B39*100)/C39-100 -> -39.416163 | E39: Zeilenende
A40: Insgesamt | B40: =B24 -> 54287131 | C40: 55454609 | D40: =(B40*100)/C40-100 -> -2.1052859 | E40: Zeilenende
A41: Spaltenende | B41: Spaltenende | C41: Spaltenende | D41: Spaltenende | E41: Tabellenende

Sheet XX_SEE_Umschlag Häfen_MM2025
A1: © Landesamt für Statistik Niedersachsen, Hannover 2025. Vervielfältigung und Verbreitung, auch auszugsweise, mit Quellenangabe gestattet. | J1: Zeilenende
A2: Güterumschlag der Seeschifffahrt 2025 nach ausgewählten Häfen | J2: Zeilenende
A3: Monate | B3: Insgesamt | C3: Von insgesamt: Brake | D3: Von insgesamt: Bützfleth | E3: Von insgesamt: Cuxhaven | F3: Von insgesamt: Emden | G3: Von insgesamt: JadeWeserPort | H3: Von insgesamt: Nordenham | I3: Von insgesamt: Wilhelmshaven1) | J3: Zeilenende
A4: Januar | B4: =IF(SEE_Januar_BarrFrei!B40>0,SEE_Januar_BarrFrei!B40,"[z]") -> 4790784.4 | C4: =IF(SEE_Januar_BarrFrei!B31>0,SEE_Januar_BarrFrei!B31,"[z]") -> 369826 | D4: =IF(SEE_Januar_BarrFrei!B32>0,SEE_Januar_BarrFrei!B32,"[z]") -> 434205 | E4: =IF(SEE_Januar_BarrFrei!B33>0,SEE_Januar_BarrFrei!B33,"[z]") -> 384453 | F4: =IF(SEE_Januar_BarrFrei!B34>0,SEE_Januar_BarrFrei!B34,"[z]") -> 415701 | G4: =IF(SEE_Januar_BarrFrei!B35>0,SEE_Januar_BarrFrei!B35,"[z]") -> 679612 | H4: =IF(SEE_Januar_BarrFrei!B36>0,SEE_Januar_BarrFrei!B36,"[z]") -> 138211.02 | I4: =IF(SEE_Januar_BarrFrei!B38>0,SEE_Januar_BarrFrei!B38,"[z]") -> 2247774 | J4: Zeilenende
A5: Februar | B5: =IF(SEE_Februar_BarrFrei!B40>0,SEE_Februar_BarrFrei!B40,"[z]") -> 4434253.9 | C5: =IF(SEE_Februar_BarrFrei!B31>0,SEE_Februar_BarrFrei!B31,"[z]") -> 373236 | D5: =IF(SEE_Februar_BarrFrei!B32>0,SEE_Februar_BarrFrei!B32,"[z]") -> 443189 | E5: =IF(SEE_Februar_BarrFrei!B33>0,SEE_Februar_BarrFrei!B33,"[z]") -> 364716 | F5: =IF(SEE_Februar_BarrFrei!B34>0,SEE_Februar_BarrFrei!B34,"[z]") -> 380342 | G5: =IF(SEE_Februar_BarrFrei!B35>0,SEE_Februar_BarrFrei!B35,"[z]") -> 655322 | H5: =IF(SEE_Februar_BarrFrei!B36>0,SEE_Februar_BarrFrei!B36,"[z]") -> 114182.06 | I5: =IF(SEE_Februar_BarrFrei!B38>0,SEE_Februar_BarrFrei!B38,"[z]") -> 1996482 | J5: Zeilenende
A6: März | B6: =IF(SEE_März_BarrFrei!B40>0,SEE_März_BarrFrei!B40,"[z]") -> 4376825.7 | C6: =IF(SEE_März_BarrFrei!B31>0,SEE_März_BarrFrei!B31,"[z]") -> 495830 | D6: =IF(SEE_März_BarrFrei!B32>0,SEE_März_BarrFrei!B32,"[z]") -> 418061 | E6: =IF(SEE_März_BarrFrei!B33>0,SEE_März_BarrFrei!B33,"[z]") -> 315959.5 | F6: =IF(SEE_März_BarrFrei!B34>0,SEE_März_BarrFrei!B34,"[z]") -> 365521 | G6: =IF(SEE_März_BarrFrei!B35>0,SEE_März_BarrFrei!B35,"[z]") -> 885460 | H6: =IF(SEE_März_BarrFrei!B36>0,SEE_März_BarrFrei!B36,"[z]") -> 83286 | I6: =IF(SEE_März_BarrFrei!B38>0,SEE_März_BarrFrei!B38,"[z]") -> 1666252 | J6: Zeilenende
A7: April | B7: =IF(SEE_April_BarrFrei!B40>0,SEE_April_BarrFrei!B40,"[z]") -> 4907691.4 | C7: =IF(SEE_April_BarrFrei!B31>0,SEE_April_BarrFrei!B31,"[z]") -> 386419 | D7: =IF(SEE_April_BarrFrei!B32>0,SEE_April_BarrFrei!B32,"[z]") -> 545254 | E7: =IF(SEE_April_BarrFrei!B33>0,SEE_April_BarrFrei!B33,"[z]") -> 233900.5 | F7: =IF(SEE_April_BarrFrei!B34>0,SEE_April_BarrFrei!B34,"[z]") -> 453132 | G7: =IF(SEE_April_BarrFrei!B35>0,SEE_April_BarrFrei!B35,"[z]") -> 1052579 | H7: =IF(SEE_April_BarrFrei!B36>0,SEE_April_BarrFrei!B36,"[z]") -> 158474.1 | I7: =IF(SEE_April_BarrFrei!B38>0,SEE_April_BarrFrei!B38,"[z]") -> 1962942 | J7: Zeilenende
A8: Mai | B8: =IF(SEE_Mai_Barrfrei!B40>0,SEE_Mai_Barrfrei!B40,"[z]") -> 5017974 | C8: =IF(SEE_Mai_Barrfrei!B31>0,SEE_Mai_Barrfrei!B31,"[z]") -> 688301 | D8: =IF(SEE_Mai_Barrfrei!B32>0,SEE_Mai_Barrfrei!B32,"[z]") -> 325704 | E8: =IF(SEE_Mai_Barrfrei!B33>0,SEE_Mai_Barrfrei!B33,"[z]") -> 253667.5 | F8: =IF(SEE_Mai_Barrfrei!B34>0,SEE_Mai_Barrfrei!B34,"[z]") -> 392874 | G8: =IF(SEE_Mai_Barrfrei!B35>0,SEE_Mai_Barrfrei!B35,"[z]") -> 1142050 | H8: =IF(SEE_Mai_Barrfrei!B36>0,SEE_Mai_Barrfrei!B36,"[z]") -> 58552.499 | I8: =IF(SEE_Mai_Barrfrei!B38>0,SEE_Mai_Barrfrei!B38,"[z]") -> 2053387 | J8: Zeilenende
A9: Juni | B9: =IF(SEE_Juni_Barrfrei!B40>0,SEE_Juni_Barrfrei!B40,"[z]") -> 4977257.5 | C9: =IF(SEE_Juni_Barrfrei!B31>0,SEE_Juni_Barrfrei!B31,"[z]") -> 469328 | D9: =IF(SEE_Juni_Barrfrei!B32>0,SEE_Juni_Barrfrei!B32,"[z]") -> 440710 | E9: =IF(SEE_Juni_Barrfrei!B33>0,SEE_Juni_Barrfrei!B33,"[z]") -> 287989 | F9: =IF(SEE_Juni_Barrfrei!B34>0,SEE_Juni_Barrfrei!B34,"[z]") -> 400389 | G9: =IF(SEE_Juni_Barrfrei!B35>0,SEE_Juni_Barrfrei!B35,"[z]") -> 1043942 | H9: =IF(SEE_Juni_Barrfrei!B36>0,SEE_Juni_Barrfrei!B36,"[z]") -> 87231.947 | I9: =IF(SEE_Juni_Barrfrei!B38>0,SEE_Juni_Barrfrei!B38,"[z]") -> 2152061 | J9: Zeilenende
A10: 1. Halbjahr | B10: =SUM(B4:B9) -> 28504787 | C10: =SUM(C4:C9) -> 2782940 | D10: =SUM(D4:D9) -> 2607123 | E10: =SUM(E4:E9) -> 1840685.5 | F10: =SUM(F4:F9) -> 2407959 | G10: =SUM(G4:G9) -> 5458965 | H10: =SUM(H4:H9) -> 639937.62 | I10: =SUM(I4:I9) -> 12078898 | J10: Zeilenende
A11: Juli | B11: =IF(SEE_Juli_Barrfrei!B40>0,SEE_Juli_Barrfrei!B40,"[z]") -> 5561464.1 | C11: =IF(SEE_Juli_Barrfrei!B31>0,SEE_Juli_Barrfrei!B31,"[z]") -> 516140 | D11: =IF(SEE_Juli_Barrfrei!B32>0,SEE_Juli_Barrfrei!B32,"[z]") -> 553283 | E11: =IF(SEE_Juli_Barrfrei!B33>0,SEE_Juli_Barrfrei!B33,"[z]") -> 267146 | F11: =IF(SEE_Juli_Barrfrei!B34>0,SEE_Juli_Barrfrei!B34,"[z]") -> 411793 | G11: =IF(SEE_Juli_Barrfrei!B35>0,SEE_Juli_Barrfrei!B35,"[z]") -> 1047459 | H11: =IF(SEE_Juli_Barrfrei!B36>0,SEE_Juli_Barrfrei!B36,"[z]") -> 163084.88 | I11: =IF(SEE_Juli_Barrfrei!B38>0,SEE_Juli_Barrfrei!B38,"[z]") -> 2481419 | J11: Zeilenende
A12: August | B12: =IF(SEE_August_Barrfrei!B40>0,SEE_August_Barrfrei!B40,"[z]") -> 5701673.7 | C12: =IF(SEE_August_Barrfrei!B31>0,SEE_August_Barrfrei!B31,"[z]") -> 567356 | D12: =IF(SEE_August_Barrfrei!B32>0,SEE_August_Barrfrei!B32,"[z]") -> 617127 | E12: =IF(SEE_August_Barrfrei!B33>0,SEE_August_Barrfrei!B33,"[z]") -> 254272.5 | F12: =IF(SEE_August_Barrfrei!B34>0,SEE_August_Barrfrei!B34,"[z]") -> 352620 | G12: =IF(SEE_August_Barrfrei!B35>0,SEE_August_Barrfrei!B35,"[z]") -> 1141350 | H12: =IF(SEE_August_Barrfrei!B36>0,SEE_August_Barrfrei!B36,"[z]") -> 249029.26 | I12: =IF(SEE_August_Barrfrei!B38>0,SEE_August_Barrfrei!B38,"[z]") -> 2455228 | J12: Zeilenende
A13: September | B13: =IF(SEE_September_Barrfrei!B40>0,SEE_September_Barrfrei!B40,"[z]") -> 4832311.2 | C13: =IF(SEE_September_Barrfrei!B31>0,SEE_September_Barrfrei!B31,"[z]") -> 426846 | D13: =IF(SEE_September_Barrfrei!B32>0,SEE_September_Barrfrei!B32,"[z]") -> 600142 | E13: =IF(SEE_September_Barrfrei!B33>0,SEE_September_Barrfrei!B33,"[z]") -> 182647 | F13: =IF(SEE_September_Barrfrei!B34>0,SEE_September_Barrfrei!B34,"[z]") -> 370619 | G13: =IF(SEE_September_Barrfrei!B35>0,SEE_September_Barrfrei!B35,"[z]") -> 936656 | H13: =IF(SEE_September_Barrfrei!B36>0,SEE_September_Barrfrei!B36,"[z]") -> 54904.427 | I13: =IF(SEE_September_Barrfrei!B38>0,SEE_September_Barrfrei!B38,"[z]") -> 2176800 | J13: Zeilenende
A14: Oktober | B14: =IF(SEE_Oktober_Barrfrei!B40>0,SEE_Oktober_Barrfrei!B40,"[z]") -> 4831748.6 | C14: =IF(SEE_Oktober_Barrfrei!B31>0,SEE_Oktober_Barrfrei!B31,"[z]") -> 435730 | D14: =IF(SEE_Oktober_Barrfrei!B32>0,SEE_Oktober_Barrfrei!B32,"[z]") -> 515095 | E14: =IF(SEE_Oktober_Barrfrei!B33>0,SEE_Oktober_Barrfrei!B33,"[z]") -> 184514 | F14: =IF(SEE_Oktober_Barrfrei!B34>0,SEE_Oktober_Barrfrei!B34,"[z]") -> 334358 | G14: =IF(SEE_Oktober_Barrfrei!B35>0,SEE_Oktober_Barrfrei!B35,"[z]") -> 1066983 | H14: =IF(SEE_Oktober_Barrfrei!B36>0,SEE_Oktober_Barrfrei!B36,"[z]") -> 131506.59 | I14: =IF(SEE_Oktober_Barrfrei!B38>0,SEE_Oktober_Barrfrei!B38,"[z]") -> 2079266 | J14: Zeilenende
A15: November | B15: =IF(SEE_November_Barrfrei!B40>0,SEE_November_Barrfrei!B40,"[z]") -> 4855146.8 | C15: 456488 | D15: 537163 | E15: 203010.5 | F15: 406500 | G15: 1084660 | H15: 104856.14 | I15: 1967167 | J15: Zeilenende
A16: Dezember | B16: =IF(SEE_Dezember_Barrfrei!B40>0,SEE_Dezember_Barrfrei!B40,"[z]") -> [z] | C16: =IF(SEE_Dezember_Barrfrei!B31>0,SEE_Dezember_Barrfrei!B31,"[z]") -> [z] | D16: =IF(SEE_Dezember_Barrfrei!B32>0,SEE_Dezember_Barrfrei!B32,"[z]") -> [z] | E16: =IF(SEE_Dezember_Barrfrei!B33>0,SEE_Dezember_Barrfrei!B33,"[z]") -> [z] | F16: =IF(SEE_Dezember_Barrfrei!B34>0,SEE_Dezember_Barrfrei!B34,"[z]") -> [z] | G16: =IF(SEE_Dezember_Barrfrei!B35>0,SEE_Dezember_Barrfrei!B35,"[z]") -> [z] | H16: =IF(SEE_Dezember_Barrfrei!B36>0,SEE_Dezember_Barrfrei!B36,"[z]") -> [z] | I16: =IF(SEE_Dezember_Barrfrei!B38>0,SEE_Dezember_Barrfrei!B38,"[z]") -> [z] | J16: Zeilenende
A17: Insgesamt | B17: =SUM(B10:B16) -> 54287131 | C17: =SUM(C10:C16) -> 5185500 | D17: =SUM(D10:D16) -> 5429933 | E17: =SUM(E10:E16) -> 2932275.5 | F17: =SUM(F10:F16) -> 4283849 | G17: =SUM(G10:G16) -> 10736073 | H17: =SUM(H10:H16) -> 1343318.9 | I17: =SUM(I10:I16) -> 23238778 | J17: Zeilenende
A18: Insgesamt in 1000t | B18: =B17/1000 -> 54287.131 | C18: =C17/1000 -> 5185.5 | D18: =D17/1000 -> 5429.933 | E18: =E17/1000 -> 2932.2755 | F18: =F17/1000 -> 4283.849 | G18: =G17/1000 -> 10736.073 | H18: =H17/1000 -> 1343.3189 | I18: =I17/1000 -> 23238.778 | J18: Zeilenende
A19: Nächste Zeile: Fußnote 1 | E19: Zeilenende | J19: Zeilenende
A20: 1) Bis einschließlich dem Berichtsjahr 2024 war im Güterumschlag von Wilhelmshaven auch der Güterumschlag von JadeWeserPort enthalten. | J20: Zeilenende
A21: Spaltenende | B21: Spaltenende | C21: Spaltenende | D21: Spaltenende | E21: Spaltenende | F21: Spaltenende | H21: Spaltenende | I21: Spaltenende | J21: Tabellenende

Sheet Y_SEE_Empf_Vers_MM2025
A1: © Landesamt für Statistik Niedersachsen, Hannover 2025. Vervielfältigung und Verbreitung, auch auszugsweise, mit Quellenangabe gestattet. | E1: Zeilenende
A2: Güterumschlag der Seeschifffahrt nach Empfang und Versand in Niedersachsen 2025 | E2: Zeilenende
A3: Monate | B3: Güterumschlag insgesamt in Tonnen | C3: Von insgesamt: Empfang in Tonnen | D3: Von insgesamt: Versand in Tonnen | E3: Zeilenende
A4: Januar | B4: =IF(SEE_Januar_BarrFrei!B40>=0,SEE_Januar_BarrFrei!B40,"[z]") -> 4790784.4 | C4: 3761113.2 | D4: 1029671.2 | E4: Zeilenende
A5: Februar | B5: =IF(SEE_Februar_BarrFrei!B40>0,SEE_Februar_BarrFrei!B40,"[z]") -> 4434253.9 | C5: 3332908 | D5: 1101345.9 | E5: Zeilenende
A6: März | B6: =IF(SEE_März_BarrFrei!B40>0,SEE_März_BarrFrei!B40,"[z]") -> 4376825.7 | C6: 2943994.8 | D6: 1432830.9 | E6: Zeilenende
A7: April | B7: =IF(SEE_April_BarrFrei!B40>0,SEE_April_BarrFrei!B40,"[z]") -> 4907691.4 | C7: 3703399.4 | D7: 1204292 | E7: Zeilenende
A8: Mai | B8: =IF(SEE_Mai_Barrfrei!B40>0,SEE_Mai_Barrfrei!B40,"[z]") -> 5017974 | C8: 3554532 | D8: 1463442 | E8: Zeilenende
A9: Juni | B9: =IF(SEE_Juni_Barrfrei!B40>0,SEE_Juni_Barrfrei!B40,"[z]") -> 4977257.5 | C9: 3690886.3 | D9: 1286371.3 | E9: Zeilenende
A10: 1. Halbjahr | B10: =SUM(B4:B9) -> 28504787 | C10: =SUM(C4:C9) -> 20986834 | D10: =SUM(D4:D9) -> 7517953.3 | E10: Zeilenende
A11: Juli | B11: =IF(SEE_Juli_Barrfrei!B40>0,SEE_Juli_Barrfrei!B40,"[z]") -> 5561464.1 | C11: 4199454.4 | D11: 1362009.7 | E11: Zeilenende
A12: August | B12: =IF(SEE_August_Barrfrei!B40>0,SEE_August_Barrfrei!B40,"[z]") -> 5701673.7 | C12: 4339914.2 | D12: 1361759.5 | E12: Zeilenende
A13: September | B13: =IF(SEE_September_Barrfrei!B40>0,SEE_September_Barrfrei!B40,"[z]") -> 4832311.2 | C13: 3574435.4 | D13: 1257875.9 | E13: Zeilenende
A14: Oktober | B14: =IF(SEE_Oktober_Barrfrei!B40>0,SEE_Oktober_Barrfrei!B40,"[z]") -> 4831748.6 | C14: 3592991.9 | D14: 1238756.7 | E14: Zeilenende
A15: November | B15: =IF(SEE_November_Barrfrei!B40>0,SEE_November_Barrfrei!B40,"[z]") -> 4855146.8 | C15: 3524597.2 | D15: 1330549.6 | E15: Zeilenende
A16: Dezember | B16: =IF(SEE_Dezember_Barrfrei!B40>0,SEE_Dezember_Barrfrei!B40,"[z]") -> [z] | C16: [z] | D16: [z] | E16: Zeilenende
A17: Insgesamt | B17: =SUM(B10:B16) -> 54287131 | C17: =SUM(C10:C16) -> 40218227 | D17: =SUM(D10:D16) -> 14068905 | E17: Zeilenende
A18: Spaltenende | B18: Spaltenende | C18: Spaltenende | D18: Spaltenende | E18: Tabellenende

Sheet Z_SEE_ANK_Schiff_Häfen_MM2025
A1: © Landesamt für Statistik Niedersachsen, Hannover 2025. Vervielfältigung und Verbreitung, auch auszugsweise, mit Quellenangabe gestattet. | J1: Zeilenende
A2: Anzahl der angekommenden Schiffe im seewärtigen Schiffsverkehr 2025 nach ausgewählten Häfen1) | J2: Zeilenende
A3: Monate | B3: Insgesamt | C3: Von insgesamt: Brake | D3: Von insgesamt: Bützfleth | E3: Von insgesamt: Cuxhaven | F3: Von insgesamt: Emden | G3: Von insgesamt: JadeWeserPort | H3: Von insgesamt: Nordenham | I3: Von insgesamt: Wilhelmshaven2) | J3: Zeilenende
A4: Januar | B4: 533 | C4: 56 | D4: 56 | E4: 130 | F4: 166 | G4: 62 | H4: 19 | I4: 44 | J4: Zeilenende
A5: Februar | B5: 1076 | C5: 104 | D5: 116 | E5: 332 | F5: 308 | G5: 102 | H5: 32 | I5: 82 | J5: Zeilenende
A6: März | B6: 1246 | C6: 134 | D6: 126 | E6: 346 | F6: 386 | G6: 134 | H6: 42 | I6: 78 | J6: Zeilenende
A7: April | B7: 1478 | C7: 132 | D7: 110 | E7: 524 | F7: 464 | G7: 108 | H7: 38 | I7: 102 | J7: Zeilenende
A8: Mai | B8: 1488 | C8: 182 | D8: 104 | E8: 488 | F8: 486 | G8: 108 | H8: 32 | I8: 88 | J8: Zeilenende
A9: Juni | B9: 1568 | C9: 130 | D9: 96 | E9: 596 | F9: 518 | G9: 108 | H9: 32 | I9: 88 | J9: Zeilenende
A10: 1. Halbjahr | B10: =SUM(B4:B9) -> 7389 | C10: =SUM(C4:C9) -> 738 | D10: =SUM(D4:D9) -> 608 | E10: =SUM(E4:E9) -> 2416 | F10: =SUM(F4:F9) -> 2328 | G10: =SUM(G4:G9) -> 622 | H10: =SUM(H4:H9) -> 195 | I10: =SUM(I4:I9) -> 482 | J10: Zeilenende
A11: Juli | B11: 851 | C11: 80 | D11: 59 | E11: 289 | F11: 299 | G11: 50 | H11: 19 | I11: 55 | J11: Zeilenende
A12: August | B12: 882 | C12: 81 | D12: 76 | E12: 301 | F12: 294 | G12: 56 | H12: 23 | I12: 51 | J12: Zeilenende
A13: September | B13: 718 | C13: 68 | D13: 66 | E13: 214 | F13: 246 | G13: 60 | H13: 16 | I13: 48 | J13: Zeilenende
A14: Oktober | B14: 698 | C14: 70 | D14: 70 | E14: 201 | F14: 242 | G14: 49 | H14: 19 | I14: 47 | J14: Zeilenende
A15: November | B15: 618 | C15: 73 | D15: 70 | E15: 149 | F15: 199 | G15: 52 | H15: 19 | I15: 56 | J15: Zeilenende
A16: Dezember | B16: [z] | C16: [z] | D16: [z] | E16: [z] | F16: [z] | G16: [z] | H16: [z] | I16: [z] | J16: Zeilenende
A17: Insgesamt | B17: =SUM(B10:B16) -> 11156 | C17: =SUM(C10:C16) -> 1110 | D17: =SUM(D10:D16) -> 949 | E17: =SUM(E10:E16) -> 3570 | F17: =SUM(F10:F16) -> 3608 | G17: =SUM(G10:G16) -> 889 | H17: =SUM(H10:H16) -> 291 | I17: =SUM(I10:I16) -> 739 | J17: Zeilenende
A18: Nächsten Zeilen: Fußnote 1 und 2 | J18: Zeilenende
A19: 1) Einschließlich Zwischenverkehr | J19: Zeilenende
A20: 1) Bis einschließlich dem Berichtsjahr 2024 waren in den Angaben von Wilhelmshaven auch die Angaben von JadeWeserPort enthalten. | J20: Zeilenende
A21: Spaltenende | B21: Spaltenende | C21: Spaltenende | D21: Spaltenende | E21: Spaltenende | F21: Spaltenende | H21: Spaltenende | I21: Spaltenende | J21: Tabellenende
