Workbook

Sheet SEE_Januar_BarrFrei
A1: © Landesamt für Statistik Niedersachsen, Hannover 2025. Vervielfältigung und Verbreitung, auch auszugsweise, mit Quellenangabe gestattet. | F1: Zeilenende
A2: Güterumschlag der Seeschifffahrt im Januar 2025 nach Güterabteilungen im Sinne des NST-2007 1) | F2: Zeilenende
A3: Güterabteilungen | B3: Güterumschlag Januar 2025 in Tonnen | C3: Veränderung gegenüber Vorjahresmonat in % | D3: Güterumschlag Januar-Januar 2025 in Tonnen | E3: Veränderung gegenüber Vorjahreszeitraum in % | F3: Zeilenende | G3: Berichtsmonat Vorjahr | H3: Berichtszeitraum Vorjahr
A4: 01 Erzeugnisse der Land- und Forstwirtschaft sowie der Fischerei | B4: 13739 | C4: =(B4*100)/G4-100 -> -63.276489 | D4: =B4 -> 13739 | E4: =(D4*100)/H4-100 -> -63.276489 | F4: Zeilenende | G4: 37412 | H4: 37412
A5: 02 Kohle, rohes Erdöl und Erdgas | B5: 2046180.9 | C5: =(B5*100)/G5-100 -> -5.3169211 | D5: =B5 -> 2046180.9 | E5: =(D5*100)/H5-100 -> -5.3169211 | F5: Zeilenende | G5: 2161084 | H5: 2161084
A6: 03 Erze, Steine und Erden, sonstige Bergbauerzeugnisse | B6: 730917 | C6: =(B6*100)/G6-100 -> 67.593978 | D6: =B6 -> 730917 | E6: =(D6*100)/H6-100 -> 67.593978 | F6: Zeilenende | G6: 436123.67 | H6: 436123.67
A7: 04 Nahrungs- und Genussmittel | B7: 166859 | C7: =(B7*100)/G7-100 -> -19.670419 | D7: =B7 -> 166859 | E7: =(D7*100)/H7-100 -> -19.670419 | F7: Zeilenende | G7: 207718 | H7: 207718
A8: 05 Textilien, Bekleidung, Leder und Lederwaren | C8: =(B8*100)/G8-100 -> #DIV/0! | D8: =B8 -> 0 | E8: =(D8*100)/H8-100 -> #DIV/0! | F8: Zeilenende | G8: 0 | H8: 0
A9: 06 Holzwaren, Papier, Pappe, Druckerzeugnisse | B9: 183905 | C9: =(B9*100)/G9-100 -> 14.43995 | D9: =B9 -> 183905 | E9: =(D9*100)/H9-100 -> 14.43995 | F9: Zeilenende | G9: 160700 | H9: 160700
A10: 07 Kokerei- und Mineralölerzeugnisse | B10: 218404 | C10: =(B10*100)/G10-100 -> 58.969917 | D10: =B10 -> 218404 | E10: =(D10*100)/H10-100 -> 58.969917 | F10: Zeilenende | G10: 137387 | H10: 137387
A11: 08 Chemische Erzeugnisse etc. | B11: 306475.55 | C11: =(B11*100)/G11-100 -> 46.28467 | D11: =B11 -> 306475.55 | E11: =(D11*100)/H11-100 -> 46.28467 | F11: Zeilenende | G11: 209506.27 | H11: 209506.27
A12: 09 Sonstige Mineralerzeugnisse (Glas, Zement, Gips etc.) | B12: 744.78 | C12: =(B12*100)/G12-100 -> 463.50155 | D12: =B12 -> 744.78 | E12: =(D12*100)/H12-100 -> 463.50155 | F12: Zeilenende | G12: 132.17 | H12: 132.17
A13: 10 Metalle und Metallerzeugnisse | B13: 45196.599 | C13: =(B13*100)/G13-100 -> -24.805476 | D13: =B13 -> 45196.599 | E13: =(D13*100)/H13-100 -> -24.805476 | F13: Zeilenende | G13: 60106.238 | H13: 60106.238
A14: 11 Maschinen und Ausrüstungen, Haushaltsgeräte etc. | B14: 34429 | C14: =(B14*100)/G14-100 -> 91.389182 | D14: =B14 -> 34429 | E14: =(D14*100)/H14-100 -> 91.389182 | F14: Zeilenende | G14: 17989 | H14: 17989
A15: 12 Fahrzeuge | B15: 218789 | C15: =(B15*100)/G15-100 -> 13.971956 | D15: =B15 -> 218789 | E15: =(D15*100)/H15-100 -> 13.971956 | F15: Zeilenende | G15: 191967.4 | H15: 191967.4
A16: 13 Möbel, Schmuck, Musikinstrumente, Sportgeräte etc. | B16: 139.56 | C16: =(B16*100)/G16-100 -> -16.720372 | D16: =B16 -> 139.56 | E16: =(D16*100)/H16-100 -> -16.720372 | F16: Zeilenende | G16: 167.58 | H16: 167.58
A17: 14 Sekundärrohstoffe, Abfälle | B17: 33148.08 | C17: =(B17*100)/G17-100 -> -25.12768 | D17: =B16 -> 139.56 | E17: =(D17*100)/H17-100 -> -16.720372 | F17: Zeilenende | G17: 44272.81 | H17: 167.58
A18: 15 Post, Pakete | B18: 0 | C18: =(B18*100)/G18-100 -> #DIV/0! | D18: =B18 -> 0 | E18: =(D18*100)/H18-100 -> #DIV/0! | F18: Zeilenende | G18: 0 | H18: 0
A19: 16 Geräte und Material für die Güterbeförderung2) | B19: 4944 | C19: =(B19*100)/G19-100 -> -11.619592 | D19: =B19 -> 4944 | E19: =(D19*100)/H19-100 -> -11.619592 | F19: Zeilenende | G19: 5594 | H19: 5594
A20: 17 Umzugsgut und sonstige nichtmarktbestimmte Güter | B20: 0 | C20: =(B20*100)/G20-100 -> #DIV/0! | D20: =B20 -> 0 | E20: =(D20*100)/H20-100 -> #DIV/0! | F20: Zeilenende | G20: 0 | H20: 0
A21: 18 Sammelgut | B21: 456 | C21: =(B21*100)/G21-100 -> -76.519053 | D21: =B21 -> 456 | E21: =(D21*100)/H21-100 -> -76.519053 | F21: Zeilenende | G21: 1942 | H21: 1942
A22: 19 Gutart unbekannt3) | B22: 783983 | C22: =(B22*100)/G22-100 -> 73.634646 | D22: =B22 -> 783983 | E22: =(D22*100)/H22-100 -> 73.634646 | F22: Zeilenende | G22: 451513 | H22: 451513
A23: 20 Sonstige Güter a.n.g. | B23: 2474 | C23: =(B23*100)/G23-100 -> #DIV/0! | D23: =B23 -> 2474 | E23: =(D23*100)/H23-100 -> #DIV/0! | F23: Zeilenende | G23: 0 | H23: 0
A24: Insgesamt | B24: 4790784.4 | C24: =(B24*100)/G24-100 -> 16.179233 | D24: =B24 -> 4790784.4 | E24: =(D24*100)/H24-100 -> 16.179233 | F24: Zeilenende | G24: 4123615.1 | H24: 4123615.1
A25: Nächste Zeilen: Fußnoten 1-3 | E25: Zeilenende | F25: Zeilenende
A26: 1) Einheitliches Güterverzeichnis der Verkehrsstatistiken (NST-2007) | E26: Zeilenende | F26: Zeilenende
A27: 2) NST 16.2 - Paletten & Verpackungsmaterial; NST 16.1 - Leere Container und Wechselbehälter zählen nicht zum Seegüterumschlag | E27: Zeilenende | F27: Zeilenende
A28: 3) Nicht identifizierbare Güter in Containern sowie sonstige nichtidentifizierbare Güter | E28: Zeilenende | F28: Zeilenende
A29: Güterumschlag der Seeschifffahrt im Januar 2025 nach ausgewählten Häfen | E29: Zeilenende | F29: Zeilenende
A30: Ausgewählte Häfen | B30: Güterumschlag Januar 2025 in Tonnen | C30: Veränderung gegenüber Vorjahresmonat in % | D30: Güterumschlag Januar-Januar 2025 in Tonnen | E30: Veränderung gegenüber Vorjahreszeitraum in % | F30: Zeilenende | G30: Berichtsmonat Vorjahr | H30: Berichtszeitraum Vorjahr
A31: Brake | B31: 369826 | C31: =SUM(B31/G31*100-100) -> -9.3528178 | D31: =B31 -> 369826 | E31: =SUM(D31/H31*100-100) -> -9.3528178 | F31: Zeilenende | G31: 407984 | H31: 407984
A32: Bützfleth | B32: 434205 | C32: =SUM(B32/G32*100-100) -> 13.658494 | D32: =B32 -> 434205 | E32: =SUM(D32/H32*100-100) -> 13.658494 | F32: Zeilenende | G32: 382026 | H32: 382026
A33: Cuxhaven | B33: 384453 | C33: =SUM(B33/G33*100-100) -> 164.93262 | D33: =B33 -> 384453 | E33: =SUM(D33/H33*100-100) -> 164.93262 | F33: Zeilenende | G33: 145113.5 | H33: 145113.5
A34: Emden | B34: 415701 | C34: =SUM(B34/G34*100-100) -> 31.905759 | D34: =B34 -> 415701 | E34: =SUM(D34/H34*100-100) -> 31.905759 | F34: Zeilenende | G34: 315150 | H34: 315150
A35: JadeWeserPort | B35: 679612 | C35: =SUM(B35/G35*100-100) -> 100.49503 | D35: =B35 -> 679612 | E35: =SUM(D35/H35*100-100) -> 100.49503 | F35: Zeilenende | G35: 338967 | H35: 338967
A36: Nordenham | B36: 138211.02 | C36: =SUM(B36/G36*100-100) -> 153.99821 | D36: =B36 -> 138211.02 | E36: =SUM(D36/H36*100-100) -> 153.99821 | F36: Zeilenende | G36: 54414.168 | H36: 54414.168
A37: Papenburg | B37: 42785 | C37: =SUM(B37/G37*100-100) -> 6.4541813 | D37: =B37 -> 42785 | E37: =SUM(D37/H37*100-100) -> 6.4541813 | F37: Zeilenende | G37: 40191 | H37: 40191
A38: Wilhelmshaven | B38: 2247774 | C38: =SUM(B38/G38*100-100) -> -5.5928028 | D38: =B38 -> 2247774 | E38: =SUM(D38/H38*100-100) -> -5.5928028 | F38: Zeilenende | G38: 2380935 | H38: 2380935
A39: Übrige Seehäfen in Niedersachsen | B39: =B40-B31-B32-B33-B34-B35-B36-B37-B38 -> 78217.42 | C39: =SUM(B39/G39*100-100) -> 32.94491 | D39: =B39 -> 78217.42 | E39: =SUM(D39/H39*100-100) -> 32.94491 | F39: Zeilenende | G39: 58834.46 | H39: 58834.46
A40: Insgesamt | B40: =B24 -> 4790784.4 | C40: =SUM(B40/G40*100-100) -> 16.179233 | D40: =B40 -> 4790784.4 | E40: =SUM(D40/H40*100-100) -> 16.179233 | F40: Zeilenende | G40: 4123615.1 | H40: 4123615.1
...

Sheet SEE_Februar_BarrFrei
A1: © Landesamt für Statistik Niedersachsen, Hannover 2025. Vervielfältigung und Verbreitung, auch auszugsweise, mit Quellenangabe gestattet. | F1: Zeilenende
A2: Güterumschlag der Seeschifffahrt im Februar 2025 nach Güterabteilungen im Sinne des NST-2007 1) | F2: Zeilenende
A3: Güterabteilungen | B3: Güterumschlag Februar 2025 in Tonnen | C3: Veränderung gegenüber Vorjahresmonat in % | D3: Güterumschlag Januar-Februar 2025 in Tonnen | E3: Veränderung gegenüber Vorjahreszeitraum in % | F3: Zeilenende | G3: Berichtsmonat Vorjahr | H3: Berichtszeitraum Vorjahr
A4: 01 Erzeugnisse der Land- und Forstwirtschaft sowie der Fischerei | B4: 27098 | C4: =(B4*100)/G4-100 -> 116.95757 | D4: =B4+SEE_Januar_BarrFrei!D4 -> 40837 | E4: =(D4*100)/H4-100 -> -18.165605 | F4: Zeilenende | G4: 12490 | H4: 49902
A5: 02 Kohle, rohes Erdöl und Erdgas | B5: 1867454.9 | C5: =(B5*100)/G5-100 -> -3.7813968 | D5: =B5+SEE_Januar_BarrFrei!D5 -> 3913635.8 | E5: =(D5*100)/H5-100 -> -4.5903811 | F5: Zeilenende | G5: 1940846 | H5: 4101930
A6: 03 Erze, Steine und Erden, sonstige Bergbauerzeugnisse | B6: 621087 | C6: =(B6*100)/G6-100 -> 100.934 | D6: =B6+SEE_Januar_BarrFrei!D6 -> 1352004 | E6: =(D6*100)/H6-100 -> 81.42258 | F6: Zeilenende | G6: 309100 | H6: 745223.67
A7: 04 Nahrungs- und Genussmittel | B7: 171310 | C7: =(B7*100)/G7-100 -> -14.341145 | D7: =B7+SEE_Januar_BarrFrei!D7 -> 338169 | E7: =(D7*100)/H7-100 -> -17.056283 | F7: Zeilenende | G7: 199991 | H7: 407709
A8: 05 Textilien, Bekleidung, Leder und Lederwaren | C8: =(B8*100)/G8-100 -> #DIV/0! | D8: =B8+SEE_Januar_BarrFrei!D8 -> 0 | E8: =(D8*100)/H8-100 -> #DIV/0! | F8: Zeilenende | G8: 0 | H8: 0
A9: 06 Holzwaren, Papier, Pappe, Druckerzeugnisse | B9: 132982 | C9: =(B9*100)/G9-100 -> -24.962194 | D9: =B9+SEE_Januar_BarrFrei!D9 -> 316887 | E9: =(D9*100)/H9-100 -> -6.2242543 | F9: Zeilenende | G9: 177220 | H9: 337920
A10: 07 Kokerei- und Mineralölerzeugnisse | B10: 144626 | C10: =(B10*100)/G10-100 -> -12.800786 | D10: =B10+SEE_Januar_BarrFrei!D10 -> 363030 | E10: =(D10*100)/H10-100 -> 19.715477 | F10: Zeilenende | G10: 165857 | H10: 303244
A11: 08 Chemische Erzeugnisse etc. | B11: 311039.16 | C11: =(B11*100)/G11-100 -> 8.9467049 | D11: =B11+SEE_Januar_BarrFrei!D11 -> 617514.71 | E11: =(D11*100)/H11-100 -> 24.749719 | F11: Zeilenende | G11: 285496.62 | H11: 495002.89
A12: 09 Sonstige Mineralerzeugnisse (Glas, Zement, Gips etc.) | B12: 913.74 | C12: =(B12*100)/G12-100 -> 743.94569 | D12: =B12+SEE_Januar_BarrFrei!D12 -> 1658.52 | E12: =(D12*100)/H12-100 -> 589.78539 | F12: Zeilenende | G12: 108.27 | H12: 240.44
A13: 10 Metalle und Metallerzeugnisse | B13: 67367.991 | C13: =(B13*100)/G13-100 -> 26.31046 | D13: =B13+SEE_Januar_BarrFrei!D13 -> 112564.59 | E13: =(D13*100)/H13-100 -> -0.77298929 | F13: Zeilenende | G13: 53335.243 | H13: 113441.48
A14: 11 Maschinen und Ausrüstungen, Haushaltsgeräte etc. | B14: 53324 | C14: =(B14*100)/G14-100 -> 562.65689 | D14: =B14+SEE_Januar_BarrFrei!D14 -> 87753 | E14: =(D14*100)/H14-100 -> 237.04486 | F14: Zeilenende | G14: 8047 | H14: 26036
A15: 12 Fahrzeuge | B15: 240561.5 | C15: =(B15*100)/G15-100 -> 16.952572 | D15: =B15+SEE_Januar_BarrFrei!D15 -> 459350.5 | E15: =(D15*100)/H15-100 -> 15.513698 | F15: Zeilenende | G15: 205691.5 | H15: 397658.9
A16: 13 Möbel, Schmuck, Musikinstrumente, Sportgeräte etc. | B16: 142.3 | C16: =(B16*100)/G16-100 -> 64.680014 | D16: =B16+SEE_Januar_BarrFrei!D16 -> 281.86 | E16: =(D16*100)/H16-100 -> 10.972873 | F16: Zeilenende | G16: 86.41 | H16: 253.99
A17: 14 Sekundärrohstoffe, Abfälle | B17: 30545.28 | C17: =(B17*100)/G17-100 -> -38.089146 | D17: =B17+SEE_Januar_BarrFrei!D17 -> 30684.84 | E17: =(D17*100)/H17-100 -> -38.01681 | F17: Zeilenende | G17: 49337.52 | H17: 49505.1
A18: 15 Post, Pakete | C18: =(B18*100)/G18-100 -> #DIV/0! | D18: =B18+SEE_Januar_BarrFrei!D18 -> 0 | E18: =(D18*100)/H18-100 -> #DIV/0! | F18: Zeilenende | G18: 0 | H18: 0
A19: 16 Geräte und Material für die Güterbeförderung2) | B19: 4576 | C19: =(B19*100)/G19-100 -> -10.204082 | D19: =B19+SEE_Januar_BarrFrei!D19 -> 9520 | E19: =(D19*100)/H19-100 -> -10.944808 | F19: Zeilenende | G19: 5096 | H19: 10690
A20: 17 Umzugsgut und sonstige nichtmarktbestimmte Güter | C20: =(B20*100)/G20-100 -> #DIV/0! | D20: =B20+SEE_Januar_BarrFrei!D20 -> 0 | E20: =(D20*100)/H20-100 -> #DIV/0! | F20: Zeilenende | H20: 0
A21: 18 Sammelgut | B21: 1123 | C21: =(B21*100)/G21-100 -> 44.344473 | D21: =B22+SEE_Januar_BarrFrei!D21 -> 757686 | E21: =(D21*100)/H21-100 -> 55.490069 | F21: Zeilenende | G21: 778 | H21: 487289
A22: 19 Gutart unbekannt3) | B22: 757230 | C22: =(B22*100)/G22-100 -> 56.018271 | D22: =B22+SEE_Januar_BarrFrei!D22 -> 1541213 | E22: =(D22*100)/H22-100 -> 64.508358 | F22: Zeilenende | G22: 485347 | H22: 936860
A23: 20 Sonstige Güter a.n.g. | B23: 2873 | C23: =(B23*100)/G23-100 -> #DIV/0! | D23: =B23+SEE_Januar_BarrFrei!D23 -> 5347 | E23: =(D23*100)/H23-100 -> #DIV/0! | F23: Zeilenende | G23: 0 | H23: 0
A24: Insgesamt | B24: 4434253.9 | C24: =(B24*100)/G24-100 -> 13.733008 | D24: =B24+SEE_Januar_BarrFrei!D24 -> 9225038.3 | E24: =(D24*100)/H24-100 -> 14.990392 | F24: Zeilenende | G24: 3898827.6 | H24: 8022442.7
A25: Nächste Zeilen: Fußnoten 1-3 | E25: Zeilenende | F25: Zeilenende
A26: 1) Einheitliches Güterverzeichnis der Verkehrsstatistiken (NST-2007) | F26: Zeilenende
A27: 2) NST 16.2 - Paletten & Verpackungsmaterial; NST 16.1 - Leere Container und Wechselbehälter zählen nicht zum Seegüterumschlag | F27: Zeilenende
A28: 3) Nicht identifizierbare Güter in Containern sowie sonstige nichtidentifizierbare Güter | E28: Zeilenende | F28: Zeilenende
A29: Güterumschlag der Seeschifffahrt im Februar 2025 nach ausgewählten Häfen | E29: Zeilenende | F29: Zeilenende
A30: Ausgewählte Häfen | B30: Güterumschlag Februar 2025 in Tonnen | C30: Veränderung gegenüber Vorjahresmonat in % | D30: Güterumschlag Januar-Februar 2025 in Tonnen | E30: Veränderung gegenüber Vorjahreszeitraum in % | F30: Zeilenende | G30: Berichtsmonat Vorjahr | H30: Berichtszeitraum Vorjahr
A31: Brake | B31: 373236 | C31: =SUM(B31/G31*100-100) -> -4.9414473 | D31: =B31+SEE_Januar_BarrFrei!D31 -> 743062 | E31: =SUM(D31/H31*100-100) -> -7.1894102 | F31: Zeilenende | G31: 392638 | H31: 800622
A32: Bützfleth | B32: 443189 | C32: =SUM(B32/G32*100-100) -> 70.228154 | D32: =B32+SEE_Januar_BarrFrei!D32 -> 877394 | E32: =SUM(D32/H32*100-100) -> 36.585738 | F32: Zeilenende | G32: 260350 | H32: 642376
A33: Cuxhaven | B33: 364716 | C33: =SUM(B33/G33*100-100) -> 110.38981 | D33: =B33+SEE_Januar_BarrFrei!D33 -> 749169 | E33: =SUM(D33/H33*100-100) -> 135.24301 | F33: Zeilenende | G33: 173352.5 | H33: 318466
A34: Emden | B34: 380342 | C34: =SUM(B34/G34*100-100) -> 25.49849 | D34: =B34+SEE_Januar_BarrFrei!D34 -> 796043 | E34: =SUM(D34/H34*100-100) -> 28.76475 | F34: Zeilenende | G34: 303065 | H34: 618215
A35: JadeWeserPort | B35: 655322 | C35: =SUM(B35/G35*100-100) -> 80.379905 | D35: =B35+SEE_Januar_BarrFrei!D35 -> 1334934 | E35: =SUM(D35/H35*100-100) -> 90.088969 | F35: Zeilenende | G35: 363301 | H35: 702268
A36: Nordenham | B36: 114182.06 | C36: =SUM(B36/G36*100-100) -> 76.136586 | D36: =B36+SEE_Januar_BarrFrei!D36 -> 252393.08 | E36: =SUM(D36/H36*100-100) -> 111.66807 | F36: Zeilenende | G36: 64825.863 | H36: 119240.03
A37: Papenburg | B37: 51272 | C37: =SUM(B37/G37*100-100) -> 2.6219927 | D37: =B37+SEE_Januar_BarrFrei!D37 -> 94057 | E37: =SUM(D37/H37*100-100) -> 4.3304161 | F37: Zeilenende | G37: 49962 | H37: 90153
A38: Wilhelmshaven | B38: 1996482 | C38: =SUM(B38/G38*100-100) -> -9.5097027 | D38: =B38+SEE_Januar_BarrFrei!D38 -> 4244256 | E38: =SUM(D38/H38*100-100) -> -7.4766924 | F38: Zeilenende | G38: 2206294 | H38: 4587229
A39: Übrige Seehäfen in Niedersachsen | B39: =B40-B31-B32-B33-B34-B35-B36-B37-B38 -> 55512.82 | C39: =SUM(B39/G39*100-100) -> -34.720905 | D39: =B39+SEE_Januar_BarrFrei!D39 -> 133730.24 | E39: =SUM(D39/H39*100-100) -> -7.0502273 | F39: Zeilenende | G39: 85039.2 | H39: 143873.66
A40: Insgesamt | B40: =B24 -> 4434253.9 | C40: =SUM(B40/G40*100-100) -> 13.733008 | D40: =B40+SEE_Januar_BarrFrei!D40 -> 9225038.3 | E40: =SUM(D40/H40*100-100) -> 14.990392 | F40: Zeilenende | G40: 3898827.6 | H40: 8022442.7
...

Sheet SEE_März_BarrFrei
A1: © Landesamt für Statistik Niedersachsen, Hannover 2025. Vervielfältigung und Verbreitung, auch auszugsweise, mit Quellenangabe gestattet. | F1: Zeilenende
A2: Güterumschlag der Seeschifffahrt im März 2025 nach Güterabteilungen im Sinne des NST-2007 1) | F2: Zeilenende
A3: Güterabteilungen | B3: Güterumschlag März 2025 in Tonnen | C3: Veränderung gegenüber Vorjahresmonat in % | D3: Güterumschlag Januar-März 2025 in Tonnen | E3: Veränderung gegenüber Vorjahreszeitraum in % | F3: Zeilenende | G3: Berichtsmonat Vorjahr | H3: Berichtszeitraum Vorjahr
A4: 01 Erzeugnisse der Land- und Forstwirtschaft sowie der Fischerei | B4: 22691 | C4: =(B4*100)/G4-100 -> -34.85588 | D4: =B4+SEE_Februar_BarrFrei!D4 -> 63528 | E4: =(D4*100)/H4-100 -> -25.026554 | F4: Zeilenende | G4: 34832 | H4: 84734
A5: 02 Kohle, rohes Erdöl und Erdgas | B5: 1304043 | C5: =(B5*100)/G5-100 -> -44.995228 | D5: =B5+SEE_Februar_BarrFrei!D5 -> 5217678.8 | E5: =(D5*100)/H5-100 -> -19.389599 | F5: Zeilenende | G5: 2370781.6 | H5: 6472711.6
A6: 03 Erze, Steine und Erden, sonstige Bergbauerzeugnisse | B6: 515467 | C6: =(B6*100)/G6-100 -> -31.64864 | D6: =B6+SEE_Februar_BarrFrei!D6 -> 1867471 | E6: =(D6*100)/H6-100 -> 24.550655 | F6: Zeilenende | G6: 754143 | H6: 1499366.7
A7: 04 Nahrungs- und Genussmittel | B7: 217274 | C7: =(B7*100)/G7-100 -> -5.7751603 | D7: =B7+SEE_Februar_BarrFrei!D7 -> 555443 | E7: =(D7*100)/H7-100 -> -12.980887 | F7: Zeilenende | G7: 230591 | H7: 638300
A8: 05 Textilien, Bekleidung, Leder und Lederwaren | B8: 0 | C8: =(B8*100)/G8-100 -> #DIV/0! | D8: =B8+SEE_Februar_BarrFrei!D8 -> 0 | E8: =(D8*100)/H8-100 -> #DIV/0! | F8: Zeilenende | G8: 0 | H8: 0
A9: 06 Holzwaren, Papier, Pappe, Druckerzeugnisse | B9: 173807 | C9: =(B9*100)/G9-100 -> 19.841275 | D9: =B9+SEE_Februar_BarrFrei!D9 -> 490694 | E9: =(D9*100)/H9-100 -> 1.6032682 | F9: Zeilenende | G9: 145031 | H9: 482951
A10: 07 Kokerei- und Mineralölerzeugnisse | B10: 332851 | C10: =(B10*100)/G10-100 -> 55.681164 | D10: =B10+SEE_Februar_BarrFrei!D10 -> 695881 | E10: =(D10*100)/H10-100 -> 34.587571 | F10: Zeilenende | G10: 213803 | H10: 517047
A11: 08 Chemische Erzeugnisse etc. | B11: 329588 | C11: =(B11*100)/G11-100 -> 22.031774 | D11: =B11+SEE_Februar_BarrFrei!D11 -> 947102.71 | E11: =(D11*100)/H11-100 -> 23.790256 | F11: Zeilenende | G11: 270083.76 | H11: 765086.64
A12: 09 Sonstige Mineralerzeugnisse (Glas, Zement, Gips etc.) | B12: 438.39 | C12: =(B12*100)/G12-100 -> 551.20321 | D12: =B12+SEE_Februar_BarrFrei!D12 -> 2096.91 | E12: =(D12*100)/H12-100 -> 581.34585 | F12: Zeilenende | G12: 67.32 | H12: 307.76
A13: 10 Metalle und Metallerzeugnisse | B13: 111277 | C13: =(B13*100)/G13-100 -> 111.363 | D13: =B13+SEE_Februar_BarrFrei!D13 -> 223841.59 | E13: =(D13*100)/H13-100 -> 34.772218 | F13: Zeilenende | G13: 52647.342 | H13: 166088.82
A14: 11 Maschinen und Ausrüstungen, Haushaltsgeräte etc. | B14: 50925 | C14: =(B14*100)/G14-100 -> 64.752507 | D14: =B14+SEE_Februar_BarrFrei!D14 -> 138678 | E14: =(D14*100)/H14-100 -> 143.52545 | F14: Zeilenende | G14: 30910 | H14: 56946
A15: 12 Fahrzeuge | B15: 272010.5 | C15: =(B15*100)/G15-100 -> -8.4505004 | D15: =B15+SEE_Februar_BarrFrei!D15 -> 731361 | E15: =(D15*100)/H15-100 -> 5.2655138 | F15: Zeilenende | G15: 297118.5 | H15: 694777.4
... A24: Insgesamt | B24: 4376825.7 | C24: =(B24*100)/G24-100 -> -11.454144 | D24: =B24+SEE_Februar_BarrFrei!D24 -> 13601864 | E24: =(D24*100)/H24-100 -> 4.9085601 | F24: Zeilenende | G24: 4943004.6 | H24: 12965447
A25: Nächste Zeilen: Fußnoten 1-3 | E25: Zeilenende | F25: Zeilenende
A26: 1) Einheitliches Güterverzeichnis der Verkehrsstatistiken (NST-2007) | E26: Zeilenende | F26: Zeilenende
A27: 2) NST 16.2 - Paletten & Verpackungsmaterial; NST 16.1 - Leere Container und Wechselbehälter zählen nicht zum Seegüterumschlag | E27: Zeilenende | F27: Zeilenende
A28: 3) Nicht identifizierbare Güter in Containern sowie sonstige nichtidentifizierbare Güter | E28: Zeilenende | F28: Zeilenende
A29: Güterumschlag der Seeschifffahrt im März 2025 nach ausgewählten Häfen | E29: Zeilenende | F29: Zeilenende
A30: Ausgewählte Häfen | B30: Güterumschlag März 2025 in Tonnen | C30: Veränderung gegenüber Vorjahresmonat in % | D30: Güterumschlag Januar-März 2025 in Tonnen | E30: Veränderung gegenüber Vorjahreszeitraum in % | F30: Zeilenende | G30: Berichtsmonat Vorjahr | H30: Berichtszeitraum Vorjahr
A31: Brake | B31: 495830 | C31: =SUM(B31/G31*100-100) -> 15.343369 | D31: =B31+SEE_Februar_BarrFrei!D31 -> 1238892 | E31: =SUM(D31/H31*100-100) -> 0.6824083 | F31: Zeilenende | G31: 429873 | H31: 1230495
A32: Bützfleth | B32: 418061 | C32: =SUM(B32/G32*100-100) -> -35.521926 | D32: =B32+SEE_Februar_BarrFrei!D32 -> 1295455 | E32: =SUM(D32/H32*100-100) -> 0.36428348 | F32: Zeilenende | G32: 648377 | H32: 1290753
A33: Cuxhaven | B33: 315959.5 | C33: =SUM(B33/G33*100-100) -> 75.382519 | D33: =B33+SEE_Februar_BarrFrei!D33 -> 1065128.5 | E33: =SUM(D33/H33*100-100) -> 113.61506 | F33: Zeilenende | G33: 180154.5 | H33: 498620.5
A34: Emden | B34: 365521 | C34: =SUM(B34/G34*100-100) -> -11.878059 | D34: =B34+SEE_Februar_BarrFrei!D34 -> 1161564 | E34: =SUM(D34/H34*100-100) -> 12.445148 | F34: Zeilenende | G34: 414790 | H34: 1033005
A35: JadeWeserPort | B35: 885460 | C35: =SUM(B35/G35*100-100) -> 150.7334 | D35: =B35+SEE_Februar_BarrFrei!D35 -> 2220394 | E35: =SUM(D35/H35*100-100) -> 110.38093 | F35: Zeilenende | G35: 353148 | H35: 1055416
A36: Nordenham | B36: 83286 | C36: =SUM(B36/G36*100-100) -> -34.19115 | D36: =B36+SEE_Februar_BarrFrei!D36 -> 335679.08 | E36: =SUM(D36/H36*100-100) -> 36.56734 | F36: Zeilenende | G36: 126557.45 | H36: 245797.48
A37: Papenburg | B37: 66947 | C37: =SUM(B37/G37*100-100) -> 14.454968 | D37: =B37+SEE_Februar_BarrFrei!D37 -> 161004 | E37: =SUM(D37/H37*100-100) -> 8.3144404 | F37: Zeilenende | G37: 58492 | H37: 148645
A38: Wilhelmshaven | B38: 1666252 | C38: =SUM(B38/G38*100-100) -> -37.196248 | D38: =B38+SEE_Februar_BarrFrei!D38 -> 5910508 | E38: =SUM(D38/H38*100-100) -> -18.36696 | F38: Zeilenende | G38: 2653109 | H38: 7240338
A39: Übrige Seehäfen in Niedersachsen | B39: =B40-B31-B32-B33-B34-B35-B36-B37-B38 -> 79509.2 | C39: =SUM(B39/G39*100-100) -> 1.2809475 | D39: =B39+SEE_Februar_BarrFrei!D39 -> 213239.44 | E39: =SUM(D39/H39*100-100) -> -4.1091565 | F39: Zeilenende | G39: 78503.61 | H39: 222377.27
A40: Insgesamt | B40: =B24 -> 4376825.7 | C40: =SUM(B40/G40*100-100) -> -11.454144 | D40: =B40+SEE_Februar_BarrFrei!D40 -> 13601864 | E40: =SUM(D40/H40*100-100) -> 4.9085601 | F40: Zeilenende | G40: 4943004.6 | H40: 12965447
A41: Spaltenende | B41: Spaltenende | C41: Spaltenende | D41: Spaltenende | E41: Spaltenende | F41: Tabellenende

Sheet SEE_April_BarrFrei
A1: © Landesamt für Statistik Niedersachsen, Hannover 2025. Vervielfältigung und Verbreitung, auch auszugsweise, mit Quellenangabe gestattet. | F1: Zeilenende
A2: Güterumschlag der Seeschifffahrt im April 2025 nach Güterabteilungen im Sinne des NST-2007 1) | F2: Zeilenende
A3: Güterabteilungen | B3: Güterumschlag April 2025 in Tonnen | C3: Veränderung gegenüber Vorjahresmonat in % | D3: Güterumschlag Januar-April 2025 in Tonnen | E3: Veränderung gegenüber Vorjahreszeitraum in % | F3: Zeilenende | G3: Berichtsmonat Vorjahr | H3: Berichtszeitraum Vorjahr
A4: 01 Erzeugnisse der Land- und Forstwirtschaft sowie der Fischerei | B4: 31680 | C4: =(B4*100)/G4-100 -> -40.97261 | D4: =B4+SEE_März_BarrFrei!D4 -> 95208 | E4: =(D4*100)/H4-100 -> -31.210081 | F4: Zeilenende | G4: 53670 | H4: 138404
A5: 02 Kohle, rohes Erdöl und Erdgas | B5: 1723995.9 | C5: =(B5*100)/G5-100 -> -19.75297 | D5: =B5+SEE_März_BarrFrei!D5 -> 6941674.7 | E5: =(D5*100)/H5-100 -> -19.48015 | F5: Zeilenende | G5: 2148361 | H5: 8621072.6
A6: 03 Erze, Steine und Erden, sonstige Bergbauerzeugnisse | B6: 760271 | C6: =(B6*100)/G6-100 -> 31.064711 | D6: =B6+SEE_März_BarrFrei!D6 -> 2627742 | E6: =(D6*100)/H6-100 -> 26.367792 | F6: Zeilenende | G6: 580073 | H6: 2079439.7
A7: 04 Nahrungs- und Genussmittel | B7: 161993 | C7: =(B7*100)/G7-100 -> -46.620644 | D7: =B7+SEE_März_BarrFrei!D7 -> 717436 | E7: =(D7*100)/H7-100 -> -23.82087 | F7: Zeilenende | G7: 303475 | H7: 941775
A8: 05 Textilien, Bekleidung, Leder und Lederwaren | C8: =(B8*100)/G8-100 -> #DIV/0! | D8: =B8+SEE_März_BarrFrei!D8 -> 0 | E8: =(D8*100)/H8-100 -> #DIV/0! | F8: Zeilenende | H8: 0
A9: 06 Holzwaren, Papier, Pappe, Druckerzeugnisse | B9: 142541 | C9: =(B9*100)/G9-100 -> 17.081605 | D9: =B9+SEE_März_BarrFrei!D9 -> 633235 | E9: =(D9*100)/H9-100 -> 4.7195616 | F9: Zeilenende | G9: 121745 | H9: 604696
A10: 07 Kokerei- und Mineralölerzeugnisse | B10: 211213 | C10: =(B10*100)/G10-100 -> 8.104802 | D10: =B10+SEE_März_BarrFrei!D10 -> 907094 | E10: =(D10*100)/H10-100 -> 27.324841 | F10: Zeilenende | G10: 195378 | H10: 712425
A11: 08 Chemische Erzeugnisse etc. | B11: 243894.79 | C11: =(B11*100)/G11-100 -> -27.926068 | D11: =B11+SEE_März_BarrFrei!D11 -> 1190997.5 | E11: =(D11*100)/H11-100 -> 7.9308566 | F11: Zeilenende | G11: 338395.29 | H11: 1103481.9
A12: 09 Sonstige Mineralerzeugnisse (Glas, Zement, Gips etc.) | B12: 36428.22 | C12: =(B12*100)/G12-100 -> 6453.1464 | D12: =B12+SEE_März_BarrFrei!D12 -> 38525.13 | E12: =(D12*100)/H12-100 -> 4360.7393 | F12: Zeilenende | G12: 555.889 | H12: 863.649
A13: 10 Metalle und Metallerzeugnisse | B13: 72581.603 | C13: =(B13*100)/G13-100 -> -1.5816198 | D13: =B13+SEE_März_BarrFrei!D13 -> 296423.19 | E13: =(D13*100)/H13-100 -> 23.593688 | F13: Zeilenende | G13: 73748.016 | H13: 239836.84
A14: 11 Maschinen und Ausrüstungen, Haushaltsgeräte etc. | B14: 65100 | C14: =(B14*100)/G14-100 -> 94.554855 | D14: =B14+SEE_März_BarrFrei!D14 -> 203778 | E14: =(D14*100)/H14-100 -> 125.40069 | F14: Zeilenende | G14: 33461 | H14: 90407
A15: 12 Fahrzeuge | B15: 253863.5 | C15: =(B15*100)/G15-100 -> 4.8365982 | D15: =B15+SEE_März_BarrFrei!D15 -> 985224.5 | E15: =(D15*100)/H15-100 -> 5.1546595 | F15: Zeilenende | G15: 242151.6 | H15: 936929
A16: 13 Möbel, Schmuck, Musikinstrumente, Sportgeräte etc. | B16: 22.98 | C16: =(B16*100)/G16-100 -> -90.850454 | D16: =B16+SEE_März_BarrFrei!D16 -> 382.36 | E16: =(D16*100)/H16-100 -> -37.894292 | F16: Zeilenende | G16: 251.16 | H16: 615.66
A17: 14 Sekundärrohstoffe, Abfälle | B17: 30662.6 | C17: =(B17*100)/G17-100 -> -21.767606 | D17: =B17+SEE_März_BarrFrei!D17 -> 92664.73 | E17: =(D17*100)/H17-100 -> -37.11469 | F17: Zeilenende | G17: 39194.25 | H17: 147355.13
A18: 15 Post, Pakete | C18: =(B18*100)/G18-100 -> #DIV/0! | D18: =B18+SEE_März_BarrFrei!D18 -> 0 | E18: =(D18*100)/H18-100 -> #DIV/0! | F18: Zeilenende | H18: 0
A19: 16 Geräte und Material für die Güterbeförderung2) | B19: 6308 | C19: =(B19*100)/G19-100 -> 1.6763378 | D19: =B19+SEE_März_BarrFrei!D19 -> 22302 | E19: =(D19*100)/H19-100 -> -2.5943396 | F19: Zeilenende | G19: 6204 | H19: 22896
A20: 17 Umzugsgut und sonstige nichtmarktbestimmte Güter | C20: =(B20*100)/G20-100 -> -100 | D20: =B20+SEE_März_BarrFrei!D20 -> 0 | E20: =(D20*100)/H20-100 -> -100 | F20: Zeilenende | G20: 2407 | H20: 2407
A21: 18 Sammelgut | B21: 3912 | C21: =(B21*100)/G21-100 -> 178.83108 | D21: =B21+SEE_März_BarrFrei!D21 -> 762812 | E21: =(D21*100)/H21-100 -> 55.446239 | F21: Zeilenende | G21: 1403 | H21: 490724
A22: 19 Gutart unbekannt3) | B22: 1163223 | C22: =(B22*100)/G22-100 -> 106.72354 | D22: =B22+SEE_März_BarrFrei!D22 -> 3709106 | E22: =(D22*100)/H22-100 -> 88.036477 | F22: Zeilenende | G22: 562695 | H22: 1972546
A23: 20 Sonstige Güter a.n.g. | B23: 0.81 | C23: =(B23*100)/G23-100 -> -99.95326 | D23: =B23+SEE_März_BarrFrei!D23 -> 8048.81 | E23: =(D23*100)/H23-100 -> 63.004828 | F23: Zeilenende | G23: 1733 | H23: 4937.774
A24: Insgesamt | B24: 4907691.4 | C24: =(B24*100)/G24-100 -> 4.3101903 | D24: =B24+SEE_März_BarrFrei!D24 -> 18509555 | E24: =(D24*100)/H24-100 -> 4.7492383 | F24: Zeilenende | G24: 4704901.2 | H24: 17670348
A25: Nächste Zeilen: Fußnoten 1-3 | E25: Zeilenende | F25: Zeilenende
A26: 1) Einheitliches Güterverzeichnis der Verkehrsstatistiken (NST-2007) | E26: Zeilenende | F26: Zeilenende
A27: 2) NST 16.2 - Paletten & Verpackungsmaterial; NST 16.1 - Leere Container und Wechselbehälter zählen nicht zum Seegüterumschlag | E27: Zeilenende | F27: Zeilenende
A28: 3) Nicht identifizierbare Güter in Containern sowie sonstige nichtidentifizierbare Güter | E28: Zeilenende | F28: Zeilenende
A29: Güterumschlag der Seeschifffahrt im April 2025 nach ausgewählten Häfen | E29: Zeilenende | F29: Zeilenende
A30: Ausgewählte Häfen | B30: Güterumschlag April 2025 in Tonnen | C30: Veränderung gegenüber Vorjahresmonat in % | D30: Güterumschlag Januar - April 2025 in Tonnen | E30: Veränderung gegenüber Vorjahreszeitraum in % | F30: Zeilenende | G30: Berichtsmonat Vorjahr | H30: Berichtszeitraum Vorjahr
A31: Brake | B31: 386419 | C31: =SUM(B31/G31*100-100) -> -22.205557 | D31: =B31+SEE_März_BarrFrei!D31 -> 1625311 | E31: =SUM(D31/H31*100-100) -> -5.8997935 | F31: Zeilenende | G31: 496718 | H31: 1727213
A32: Bützfleth | B32: 545254 | C32: =SUM(B32/G32*100-100) -> 8.2690971 | D32: =B32+SEE_März_BarrFrei!D32 -> 1840709 | E32: =SUM(D32/H32*100-100) -> 2.5828665 | F32: Zeilenende | G32: 503610 | H32: 1794363
A33: Cuxhaven | B33: 233900.5 | C33: =SUM(B33/G33*100-100) -> 5.9322379 | D33: =B33+SEE_März_BarrFrei!D33 -> 1299029 | E33: =SUM(D33/H33*100-100) -> 80.565523 | F33: Zeilenende | G33: 220802 | H33: 719422.5
A34: Emden | B34: 453132 | C34: =SUM(B34/G34*100-100) -> 15.484127 | D34: =B34+SEE_März_BarrFrei!D34 -> 1614696 | E34: =SUM(D34/H34*100-100) -> 13.281712 | F34: Zeilenende | G34: 392376 | H34: 1425381
A35: JadeWeserPort | B35: 1052579 | C35: =SUM(B35/G35*100-100) -> 148.76783 | D35: =B35+SEE_März_BarrFrei!D35 -> 3272973 | E35: =SUM(D35/H35*100-100) -> 121.36625 | F35: Zeilenende | G35: 423117 | H35: 1478533
A36: Nordenham | B36: 158474.1 | C36: =SUM(B36/G36*100-100) -> 83.797918 | D36: =B36+SEE_März_BarrFrei!D36 -> 494153.17 | E36: =SUM(D36/H36*100-100) -> 48.83262 | F36: Zeilenende | G36: 86221.921 | H36: 332019.4
A37: Papenburg | B37: 33560 | C37: =SUM(B37/G37*100-100) -> -48.706192 | D37: =B37+SEE_März_BarrFrei!D37 -> 194564 | E37: =SUM(D37/H37*100-100) -> -9.1128219 | F37: Zeilenende | G37: 65427 | H37: 214072
A38: Wilhelmshaven | B38: 1962942 | C38: =SUM(B38/G38*100-100) -> -19.18025 | D38: =B38+SEE_März_BarrFrei!D38 -> 7873450 | E38: =SUM(D38/H38*100-100) -> -18.571251 | F38: Zeilenende | G38: 2428790 | H38: 9669128
A39: Übrige Seehäfen in Niedersachsen | B39: =B40-B31-B32-B33-B34-B35-B36-B37-B38 -> 81430.8 | C39: =SUM(B39/G39*100-100) -> -7.2956882 | D39: =B39+SEE_März_BarrFrei!D39 -> 294670.24 | E39: =SUM(D39/H39*100-100) -> -5.011438 | F39: Zeilenende | G39: 87839.28 | H39: 310216.55
A40: Insgesamt | B40: =B24 -> 4907691.4 | C40: =SUM(B40/G40*100-100) -> 4.3101903 | D40: =B40+SEE_März_BarrFrei!D40 -> 18509555 | E40: =SUM(D40/H40*100-100) -> 4.7492383 | F40: Zeilenende | G40: 4704901.2 | H40: 17670348
...

Sheet SEE_Mai_Barrfrei
A1: © Landesamt für Statistik Niedersachsen, Hannover 2025. Vervielfältigung und Verbreitung, auch auszugsweise, mit Quellenangabe gestattet. | F1: Zeilenende
A2: Güterumschlag der Seeschifffahrt im Mai 2025 nach Güterabteilungen im Sinne des NST-2007 1) | F2: Zeilenende
A3: Güterabteilungen | B3: Güterumschlag Mai 2025 in Tonnen | C3: Veränderung gegenüber Vorjahresmonat in % | D3: Güterumschlag Januar - Mai 2025 in Tonnen | E3: Veränderung gegenüber Vorjahreszeitraum in % | F3: Zeilenende | G3: Berichtsmonat Vorjahr | H3: Berichtszeitraum Vorjahr
A4: 01 Erzeugnisse der Land- und Forstwirtschaft sowie der Fischerei | B4: 53336 | C4: =(B4*100)/G4-100 -> 52.028048 | D4: =B4+SEE_April_BarrFrei!D4 -> 148544 | E4: =(D4*100)/H4-100 -> -14.377446 | F4: Zeilenende | G4: 35083 | H4: 173487
A5: 02 Kohle, rohes Erdöl und Erdgas | B5: 1777206 | C5: =(B5*100)/G5-100 -> -20.973703 | D5: =B5+SEE_April_BarrFrei!D5 -> 8718880.7 | E5: =(D5*100)/H5-100 -> -19.789151 | F5: Zeilenende | G5: 2248879.2 | H5: 10869952
A6: 03 Erze, Steine und Erden, sonstige Bergbauerzeugnisse | B6: 486500 | C6: =(B6*100)/G6-100 -> -23.734778 | D6: =B6+SEE_April_BarrFrei!D6 -> 3114242 | E6: =(D6*100)/H6-100 -> 14.606054 | F6: Zeilenende | G6: 637905.44 | H6: 2717345.1
A7: 04 Nahrungs- und Genussmittel | B7: 387835 | C7: =(B7*100)/G7-100 -> 111.05403 | D7: =B7+SEE_April_BarrFrei!D7 -> 1105271 | E7: =(D7*100)/H7-100 -> -1.8004755 | F7: Zeilenende | G7: 183761 | H7: 1125536
A8: 05 Textilien, Bekleidung, Leder und Lederwaren | C8: =(B8*100)/G8-100 -> #DIV/0! | D8: =B8+SEE_April_BarrFrei!D8 -> 0 | E8: =(D8*100)/H8-100 -> #DIV/0! | F8: Zeilenende | G8: 0 | H8: 0
A9: 06 Holzwaren, Papier, Pappe, Druckerzeugnisse | B9: 178099 | C9: =(B9*100)/G9-100 -> 20.897539 | D9: =B9+SEE_April_BarrFrei!D9 -> 811334 | E9: =(D9*100)/H9-100 -> 7.8887249 | F9: Zeilenende | G9: 147314 | H9: 752010
A10: 07 Kokerei- und Mineralölerzeugnisse | B10: 196927 | C10: =(B10*100)/G10-100 -> -7.466074 | D10: =B10+SEE_April_BarrFrei!D10 -> 1104021 | E10: =(D10*100)/H10-100 -> 19.322533 | F10: Zeilenende | G10: 212816 | H10: 925241
A11: 08 Chemische Erzeugnisse etc. | B11: 225051.28 | C11: =(B11*100)/G11-100 -> -14.097293 | D11: =B11+SEE_April_BarrFrei!D11 -> 1416048.8 | E11: =(D11*100)/H11-100 -> 3.7044448 | F11: Zeilenende | G11: 261983.92 | H11: 1365465.8
A12: 09 Sonstige Mineralerzeugnisse (Glas, Zement, Gips etc.) | B12: 526 | C12: =(B12*100)/G12-100 -> 131.91217 | D12: =B12+SEE_April_BarrFrei!D12 -> 39051.13 | E12: =(D12*100)/H12-100 -> 3481.1644 | F12: Zeilenende | G12: 226.81 | H12: 1090.459
A13: 10 Metalle und Metallerzeugnisse | B13: 96867.223 | C13: =(B13*100)/G13-100 -> 121.79216 | D13: =B13+SEE_April_BarrFrei!D13 -> 393290.42 | E13: =(D13*100)/H13-100 -> 38.721096 | F13: Zeilenende | G13: 43674.773 | H13: 283511.61
A14: 11 Maschinen und Ausrüstungen, Haushaltsgeräte etc. | B14: 54869 | C14: =(B14*100)/G14-100 -> 29.818294 | D14: =B14+SEE_April_BarrFrei!D14 -> 258647 | E14: =(D14*100)/H14-100 -> 94.950744 | F14: Zeilenende | G14: 42266 | H14: 132673
A15: 12 Fahrzeuge | B15: 281851.5 | C15: =(B15*100)/G15-100 -> 7.8324961 | D15: =B15+SEE_April_BarrFrei!D15 -> 1267076 | E15: =(D15*100)/H15-100 -> 5.7387583 | F15: Zeilenende | G15: 261379 | H15: 1198308
A16: 13 Möbel, Schmuck, Musikinstrumente, Sportgeräte etc. | B16: 240 | C16: =(B16*100)/G16-100 -> -4.96555 | D16: =B16+SEE_April_BarrFrei!D16 -> 622.36 | E16: =(D16*100)/H16-100 -> -28.316056 | F16: Zeilenende | G16: 252.54 | H16: 868.2
A17: 14 Sekundärrohstoffe, Abfälle | B17: 31108 | C17: =(B17*100)/G17-100 -> -3.811814 | D17: =B17+SEE_April_BarrFrei!D17 -> 123772.73 | E17: =(D17*100)/H17-100 -> -31.121005 | F17: Zeilenende | G17: 32340.77 | H17: 179695.9
A18: 15 Post, Pakete | C18: =(B18*100)/G18-100 -> #DIV/0! | D18: =B18+SEE_April_BarrFrei!D18 -> 0 | E18: =(D18*100)/H18-100 -> #DIV/0! | F18: Zeilenende | G18: 0 | H18: 0
A19: 16 Geräte und Material für die Güterbeförderung2) | B19: 0 | C19: =(B19*100)/G19-100 -> -100 | D19: =B19+SEE_April_BarrFrei!D19 -> 22302 | E19: =(D19*100)/H19-100 -> -22.64308 | F19: Zeilenende | G19: 5934 | H19: 28830
A20: 17 Umzugsgut und sonstige nichtmarktbestimmte Güter | C20: =(B20*100)/G20-100 -> #DIV/0! | D20: =B20+SEE_April_BarrFrei!D20 -> 0 | E20: =(D20*100)/H20-100 -> -100 | F20: Zeilenende | H20: 2407
A21: 18 Sammelgut | B21: 1658 | C21: =(B21*100)/G21-100 -> 51.553931 | D21: =B21+SEE_April_BarrFrei!D21 -> 764470 | E21: =(D21*100)/H21-100 -> 55.437581 | F21: Zeilenende | G21: 1094 | H21: 491818
A22: 19 Gutart unbekannt3) | B22: 1245900 | C22: =(B22*100)/G22-100 -> 153.35684 | D22: =B22+SEE_April_BarrFrei!D22 -> 4955006 | E22: =(D22*100)/H22-100 -> 101.0713 | F22: Zeilenende | G22: 491757 | H22: 2464303
A23: 20 Sonstige Güter a.n.g. | B23: 0 | C23: =(B23*100)/G23-100 -> -100 | D23: =B23+SEE_April_BarrFrei!D23 -> 8048.81 | E23: =(D23*100)/H23-100 -> -21.831731 | F23: Zeilenende | G23: 5359 | H23: 10296.774
A24: Insgesamt | B24: 5017974 | C24: =(B24*100)/G24-100 -> 8.8019335 | D24: =B24+SEE_April_BarrFrei!D24 -> 23527529 | E24: =(D24*100)/H24-100 -> 5.5880689 | F24: Zeilenende | G24: 4612026.5 | H24: 22282375
A25: Nächste Zeilen: Fußnoten 1-3 | E25: Zeilenende | F25: Zeilenende
A26: 1) Einheitliches Güterverzeichnis der Verkehrsstatistiken (NST-2007) | F26: Zeilenende
A27: 2) NST 16.2 - Paletten & Verpackungsmaterial; NST 16.1 - Leere Container und Wechselbehälter zählen nicht zum Seegüterumschlag | F27: Zeilenende
A28: 3) Nicht identifizierbare Güter in Containern sowie sonstige nichtidentifizierbare Güter | F28: Zeilenende
A29: Güterumschlag der Seeschifffahrt im Mai 2025 nach ausgewählten Häfen | F29: Zeilenende
A30: Ausgewählte Häfen | B30: Güterumschlag Mai 2025 in Tonnen | C30: Veränderung gegenüber Vorjahresmonat in % | D30: Güterumschlag Januar-Mai 2025 in Tonnen | E30: Veränderung gegenüber Vorjahreszeitraum in % | F30: Zeilenende | G30: Berichtsmonat Vorjahr | H30: Berichtszeitraum Vorjahr
A31: Brake | B31: 688301 | C31: =SUM(B31/G31*100-100) -> 87.925856 | D31: =B31+SEE_April_BarrFrei!D31 -> 2313612 | E31: =SUM(D31/H31*100-100) -> 10.515387 | F31: Zeilenende | G31: 366262 | H31: 2093475
A32: Bützfleth | B32: 325704 | C32: =SUM(B32/G32*100-100) -> -44.111823 | D32: =B32+SEE_April_BarrFrei!D32 -> 2166413 | E32: =SUM(D32/H32*100-100) -> -8.8647665 | F32: Zeilenende | G32: 582778 | H32: 2377141
A33: Cuxhaven | B33: 253667.5 | C33: =SUM(B33/G33*100-100) -> 17.313197 | D33: =B33+SEE_April_BarrFrei!D33 -> 1552696.5 | E33: =SUM(D33/H33*100-100) -> 65.947811 | F33: Zeilenende | G33: 216231 | H33: 935653.5
A34: Emden | B34: 392874 | C34: =SUM(B34/G34*100-100) -> 7.5586218 | D34: =B34+SEE_April_BarrFrei!D34 -> 2007570 | E34: =SUM(D34/H34*100-100) -> 12.114287 | F34: Zeilenende | G34: 365265 | H34: 1790646
A35: JadeWeserPort | B35: 1142050 | C35: =SUM(B35/G35*100-100) -> 223.15341 | D35: =B35+SEE_April_BarrFrei!D35 -> 4415023 | E35: =SUM(D35/H35*100-100) -> 141.00247 | F35: Zeilenende | G35: 353408 | H35: 1831941
A36: Nordenham | B36: 58552.499 | C36: =SUM(B36/G36*100-100) -> -61.778201 | D36: =B36+SEE_April_BarrFrei!D36 -> 552705.67 | E36: =SUM(D36/H36*100-100) -> 13.910429 | F36: Zeilenende | G36: 153191.37 | H36: 485210.77
A37: Papenburg | B37: 48930 | C37: =SUM(B37/G37*100-100) -> 15.159218 | D37: =B37+SEE_April_BarrFrei!D37 -> 243494 | E37: =SUM(D37/H37*100-100) -> -5.0931357 | F37: Zeilenende | G37: 42489 | H37: 256561
A38: Wilhelmshaven | B38: 2053387 | C38: =SUM(B38/G38*100-100) -> -15.739124 | D38: =B38+SEE_April_BarrFrei!D38 -> 9926837 | E38: =SUM(D38/H38*100-100) -> -18.001146 | F38: Zeilenende | G38: 2436940 | H38: 12106068
A39: Übrige Seehäfen in Niedersachsen | B39: =B40-B31-B32-B33-B34-B35-B36-B37-B38 -> 54508 | C39: =SUM(B39/G39*100-100) -> -42.900912 | D39: =B39+SEE_April_BarrFrei!D39 -> 349178.24 | E39: =SUM(D39/H39*100-100) -> -13.927385 | F39: Zeilenende | G39: 95462.12 | H39: 405678.67
A40: Insgesamt | B40: =B24 -> 5017974 | C40: =SUM(B40/G40*100-100) -> 8.8019335 | D40: =B40+SEE_April_BarrFrei!D40 -> 23527529 | E40: =SUM(D40/H40*100-100) -> 5.5880689 | F40: Zeilenende | G40: 4612026.5 | H40: 22282375
...

Sheet SEE_Juni_Barrfrei
A1: © Landesamt für Statistik Niedersachsen, Hannover 2025. Vervielfältigung und Verbreitung, auch auszugsweise, mit Quellenangabe gestattet. | F1: Zeilenende
A2: Güterumschlag der Seeschifffahrt im Juni 2025 nach Güterabteilungen im Sinne des NST-2007 1) | F2: Zeilenende
A3: Güterabteilungen | B3: Güterumschlag Juni 2025 in Tonnen | C3: Veränderung gegenüber Vorjahresmonat in % | D3: Güterumschlag Januar-Juni 2025 in Tonnen | E3: Veränderung gegenüber Vorjahreszeitraum in % | F3: Zeilenende | G3: Berichtsmonat Vorjahr | H3: Berichtszeitraum Vorjahr
A4: 01 Erzeugnisse der Land- und Forstwirtschaft sowie der Fischerei | B4: 85864 | C4: =(B4*100)/G4-100 -> 160.33594 | D4: =B4+SEE_Mai_Barrfrei!D4 -> 234408 | E4: =(D4*100)/H4-100 -> 13.531813 | F4: Zeilenende | G4: 32982 | H4: 206469
A5: 02 Kohle, rohes Erdöl und Erdgas | B5: 1878137 | C5: =(B5*100)/G5-100 -> -6.1007089 | D5: =B5+SEE_Mai_Barrfrei!D5 -> 10597018 | E5: =(D5*100)/H5-100 -> -17.661812 | F5: Zeilenende | G5: 2000161 | H5: 12870113
A6: 03 Erze, Steine und Erden, sonstige Bergbauerzeugnisse | B6: 558165 | C6: =(B6*100)/G6-100 -> 16.486528 | D6: =B6+SEE_Mai_Barrfrei!D6 -> 3672407 | E6: =(D6*100)/H6-100 -> 14.887943 | F6: Zeilenende | G6: 479167 | H6: 3196512.1
A7: 04 Nahrungs- und Genussmittel | B7: 209576 | C7: =(B7*100)/G7-100 -> 0.37741633 | D7: =B7+SEE_Mai_Barrfrei!D7 -> 1314847 | E7: =(D7*100)/H7-100 -> -1.4596904 | F7: Zeilenende | G7: 208788 | H7: 1334324
A8: 05 Textilien, Bekleidung, Leder und Lederwaren | B8: 0 | C8: =(B8*100)/G8-100 -> #DIV/0! | D8: =B8+SEE_Mai_Barrfrei!D8 -> 0 | E8: =(D8*100)/H8-100 -> #DIV/0! | F8: Zeilenende | H8: 0
A9: 06 Holzwaren, Papier, Pappe, Druckerzeugnisse | B9: 155552 | C9: =(B9*100)/G9-100 -> 55.628258 | D9: =B9+SEE_Mai_Barrfrei!D9 -> 966886 | E9: =(D9*100)/H9-100 -> 13.489467 | F9: Zeilenende | G9: 99951 | H9: 851961
A10: 07 Kokerei- und Mineralölerzeugnisse | B10: 252139 | C10: =(B10*100)/G10-100 -> 83.217916 | D10: =B10+SEE_Mai_Barrfrei!D10 -> 1356160 | E10: =(D10*100)/H10-100 -> 27.595596 | F10: Zeilenende | G10: 137617 | H10: 1062858
A11: 08 Chemische Erzeugnisse etc. | B11: 218557 | C11: =(B11*100)/G11-100 -> -10.933933 | D11: =B11+SEE_Mai_Barrfrei!D11 -> 1634605.8 | E11: =(D11*100)/H11-100 -> 1.4745242 | F11: Zeilenende | G11: 245387.51 | H11: 1610853.3
A12: 09 Sonstige Mineralerzeugnisse (Glas, Zement, Gips etc.) | B12: 36318.26 | C12: =(B12*100)/G12-100 -> 0.55724451 | D12: =B12+SEE_Mai_Barrfrei!D12 -> 75369.39 | E12: =(D12*100)/H12-100 -> 102.56527 | F12: Zeilenende | G12: 36117 | H12: 37207.459
A13: 10 Metalle und Metallerzeugnisse | B13: 80807 | C13: =(B13*100)/G13-100 -> 20.657959 | D13: =B13+SEE_Mai_Barrfrei!D13 -> 474097.42 | E13: =(D13*100)/H13-100 -> 35.269512 | F13: Zeilenende | G13: 66971.96 | H13: 350483.57
A14: 11 Maschinen und Ausrüstungen, Haushaltsgeräte etc. | B14: 60614 | C14: =(B14*100)/G14-100 -> 76.686294 | D14: =B14+SEE_Mai_Barrfrei!D14 -> 319261 | E14: =(D14*100)/H14-100 -> 91.198294 | F14: Zeilenende | G14: 34306 | H14: 166979
A15: 12 Fahrzeuge | B15: 269592 | C15: =(B15*100)/G15-100 -> 8.6709583 | D15: =B15+SEE_Mai_Barrfrei!D15 -> 1536668 | E15: =(D15*100)/H15-100 -> 6.2416819 | F15: Zeilenende | G15: 248081 | H15: 1446389
A16: 13 Möbel, Schmuck, Musikinstrumente, Sportgeräte etc. | B16: 154.05 | C16: =(B16*100)/G16-100 -> 14.111111 | D16: =B16+SEE_Mai_Barrfrei!D16 -> 776.41 | E16: =(D16*100)/H16-100 -> -22.606659 | F16: Zeilenende | G16: 135 | H16: 1003.2
A17: 14 Sekundärrohstoffe, Abfälle | B17: 35869.28 | C17: =(B17*100)/G17-100 -> -36.167662 | D17: =B17+SEE_Mai_Barrfrei!D17 -> 159642.01 | E17: =(D17*100)/H17-100 -> -32.323209 | F17: Zeilenende | G17: 56192.96 | H17: 235888.86
A18: 15 Post, Pakete | B18: 0 | C18: =(B18*100)/G18-100 -> #DIV/0! | D18: =B18+SEE_Mai_Barrfrei!D18 -> 0 | E18: =(D18*100)/H18-100 -> #DIV/0! | F18: Zeilenende | H18: 0
A19: 16 Geräte und Material für die Güterbeförderung2) | B19: 0 | C19: =(B19*100)/G19-100 -> -100 | D19: =B19+SEE_Mai_Barrfrei!D19 -> 22302 | E19: =(D19*100)/H19-100 -> -33.896497 | F19: Zeilenende | G19: 4908 | H19: 33738
A20: 17 Umzugsgut und sonstige nichtmarktbestimmte Güter | C20: =(B20*100)/G20-100 -> #DIV/0! | D20: =B20+SEE_Mai_Barrfrei!D20 -> 0 | E20: =(D20*100)/H20-100 -> -100 | F20: Zeilenende | H20: 2407
A21: 18 Sammelgut | B21: 4778 | C21: =(B21*100)/G21-100 -> 72.553268 | D21: =B21+SEE_Mai_Barrfrei!D21 -> 769248 | E21: =(D21*100)/H21-100 -> 55.533405 | F21: Zeilenende | G21: 2769 | H21: 494587
A22: 19 Gutart unbekannt3) | B22: 1131088 | C22: =(B22*100)/G22-100 -> 114.67492 | D22: =B22+SEE_Mai_Barrfrei!D22 -> 6086094 | E22: =(D22*100)/H22-100 -> 103.46751 | F22: Zeilenende | G22: 526884.1 | H22: 2991187.1
A23: 20 Sonstige Güter a.n.g. | B23: 46.947 | C23: =(B23*100)/G23-100 -> -99.420497 | D23: =B23+SEE_Mai_Barrfrei!D23 -> 8095.757 | E23: =(D23*100)/H23-100 -> -55.996614 | F23: Zeilenende | G23: 8101.258 | H23: 18398.032
A24: Insgesamt | B24: 4977257.5 | C24: =(B24*100)/G24-100 -> 19.462892 | D24: =B24+SEE_Mai_Barrfrei!D24 -> 28504787 | E24: =(D24*100)/H24-100 -> 7.7737138 | F24: Zeilenende | G24: 4166362.8 | H24: 26448738
A25: Nächste Zeilen: Fußnoten 1-3 | E25: Zeilenende | F25: Zeilenende
A26: 1) Einheitliches Güterverzeichnis der Verkehrsstatistiken (NST-2007) | F26: Zeilenende
A27: 2) NST 16.2 - Paletten & Verpackungsmaterial; NST 16.1 - Leere Container und Wechselbehälter zählen nicht zum Seegüterumschlag | F27: Zeilenende
A28: 3) Nicht identifizierbare Güter in Containern sowie sonstige nichtidentifizierbare Güter | F28: Zeilenende
A29: Güterumschlag der Seeschifffahrt im Juni 2025 nach ausgewählten Häfen | F29: Zeilenende
A30: Ausgewählte Häfen | B30: Güterumschlag Juni 2025 in Tonnen | C30: Veränderung gegenüber Vorjahresmonat in % | D30: Güterumschlag Januar-Juni 2025 in Tonnen | E30: Veränderung gegenüber Vorjahreszeitraum in % | F30: Zeilenende | G30: Berichtsmonat Vorjahr | H30: Berichtszeitraum Vorjahr
A31: Brake | B31: 469328 | C31: =SUM(B31/G31*100-100) -> 23.933962 | D31: =B31+SEE_Mai_Barrfrei!D31 -> 2782940 | E31: =SUM(D31/H31*100-100) -> 12.570874 | F31: Zeilenende | G31: 378692 | H31: 2472167
A32: Bützfleth | B32: 440710 | C32: =SUM(B32/G32*100-100) -> 10.30435 | D32: =B32+SEE_Mai_Barrfrei!D32 -> 2607123 | E32: =SUM(D32/H32*100-100) -> -6.1064991 | F32: Zeilenende | G32: 399540 | H32: 2776681
A33: Cuxhaven | B33: 287989 | C33: =SUM(B33/G33*100-100) -> 43.275187 | D33: =B33+SEE_Mai_Barrfrei!D33 -> 1840685.5 | E33: =SUM(D33/H33*100-100) -> 61.938432 | F33: Zeilenende | G33: 201004.1 | H33: 1136657.6
A34: Emden | B34: 400389 | C34: =SUM(B34/G34*100-100) -> 14.58412 | D34: =B34+SEE_Mai_Barrfrei!D34 -> 2407959 | E34: =SUM(D34/H34*100-100) -> 12.517558 | F34: Zeilenende | G34: 349428 | H34: 2140074
A35: JadeWeserPort | B35: 1043942 | C35: =SUM(B35/G35*100-100) -> 159.71808 | D35: =B35+SEE_Mai_Barrfrei!D35 -> 5458965 | E35: =SUM(D35/H35*100-100) -> 144.37003 | F35: Zeilenende | G35: 401952 | H35: 2233893
A36: Nordenham | B36: 87231.947 | C36: =SUM(B36/G36*100-100) -> -23.820698 | D36: =B36+SEE_Mai_Barrfrei!D36 -> 639937.62 | E36: =SUM(D36/H36*100-100) -> 6.7061557 | F36: Zeilenende | G36: 114508.72 | H36: 599719.5
A37: Papenburg | B37: 51009 | C37: =SUM(B37/G37*100-100) -> 94.009585 | D37: =B37+SEE_Mai_Barrfrei!D37 -> 294503 | E37: =SUM(D37/H37*100-100) -> 4.1187472 | F37: Zeilenende | G37: 26292 | H37: 282853
A38: Wilhelmshaven | B38: 2152061 | C38: =SUM(B38/G38*100-100) -> -3.0072751 | D38: =B38+SEE_Mai_Barrfrei!D38 -> 12078898 | E38: =SUM(D38/H38*100-100) -> -15.678736 | F38: Zeilenende | G38: 2218786 | H38: 14324854
A39: Übrige Seehäfen in Niedersachsen | B39: =B40-B31-B32-B33-B34-B35-B36-B37-B38 -> 44597.59 | C39: =SUM(B39/G39*100-100) -> -41.44224 | D39: =B39+SEE_Mai_Barrfrei!D39 -> 393775.83 | E39: =SUM(D39/H39*100-100) -> -18.276416 | F39: Zeilenende | G39: 76160 | H39: 481838.67
A40: Insgesamt | B40: =B24 -> 4977257.5 | C40: =SUM(B40/G40*100-100) -> 19.462892 | D40: =B40+SEE_Mai_Barrfrei!D40 -> 28504787 | E40: =SUM(D40/H40*100-100) -> 7.7737138 | F40: Zeilenende | G40: 4166362.8 | H40: 26448738
...

Sheet SEE_Juli_Barrfrei
A1: © Landesamt für Statistik Niedersachsen, Hannover 2025. Vervielfältigung und Verbreitung, auch auszugsweise, mit Quellenangabe gestattet. | F1: Zeilenende
A2: Güterumschlag der Seeschifffahrt im Juli 2025 nach Güterabteilungen im Sinne des NST-2007 1) | F2: Zeilenende
A3: Güterabteilungen | B3: Güterumschlag Juli 2025 in Tonnen | C3: Veränderung gegenüber Vorjahresmonat in % | D3: Güterumschlag Januar-Juli 2025 in Tonnen | E3: Veränderung gegenüber Vorjahreszeitraum in % | F3: Zeilenende | G3: Berichtsmonat Vorjahr | H3: Berichtszeitraum Vorjahr
A4: 01 Erzeugnisse der Land- und Forstwirtschaft sowie der Fischerei | B4: 56219 | C4: =(B4*100)/G4-100 -> -55.566533 | D4: =B4+SEE_Juni_Barrfrei!D4 -> 290627 | E4: =(D4*100)/H4-100 -> -12.72279 | F4: Zeilenende | G4: 126524 | H4: 332993
A5: 02 Kohle, rohes Erdöl und Erdgas | B5: 2200083 | C5: =(B5*100)/G5-100 -> -2.78871 | D5: =B5+SEE_Juni_Barrfrei!D5 -> 12797101 | E5: =(D5*100)/H5-100 -> -15.437529 | F5: Zeilenende | G5: 2263197 | H5: 15133310
A6: 03 Erze, Steine und Erden, sonstige Bergbauerzeugnisse | B6: 725648 | C6: =(B6*100)/G6-100 -> -6.337605 | D6: =B6+SEE_Juni_Barrfrei!D6 -> 4398055 | E6: =(D6*100)/H6-100 -> 10.747076 | F6: Zeilenende | G6: 774748.5 | H6: 3971260.6
A7: 04 Nahrungs- und Genussmittel | B7: 317146 | C7: =(B7*100)/G7-100 -> 33.942908 | D7: =B7+SEE_Juni_Barrfrei!D7 -> 1631993 | E7: =(D7*100)/H7-100 -> 3.8757534 | F7: Zeilenende | G7: 236777 | H7: 1571101
A8: 05 Textilien, Bekleidung, Leder und Lederwaren | B8: 0 | C8: =(B8*100)/G8-100 -> #DIV/0! | D8: =B8+SEE_Juni_Barrfrei!D8 -> 0 | E8: =(D8*100)/H8-100 -> #DIV/0! | F8: Zeilenende | H8: 0
A9: 06 Holzwaren, Papier, Pappe, Druckerzeugnisse | B9: 152313 | C9: =(B9*100)/G9-100 -> 4.8258443 | D9: =B9+SEE_Juni_Barrfrei!D9 -> 1119199 | E9: =(D9*100)/H9-100 -> 12.227178 | F9: Zeilenende | G9: 145301 | H9: 997262
A10: 07 Kokerei- und Mineralölerzeugnisse | B10: 270721 | C10: =(B10*100)/G10-100 -> 40.744688 | D10: =B10+SEE_Juni_Barrfrei!D10 -> 1626881 | E10: =(D10*100)/H10-100 -> 29.610574 | F10: Zeilenende | G10: 192349 | H10: 1255207
A11: 08 Chemische Erzeugnisse etc. | B11: 265549.35 | C11: =(B11*100)/G11-100 -> 9.9364616 | D11: =B11+SEE_Juni_Barrfrei!D11 -> 1900155.1 | E11: =(D11*100)/H11-100 -> 2.5779375 | F11: Zeilenende | G11: 241548.03 | H11: 1852401.4
A12: 09 Sonstige Mineralerzeugnisse (Glas, Zement, Gips etc.) | B12: 36273.66 | C12: =(B12*100)/G12-100 -> 6754.9512 | D12: =B12+SEE_Juni_Barrfrei!D12 -> 111643.05 | E12: =(D12*100)/H12-100 -> 195.84805 | F12: Zeilenende | G12: 529.16 | H12: 37736.619
A13: 10 Metalle und Metallerzeugnisse | B13: 51398.877 | C13: =(B13*100)/G13-100 -> -10.10673 | D13: =B13+SEE_Juni_Barrfrei!D13 -> 525496.29 | E13: =(D13*100)/H13-100 -> 28.90514 | F13: Zeilenende | G13: 57177.67 | H13: 407661.24
A14: 11 Maschinen und Ausrüstungen, Haushaltsgeräte etc. | B14: 60287 | C14: =(B14*100)/G14-100 -> 29.761085 | D14: =B14+SEE_Juni_Barrfrei!D14 -> 379548 | E14: =(D14*100)/H14-100 -> 77.825046 | F14: Zeilenende | G14: 46460 | H14: 213439
A15: 12 Fahrzeuge | B15: 250850 | C15: =(B15*100)/G15-100 -> 3.6229834 | D15: =B15+SEE_Juni_Barrfrei!D15 -> 1787518 | E15: =(D15*100)/H15-100 -> 5.8662332 | F15: Zeilenende | G15: 242079.5 | H15: 1688468.5
A16: 13 Möbel, Schmuck, Musikinstrumente, Sportgeräte etc. | B16: 188.77 | C16: =(B16*100)/G16-100 -> 42.457173 | D16: =B16+SEE_Juni_Barrfrei!D16 -> 965.18 | E16: =(D16*100)/H16-100 -> -15.015277 | F16: Zeilenende | G16: 132.51 | H16: 1135.71
A17: 14 Sekundärrohstoffe, Abfälle | B17: 32410.78 | C17: =(B17*100)/G17-100 -> -23.664802 | D17: =B17+SEE_Juni_Barrfrei!D17 -> 192052.79 | E17: =(D17*100)/H17-100 -> -31.002475 | F17: Zeilenende | G17: 42458.5 | H17: 278347.36
A18: 15 Post, Pakete | B18: 0 | C18: =(B18*100)/G18-100 -> #DIV/0! | D18: =B18+SEE_Juni_Barrfrei!D18 -> 0 | E18: =(D18*100)/H18-100 -> #DIV/0! | F18: Zeilenende | H18: 0
A19: 16 Geräte und Material für die Güterbeförderung2) | B19: 0 | C19: =(B19*100)/G19-100 -> -100 | D19: =B19+SEE_Juni_Barrfrei!D19 -> 22302 | E19: =(D19*100)/H19-100 -> -43.656207 | F19: Zeilenende | G19: 5844 | H19: 39582
A20: 17 Umzugsgut und sonstige nichtmarktbestimmte Güter | C20: =(B20*100)/G20-100 -> -100 | D20: =B20+SEE_Juni_Barrfrei!D20 -> 0 | E20: =(D20*100)/H20-100 -> -100 | F20: Zeilenende | G20: 118 | H20: 2525
A21: 18 Sammelgut | B21: 3473 | C21: =(B21*100)/G21-100 -> 25.924583 | D21: =B21+SEE_Juni_Barrfrei!D21 -> 772721 | E21: =(D21*100)/H21-100 -> 55.369211 | F21: Zeilenende | G21: 2758 | H21: 497345
A22: 19 Gutart unbekannt3) | B22: 1138902.6 | C22: =(B22*100)/G22-100 -> 47.855861 | D22: =B22+SEE_Juni_Barrfrei!D22 -> 7224996.7 | E22: =(D22*100)/H22-100 -> 92.079271 | F22: Zeilenende | G22: 770279 | H22: 3761466.1
A23: 20 Sonstige Güter a.n.g. | B23: 0 | C23: =(B23*100)/G23-100 -> -100 | D23: =B23+SEE_Juni_Barrfrei!D23 -> 8095.757 | E23: =(D23*100)/H23-100 -> -69.862258 | F23: Zeilenende | G23: 8464.488 | H23: 26862.52
A24: Insgesamt | B24: 5561464.1 | C24: =(B24*100)/G24-100 -> 7.8483157 | D24: =B24+SEE_Juni_Barrfrei!D24 -> 34066251 | E24: =(D24*100)/H24-100 -> 7.7858859 | F24: Zeilenende | G24: 5156746.4 | H24: 31605484
A25: Nächste Zeilen: Fußnoten 1-3 | E25: Zeilenende | F25: Zeilenende
A26: 1) Einheitliches Güterverzeichnis der Verkehrsstatistiken (NST-2007) | F26: Zeilenende
A27: 2) NST 16.2 - Paletten & Verpackungsmaterial; NST 16.1 - Leere Container und Wechselbehälter zählen nicht zum Seegüterumschlag | F27: Zeilenende
A28: 3) Nicht identifizierbare Güter in Containern sowie sonstige nichtidentifizierbare Güter | F28: Zeilenende
A29: Güterumschlag der Seeschifffahrt im Juli 2025 nach ausgewählten Häfen | F29: Zeilenende
A30: Ausgewählte Häfen | B30: Güterumschlag Juli 2025 in Tonnen | C30: Veränderung gegenüber Vorjahresmonat in % | D30: Güterumschlag Januar-Juli 2025 in Tonnen | E30: Veränderung gegenüber Vorjahreszeitraum in % | F30: Zeilenende | G30: Berichtsmonat Vorjahr | H30: Berichtszeitraum Vorjahr
A31: Brake | B31: 516140 | C31: =SUM(B31/G31*100-100) -> 5.8981151 | D31: =B31+SEE_Juni_Barrfrei!D31 -> 3299080 | E31: =SUM(D31/H31*100-100) -> 11.471976 | F31: Zeilenende | G31: 487393 | H31: 2959560
A32: Bützfleth | B32: 553283 | C32: =SUM(B32/G32*100-100) -> 9.530842 | D32: =B32+SEE_Juni_Barrfrei!D32 -> 3160406 | E32: =SUM(D32/H32*100-100) -> -3.6995935 | F32: Zeilenende | G32: 505139 | H32: 3281820
A33: Cuxhaven | B33: 267146 | C33: =SUM(B33/G33*100-100) -> 2.0199995 | D33: =B33+SEE_Juni_Barrfrei!D33 -> 2107831.5 | E33: =SUM(D33/H33*100-100) -> 50.71936 | F33: Zeilenende | G33: 261856.5 | H33: 1398514.1
A34: Emden | B34: 411793 | C34: =SUM(B34/G34*100-100) -> -7.9979267 | D34: =B34+SEE_Juni_Barrfrei!D34 -> 2819752 | E34: =SUM(D34/H34*100-100) -> 8.968974 | F34: Zeilenende | G34: 447591 | H34: 2587665
A35: JadeWeserPort | B35: 1047459 | C35: =SUM(B35/G35*100-100) -> 61.369981 | D35: =B35+SEE_Juni_Barrfrei!D35 -> 6506424 | E35: =SUM(D35/H35*100-100) -> 125.68265 | F35: Zeilenende | G35: 649104 | H35: 2882997
A36: Nordenham | B36: 163084.88 | C36: =SUM(B36/G36*100-100) -> 212.60469 | D36: =B36+SEE_Juni_Barrfrei!D36 -> 803022.5 | E36: =SUM(D36/H36*100-100) -> 23.183897 | F36: Zeilenende | G36: 52169.685 | H36: 651889.18
A37: Papenburg | B37: 63094 | C37: =SUM(B37/G37*100-100) -> 108.8652 | D37: =B37+SEE_Juni_Barrfrei!D37 -> 357597 | E37: =SUM(D37/H37*100-100) -> 14.225982 | F37: Zeilenende | G37: 30208 | H37: 313061
A38: Wilhelmshaven | B38: 2481419 | C38: =SUM(B38/G38*100-100) -> -4.741396 | D38: =B38+SEE_Juni_Barrfrei!D38 -> 14560317 | E38: =SUM(D38/H38*100-100) -> -13.995844 | F38: Zeilenende | G38: 2604929 | H38: 16929783
A39: Übrige Seehäfen in Niedersachsen | B39: =B40-B31-B32-B33-B34-B35-B36-B37-B38 -> 58045.21 | C39: =SUM(B39/G39*100-100) -> -50.957174 | D39: =B39+SEE_Juni_Barrfrei!D39 -> 451821.04 | E39: =SUM(D39/H39*100-100) -> -24.720939 | F39: Zeilenende | G39: 118356.17 | H39: 600194.84
A40: Insgesamt | B40: =B24 -> 5561464.1 | C40: =SUM(B40/G40*100-100) -> 7.8483157 | D40: =B40+SEE_Juni_Barrfrei!D40 -> 34066251 | E40: =SUM(D40/H40*100-100) -> 7.7858859 | F40: Zeilenende | G40: 5156746.4 | H40: 31605484
...

Sheet SEE_August_Barrfrei
A1: © Landesamt für Statistik Niedersachsen, Hannover 2025. Vervielfältigung und Verbreitung, auch auszugsweise, mit Quellenangabe gestattet. | F1: Zeilenende
A2: Güterumschlag der Seeschifffahrt im August 2025 nach Güterabteilungen im Sinne des NST-2007 1) | F2: Zeilenende
A3: Güterabteilungen | B3: Güterumschlag August 2025 in Tonnen | C3: Veränderung gegenüber Vorjahresmonat in % | D3: Güterumschlag Januar-August 2025 in Tonnen | E3: Veränderung gegenüber Vorjahreszeitraum in % | F3: Zeilenende | G3: Berichtsmonat Vorjahr | H3: Berichtszeitraum Vorjahr
A4: 01 Erzeugnisse der Land- und Forstwirtschaft sowie der Fischerei | B4: 42151 | C4: =(B4*100)/G4-100 -> -30.384158 | D4: =B4+SEE_Juli_Barrfrei!D4 -> 332778 | E4: =(D4*100)/H4-100 -> -15.440069 | F4: Zeilenende | G4: 60548 | H4: 393541
A5: 02 Kohle, rohes Erdöl und Erdgas | B5: 2192973 | C5: =(B5*100)/G5-100 -> 19.57238 | D5: =B5+SEE_Juli_Barrfrei!D5 -> 14990074 | E5: =(D5*100)/H5-100 -> -11.653277 | F5: Zeilenende | G5: 1834013 | H5: 16967323
A6: 03 Erze, Steine und Erden, sonstige Bergbauerzeugnisse | B6: 704248 | C6: =(B6*100)/G6-100 -> 41.861641 | D6: =B6+SEE_Juli_Barrfrei!D6 -> 5102303 | E6: =(D6*100)/H6-100 -> 14.204407 | F6: Zeilenende | G6: 496433 | H6: 4467693.6
A7: 04 Nahrungs- und Genussmittel | B7: 310783.9 | C7: =(B7*100)/G7-100 -> 25.912141 | D7: =B7+SEE_Juli_Barrfrei!D7 -> 1942776.9 | E7: =(D7*100)/H7-100 -> 6.8677071 | F7: Zeilenende | G7: 246826 | H7: 1817927
A8: 05 Textilien, Bekleidung, Leder und Lederwaren | B8: 0 | C8: =(B8*100)/G8-100 -> #DIV/0! | D8: =B8+SEE_Juli_Barrfrei!D8 -> 0 | E8: =(D8*100)/H8-100 -> #DIV/0! | F8: Zeilenende | H8: 0
A9: 06 Holzwaren, Papier, Pappe, Druckerzeugnisse | B9: 206363 | C9: =(B9*100)/G9-100 -> 20.934716 | D9: =B9+SEE_Juli_Barrfrei!D9 -> 1325562 | E9: =(D9*100)/H9-100 -> 13.49942 | F9: Zeilenende | G9: 170640 | H9: 1167902
A10: 07 Kokerei- und Mineralölerzeugnisse | B10: 235845 | C10: =(B10*100)/G10-100 -> 59.488355 | D10: =B10+SEE_Juli_Barrfrei!D10 -> 1862726 | E10: =(D10*100)/H10-100 -> 32.759502 | F10: Zeilenende | G10: 147876 | H10: 1403083
A11: 08 Chemische Erzeugnisse etc. | B11: 300234.4 | C11: =(B11*100)/G11-100 -> 4.7341613 | D11: =B11+SEE_Juli_Barrfrei!D11 -> 2200389.5 | E11: =(D11*100)/H11-100 -> 2.8669004 | F11: Zeilenende | G11: 286663.3 | H11: 2139064.7
A12: 09 Sonstige Mineralerzeugnisse (Glas, Zement, Gips etc.) | B12: 113992.59 | C12: =(B12*100)/G12-100 -> 215.87684 | D12: =B12+SEE_Juli_Barrfrei!D12 -> 225635.64 | E12: =(D12*100)/H12-100 -> 205.63876 | F12: Zeilenende | G12: 36087.67 | H12: 73824.289
A13: 10 Metalle und Metallerzeugnisse | B13: 59108 | C13: =(B13*100)/G13-100 -> 49.79216 | D13: =B13+SEE_Juli_Barrfrei!D13 -> 584604.29 | E13: =(D13*100)/H13-100 -> 30.748492 | F13: Zeilenende | G13: 39460.009 | H13: 447121.25
A14: 11 Maschinen und Ausrüstungen, Haushaltsgeräte etc. | B14: 51177 | C14: =(B14*100)/G14-100 -> 34.502878 | D14: =B14+SEE_Juli_Barrfrei!D14 -> 430725 | E14: =(D14*100)/H14-100 -> 71.270597 | F14: Zeilenende | G14: 38049 | H14: 251488
A15: 12 Fahrzeuge | B15: 218528.5 | C15: =(B15*100)/G15-100 -> -0.46540588 | D15: =B15+SEE_Juli_Barrfrei!D15 -> 2006046.5 | E15: =(D15*100)/H15-100 -> 5.1376695 | F15: Zeilenende | G15: 219550.3 | H15: 1908018.8
A16: 13 Möbel, Schmuck, Musikinstrumente, Sportgeräte etc. | B16: 112.38 | C16: =(B16*100)/G16-100 -> -12.017537 | D16: =B16+SEE_Juli_Barrfrei!D16 -> 1077.56 | E16: =(D16*100)/H16-100 -> -14.712214 | F16: Zeilenende | G16: 127.73 | H16: 1263.44
A17: 14 Sekundärrohstoffe, Abfälle | B17: 25272.97 | C17: =(B17*100)/G17-100 -> 27.270891 | D17: =B17+SEE_Juli_Barrfrei!D17 -> 217325.76 | E17: =(D17*100)/H17-100 -> -27.122022 | F17: Zeilenende | G17: 19857.62 | H17: 298204.98
A18: 15 Post, Pakete | B18: 0 | C18: =(B18*100)/G18-100 -> #DIV/0! | D18: =B18+SEE_Juli_Barrfrei!D18 -> 0 | E18: =(D18*100)/H18-100 -> #DIV/0! | F18: Zeilenende | H18: 0
A19: 16 Geräte und Material für die Güterbeförderung2) | B19: 0 | C19: =(B19*100)/G19-100 -> -100 | D19: =B19+SEE_Juli_Barrfrei!D19 -> 22302 | E19: =(D19*100)/H19-100 -> -50.930693 | F19: Zeilenende | G19: 5868 | H19: 45450
A20: 17 Umzugsgut und sonstige nichtmarktbestimmte Güter | C20: =(B20*100)/G20-100 -> #DIV/0! | D20: =B20+SEE_Juli_Barrfrei!D20 -> 0 | E20: =(D20*100)/H20-100 -> -100 | F20: Zeilenende | H20: 2525
A21: 18 Sammelgut | B21: 5729 | C21: =(B21*100)/G21-100 -> 3.8238492 | D21: =B21+SEE_Juli_Barrfrei!D21 -> 778450 | E21: =(D21*100)/H21-100 -> 54.803595 | F21: Zeilenende | G21: 5518 | H21: 502863
A22: 19 Gutart unbekannt3) | B22: 1225812 | C22: =(B22*100)/G22-100 -> 36.965754 | D22: =B22+SEE_Juli_Barrfrei!D22 -> 8450808.7 | E22: =(D22*100)/H22-100 -> 81.486351 | F22: Zeilenende | G22: 894977 | H22: 4656443.1
A23: 20 Sonstige Güter a.n.g. | B23: 9342.959 | C23: =(B23*100)/G23-100 -> 305.86268 | D23: =B23+SEE_Juli_Barrfrei!D23 -> 17438.716 | E23: =(D23*100)/H23-100 -> -40.205716 | F23: Zeilenende | G23: 2302 | H23: 29164.52
