Workbook

Sheet XX_Unfälle_Verunglückte_MMJJ
A1: © Landesamt für Statistik Niedersachsen, Hannover 2026. Vervielfältigung und Verbreitung, auch auszugsweise, mit Quellenangabe gestattet. | P1: Zeilenende
A2: Straßenverkehrsunfälle und Verunglückte 2024 nach Monaten in Niedersachsen1) | P2: Zeilenende
A3: Navigation für Vorlesehilfen | B3: Straßenverkehrsunfälle und Verunglückte | C3: Januar 2024 | D3: Februar 2024 | E3: März 2024 | F3: April 2024 | G3: Mai 2024 | H3: Juni 2024 | I3: Juli 2024 | J3: August 2024 | K3: September 2024 | L3: Oktober 2024 | M3: November 2024 | N3: Dezember 2024 | O3: Insgesamt 2024 | P3: Zeilenende
A4: Straßenverkehrsunfälle und Verunglückte: | B4: Straßenverkehrsunfälle insgesamt | C4: =IF([1]Januar_BarrFrei!C4>0,[1]Januar_BarrFrei!C4,"[z]") -> 17778 | D4: =IF([1]Februar_BarrFrei!C4>0,[1]Februar_BarrFrei!C4,"[z]") -> 15455 | E4: =IF([1]März_BarrFrei!C4>0,[1]März_BarrFrei!C4,"[z]") -> 15403 | F4: =IF([1]April_BarrFrei!C4>0,[1]April_BarrFrei!C4,"[z]") -> 17815 | G4: =IF([1]Mai_BarrFrei!C4>0,[1]Mai_BarrFrei!C4,"[z]") -> 18776 | H4: =IF([1]Juni_BarrFrei!C4>0,[1]Juni_BarrFrei!C4,"[z]") -> 16974 | I4: =IF([1]Juli_BarrFrei!C4>0,[1]Juli_BarrFrei!C4,"[z]") -> 16086 | J4: =IF([1]August_BarrFrei!C4>0,[1]August_BarrFrei!C4,"[z]") -> 18013 | K4: =IF([1]September_BarrFrei!C4>0,[1]September_BarrFrei!C4,"[z]") -> 17286 | L4: =IF([1]Oktober_BarrFrei!C4>0,[1]Oktober_BarrFrei!C4,"[z]") -> 18421 | M4: =IF([1]November_BarrFrei!C4>0,[1]November_BarrFrei!C4,"[z]") -> 17718 | N4: =IF([1]Dezember_BarrFrei!C4>0,[1]Dezember_BarrFrei!C4,"[z]") -> 16659 | O4: =SUM(C4:N4) -> 206384 | P4: Zeilenende
A5: Straßenverkehrsunfälle insgesamt; | B5: davon Unfälle mit Sachschaden | C5: =IF([1]Januar_BarrFrei!C6>0,[1]Januar_BarrFrei!C6,"[z]") -> 15526 | D5: =IF([1]Februar_BarrFrei!C6>0,[1]Februar_BarrFrei!C6,"[z]") -> 13360 | E5: =IF([1]März_BarrFrei!C6>0,[1]März_BarrFrei!C6,"[z]") -> 13285 | F5: =IF([1]April_BarrFrei!C6>0,[1]April_BarrFrei!C6,"[z]") -> 15246 | G5: =IF([1]Mai_BarrFrei!C6>0,[1]Mai_BarrFrei!C6,"[z]") -> 15421 | H5: =IF([1]Juni_BarrFrei!C6>0,[1]Juni_BarrFrei!C6,"[z]") -> 14104 | I5: =IF([1]Juli_BarrFrei!C6>0,[1]Juli_BarrFrei!C6,"[z]") -> 13394 | J5: =IF([1]August_BarrFrei!C6>0,[1]August_BarrFrei!C6,"[z]") -> 14661 | K5: =IF([1]September_BarrFrei!C6>0,[1]September_BarrFrei!C6,"[z]") -> 14222 | L5: =IF([1]Oktober_BarrFrei!C6>0,[1]Oktober_BarrFrei!C6,"[z]") -> 15536 | M5: =IF([1]November_BarrFrei!C6>0,[1]November_BarrFrei!C6,"[z]") -> 15139 | N5: =IF([1]Dezember_BarrFrei!C6>0,[1]Dezember_BarrFrei!C6,"[z]") -> 14384 | O5: =SUM(C5:N5) -> 174278 | P5: Zeilenende
A6: Straßenverkehrsunfälle insgesamt; davon Unfälle mit Sachschaden; | B6: davon Schwerwiegender Unfall mit Sachschaden (im engeren Sinne) | C6: =IF([1]Januar_BarrFrei!C8>0,[1]Januar_BarrFrei!C8,"[z]") -> 429 | D6: =IF([1]Februar_BarrFrei!C8>0,[1]Februar_BarrFrei!C8,"[z]") -> 310 | E6: =IF([1]März_BarrFrei!C8>0,[1]März_BarrFrei!C8,"[z]") -> 279 | F6: =IF([1]April_BarrFrei!C8>0,[1]April_BarrFrei!C8,"[z]") -> 302 | G6: =IF([1]Mai_BarrFrei!C8>0,[1]Mai_BarrFrei!C8,"[z]") -> 329 | H6: =IF([1]Juni_BarrFrei!C8>0,[1]Juni_BarrFrei!C8,"[z]") -> 332 | I6: =IF([1]Juli_BarrFrei!C8>0,[1]Juli_BarrFrei!C8,"[z]") -> 308 | J6: =IF([1]August_BarrFrei!C8>0,[1]August_BarrFrei!C8,"[z]") -> 287 | K6: =IF([1]September_BarrFrei!C8>0,[1]September_BarrFrei!C8,"[z]") -> 326 | L6: =IF([1]Oktober_BarrFrei!C8>0,[1]Oktober_BarrFrei!C8,"[z]") -> 389 | M6: =IF([1]November_BarrFrei!C8>0,[1]November_BarrFrei!C8,"[z]") -> 413 | N6: =IF([1]Dezember_BarrFrei!C8>0,[1]Dezember_BarrFrei!C8,"[z]") -> 399 | O6: =SUM(C6:N6) -> 4103 | P6: Zeilenende
A7: Straßenverkehrsunfälle insgesamt; davon Unfälle mit Sachschaden; davon | B7: Sonstige Unfälle unter dem Einfluss berauschender Mittel | C7: =IF([1]Januar_BarrFrei!C9>0,[1]Januar_BarrFrei!C9,"[z]") -> 106 | D7: =IF([1]Februar_BarrFrei!C9>0,[1]Februar_BarrFrei!C9,"[z]") -> 124 | E7: =IF([1]März_BarrFrei!C9>0,[1]März_BarrFrei!C9,"[z]") -> 109 | F7: =IF([1]April_BarrFrei!C9>0,[1]April_BarrFrei!C9,"[z]") -> 122 | G7: =IF([1]Mai_BarrFrei!C9>0,[1]Mai_BarrFrei!C9,"[z]") -> 135 | H7: =IF([1]Juni_BarrFrei!C9>0,[1]Juni_BarrFrei!C9,"[z]") -> 136 | I7: =IF([1]Juli_BarrFrei!C9>0,[1]Juli_BarrFrei!C9,"[z]") -> 123 | J7: =IF([1]August_BarrFrei!C9>0,[1]August_BarrFrei!C9,"[z]") -> 142 | K7: =IF([1]September_BarrFrei!C9>0,[1]September_BarrFrei!C9,"[z]") -> 137 | L7: =IF([1]Oktober_BarrFrei!C9>0,[1]Oktober_BarrFrei!C9,"[z]") -> 135 | M7: =IF([1]November_BarrFrei!C9>0,[1]November_BarrFrei!C9,"[z]") -> 115 | N7: =IF([1]Dezember_BarrFrei!C9>0,[1]Dezember_BarrFrei!C9,"[z]") -> 147 | O7: =SUM(C7:N7) -> 1531 | P7: Zeilenende
A8: Straßenverkehrsunfälle insgesamt; davon Unfälle mit Sachschaden; davon | B8: Übrige Sachschadensunfälle | C8: =IF([1]Januar_BarrFrei!C10>0,[1]Januar_BarrFrei!C10,"[z]") -> 14991 | D8: =IF([1]Februar_BarrFrei!C10>0,[1]Februar_BarrFrei!C10,"[z]") -> 12926 | E8: =IF([1]März_BarrFrei!C10>0,[1]März_BarrFrei!C10,"[z]") -> 12897 | F8: =IF([1]April_BarrFrei!C10>0,[1]April_BarrFrei!C10,"[z]") -> 14822 | G8: =IF([1]Mai_BarrFrei!C10>0,[1]Mai_BarrFrei!C10,"[z]") -> 14957 | H8: =IF([1]Juni_BarrFrei!C10>0,[1]Juni_BarrFrei!C10,"[z]") -> 13636 | I8: =IF([1]Juli_BarrFrei!C10>0,[1]Juli_BarrFrei!C10,"[z]") -> 12963 | J8: =IF([1]August_BarrFrei!C10>0,[1]August_BarrFrei!C10,"[z]") -> 14232 | K8: =IF([1]September_BarrFrei!C10>0,[1]September_BarrFrei!C10,"[z]") -> 13759 | L8: =IF([1]Oktober_BarrFrei!C10>0,[1]Oktober_BarrFrei!C10,"[z]") -> 15012 | M8: =IF([1]November_BarrFrei!C10>0,[1]November_BarrFrei!C10,"[z]") -> 14611 | N8: =IF([1]Dezember_BarrFrei!C10>0,[1]Dezember_BarrFrei!C10,"[z]") -> 13838 | O8: =SUM(C8:N8) -> 168644 | P8: Zeilenende
A9: Straßenverkehrsunfälle insgesamt; davon | B9: Unfälle mit Personenschaden | C9: =IF([1]Januar_BarrFrei!C11>0,[1]Januar_BarrFrei!C11,"[z]") -> 2252 | D9: =IF([1]Februar_BarrFrei!C11>0,[1]Februar_BarrFrei!C11,"[z]") -> 2095 | E9: =IF([1]März_BarrFrei!C11>0,[1]März_BarrFrei!C11,"[z]") -> 2118 | F9: =IF([1]April_BarrFrei!C11>0,[1]April_BarrFrei!C11,"[z]") -> 2569 | G9: =IF([1]Mai_BarrFrei!C11>0,[1]Mai_BarrFrei!C11,"[z]") -> 3355 | H9: =IF([1]Juni_BarrFrei!C11>0,[1]Juni_BarrFrei!C11,"[z]") -> 2870 | I9: =IF([1]Juli_BarrFrei!C11>0,[1]Juli_BarrFrei!C11,"[z]") -> 2692 | J9: =IF([1]August_BarrFrei!C11>0,[1]August_BarrFrei!C11,"[z]") -> 3352 | K9: =IF([1]September_BarrFrei!C11>0,[1]September_BarrFrei!C11,"[z]") -> 3064 | L9: =IF([1]Oktober_BarrFrei!C11>0,[1]Oktober_BarrFrei!C11,"[z]") -> 2885 | M9: =IF([1]November_BarrFrei!C11>0,[1]November_BarrFrei!C11,"[z]") -> 2579 | N9: =IF([1]Dezember_BarrFrei!C11>0,[1]Dezember_BarrFrei!C11,"[z]") -> 2275 | O9: =SUM(C9:N9) -> 32106 | P9: Zeilenende
A10: Straßenverkehrsunfälle; dabei | B10: Verunglückte insgesamt | C10: =IF([1]Januar_BarrFrei!C12>0,[1]Januar_BarrFrei!C12,"[z]") -> 2890 | D10: =IF([1]Februar_BarrFrei!C12>0,[1]Februar_BarrFrei!C12,"[z]") -> 2692 | E10: =IF([1]März_BarrFrei!C12>0,[1]März_BarrFrei!C12,"[z]") -> 2801 | F10: =IF([1]April_BarrFrei!C12>0,[1]April_BarrFrei!C12,"[z]") -> 3328 | G10: =IF([1]Mai_BarrFrei!C12>0,[1]Mai_BarrFrei!C12,"[z]") -> 4305 | H10: =IF([1]Juni_BarrFrei!C12>0,[1]Juni_BarrFrei!C12,"[z]") -> 3630 | I10: =IF([1]Juli_BarrFrei!C12>0,[1]Juli_BarrFrei!C12,"[z]") -> 3512 | J10: =IF([1]August_BarrFrei!C12>0,[1]August_BarrFrei!C12,"[z]") -> 4282 | K10: =IF([1]September_BarrFrei!C12>0,[1]September_BarrFrei!C12,"[z]") -> 3904 | L10: =IF([1]Oktober_BarrFrei!C12>0,[1]Oktober_BarrFrei!C12,"[z]") -> 3709 | M10: =IF([1]November_BarrFrei!C12>0,[1]November_BarrFrei!C12,"[z]") -> 3369 | N10: =IF([1]Dezember_BarrFrei!C12>0,[1]Dezember_BarrFrei!C12,"[z]") -> 2942 | O10: =SUM(C10:N10) -> 41364 | P10: Zeilenende
A11: Verunglückte bei Straßenverkehrsunfällen; | B11: davon Getötete | C11: =IF([1]Januar_BarrFrei!C14>0,[1]Januar_BarrFrei!C14,"[z]") -> 20 | D11: =IF([1]Februar_BarrFrei!C14>0,[1]Februar_BarrFrei!C14,"[z]") -> 28 | E11: =IF([1]März_BarrFrei!C14>0,[1]März_BarrFrei!C14,"[z]") -> 30 | F11: =IF([1]April_BarrFrei!C14>0,[1]April_BarrFrei!C14,"[z]") -> 24 | G11: =IF([1]Mai_BarrFrei!C14>0,[1]Mai_BarrFrei!C14,"[z]") -> 39 | H11: =IF([1]Juni_BarrFrei!C14>0,[1]Juni_BarrFrei!C14,"[z]") -> 29 | I11: =IF([1]Juli_BarrFrei!C14>0,[1]Juli_BarrFrei!C14,"[z]") -> 28 | J11: =IF([1]August_BarrFrei!C14>0,[1]August_BarrFrei!C14,"[z]") -> 33 | K11: =IF([1]September_BarrFrei!C14>0,[1]September_BarrFrei!C14,"[z]") -> 35 | L11: =IF([1]Oktober_BarrFrei!C14>0,[1]Oktober_BarrFrei!C14,"[z]") -> 23 | M11: =IF([1]November_BarrFrei!C14>0,[1]November_BarrFrei!C14,"[z]") -> 30 | N11: =IF([1]Dezember_BarrFrei!C14>0,[1]Dezember_BarrFrei!C14,"[z]") -> 29 | O11: =SUM(C11:N11) -> 348 | P11: Zeilenende
A12: Verunglückte bei Straßenverkehrsunfällen; davon | B12: Schwerverletzte | C12: =IF([1]Januar_BarrFrei!C15>0,[1]Januar_BarrFrei!C15,"[z]") -> 325 | D12: =IF([1]Februar_BarrFrei!C15>0,[1]Februar_BarrFrei!C15,"[z]") -> 306 | E12: =IF([1]März_BarrFrei!C15>0,[1]März_BarrFrei!C15,"[z]") -> 341 | F12: =IF([1]April_BarrFrei!C15>0,[1]April_BarrFrei!C15,"[z]") -> 397 | G12: =IF([1]Mai_BarrFrei!C15>0,[1]Mai_BarrFrei!C15,"[z]") -> 563 | H12: =IF([1]Juni_BarrFrei!C15>0,[1]Juni_BarrFrei!C15,"[z]") -> 480 | I12: =IF([1]Juli_BarrFrei!C15>0,[1]Juli_BarrFrei!C15,"[z]") -> 464 | J12: =IF([1]August_BarrFrei!C15>0,[1]August_BarrFrei!C15,"[z]") -> 510 | K12: =IF([1]September_BarrFrei!C15>0,[1]September_BarrFrei!C15,"[z]") -> 486 | L12: =IF([1]Oktober_BarrFrei!C15>0,[1]Oktober_BarrFrei!C15,"[z]") -> 398 | M12: =IF([1]November_BarrFrei!C15>0,[1]November_BarrFrei!C15,"[z]") -> 349 | N12: =IF([1]Dezember_BarrFrei!C15>0,[1]Dezember_BarrFrei!C15,"[z]") -> 319 | O12: =SUM(C12:N12) -> 4938 | P12: Zeilenende
A13: Verunglückte bei Straßenverkehrsunfällen; davon | B13: Leichtverletzte | C13: =IF([1]Januar_BarrFrei!C16>0,[1]Januar_BarrFrei!C16,"[z]") -> 2545 | D13: =IF([1]Februar_BarrFrei!C16>0,[1]Februar_BarrFrei!C16,"[z]") -> 2358 | E13: =IF([1]März_BarrFrei!C16>0,[1]März_BarrFrei!C16,"[z]") -> 2430 | F13: =IF([1]April_BarrFrei!C16>0,[1]April_BarrFrei!C16,"[z]") -> 2907 | G13: =IF([1]Mai_BarrFrei!C16>0,[1]Mai_BarrFrei!C16,"[z]") -> 3703 | H13: =IF([1]Juni_BarrFrei!C16>0,[1]Juni_BarrFrei!C16,"[z]") -> 3121 | I13: =IF([1]Juli_BarrFrei!C16>0,[1]Juli_BarrFrei!C16,"[z]") -> 3020 | J13: =IF([1]August_BarrFrei!C16>0,[1]August_BarrFrei!C16,"[z]") -> 3739 | K13: =IF([1]September_BarrFrei!C16>0,[1]September_BarrFrei!C16,"[z]") -> 3383 | L13: =IF([1]Oktober_BarrFrei!C16>0,[1]Oktober_BarrFrei!C16,"[z]") -> 3288 | M13: =IF([1]November_BarrFrei!C16>0,[1]November_BarrFrei!C16,"[z]") -> 2990 | N13: =IF([1]Dezember_BarrFrei!C16>0,[1]Dezember_BarrFrei!C16,"[z]") -> 2594 | O13: =SUM(C13:N13) -> 36078 | P13: Zeilenende
A14: Nächste Zeile: Fußnote 1 | P14: Zeilenende
A15: 1) Vorläufige Zahlen | P15: Zeilenende
A16: Spaltenende | B16: Spaltenende | C16: Spaltenende | D16: Spaltenende | E16: Spaltenende | F16: Spaltenende | G16: Spaltenende | H16: Spaltenende | I16: Spaltenende | J16: Spaltenende | K16: Spaltenende | L16: Spaltenende | M16: Spaltenende | N16: Spaltenende | O16: Spaltenende | P16: Tabellenende
